Workbook

Sheet Quality Criteria Tool
B2: New Cycle Route Quality Criteria tool Version 1
B36: Please note this tool is presented in "NJ Font Book" and will only display correctly where this font is pre-installed within Microsoft Excel
B37: When printing results it is recommended to select: "Print active sheet" / "Landscape Orientation" / "Fit all rows on one page"

Sheet Introduction
B2: Introduction to the tool
B3: The Quality Criteria are based on London Cycling Design Standard best practice guidance, focusing on whether conditions are appropriate for routes to be designed to mix people cycling with motor traffic, as well as recommending an appropriate level of provision for routes with dedicated space for cycling. An accompanying technical note is available which explains the thresholds embedded as part of this tool.
B15: When should I use this tool?
B16: The Quality Criteria tool can be used throughout the lifecycle of a cycle route project before each Stage Gate: • To assist in the selection of a preferred route alignment and exploration of potential design forms in Outcome Definition alongside other factors including existing conditions, modal and network requirements and stakeholder input • At Feasibility Design / Option Selection to help identify the range of route design forms and the selection of a single preferred option • At the Concept Design stage to ensure the design is fit for purpose The tool features two tabs: one for an assessment of existing conditions; the other for proposed design approaches. Users should apply suitable data inputs that correspond to the design stage and the purpose of the assessment. Quality Criteria will be reviewed by TfL Sponsors for all cycle routes that are expected to be part of the signed cycle network. All proposals will continue to go through due TfL approval processes, including the application of the Healthy Streets Check for Designers tool.
B35: General guidance for selecting links and using the tool
B36: A proposed cycle route should be divided into links which comprise a consistent street character. Where there are significant changes in the quality of provision for cycling being offered, such as if there is a long stretch of on-street parking that adversely impacts on cycling, this should be considered as a separate link location. Some pinch-points, such as at bus stop bypasses where a cycle track is temporarily narrowed, may be considered appropriate for the context and should be noted as not being included as a separate link. Main junctions should be reviewed as part of the link. This tool does not provide a detailed assessment of junctions but flags up when a design proposal may not be delivering to a high standard as part of the ‘Additional design considerations’ and should be further evaluated as appropriate. Indicative ‘green’ highlighted tabs show where the input corresponds with an expected high level of provision for cycling, ‘grey’ where only the minimum level of provision has been attained, and ‘red’ where the minimum level of provision has not been reached, to provide some visual assistance in comparing data inputs between links. The tool provides space for data to be input for up to 20 links and users of the tool are encouraged to save separate spreadsheets for different projects.

Sheet Guidance Notes
C3: Quality Criteria Assessment - Guidance Notes
E5: Information on completing the spreadsheet
C6: Data inputs (part 1a) This section is used by the tool to calculate whether conditions are expected to be suitable for people cycling to mix with general traffic. All data inputs are required to produce a valid output presented in Output 1a. | D6: Is this a one-way or two-way street? | E6: This selection refers to whether motor vehicle traffic is permitted in both directions or not. It is used to determine how the tool interprets the peak hour motor vehicle flow data described in the next box.
D7: What is the peak hour motor vehicle flow? | E7: Peak hour motor vehicle flows should be used for the existing assessment, with the peak identified using a 7am to 7pm count on a weekday. Where the peak hour flow is known to fall outside these hours, it is recommended to use the peak hour flow across 24 hours and note the time period used. Two-way flows should be input where a street is two-way and one-way flows for a one-way street, For the proposed scheme, modelled flows should be used where available. The user comments tab should identify whether existing or predicted flows have been used.
D8: What is the 85th %ile speed? (mph) | E8: 85th percentile speed data for a typical weekday should be used. Where multiple locations are collected within a section of road, the highest speed value should be used.
D9: Are measures proposed to reduce speeds at this location? | E9: This input only applies to proposed design assessments. Where the existing 85th percentile speed is 25mph or more and the proposal is to mix people cycling with motorised traffic, designers should justify what measures will be put in place to provide sufficient speed reduction measures. Speed reduction measures may include: reducing the speed limit to 20mph; installing new infrastructure such as raised tables, raised side road entry treatments, cycle-friendly speed humps, cycle lanes that narrow general traffic lanes; and/or by removing the centreline.
D10: What is the width of the nearside running lane for general traffic? (metres - include the width of kerbside bays) | E10: The width of the carriageway should be measured across a link of relatively consistent character and width. The nearside general traffic lane width input should cover only a single general traffic lane width where the majority of people cycling would be expected to ride. This width should be measured from the kerb edge to the nearside lane marking, or road centre point where there is only one running lane in each direction, and should include the width of parking or loading bays where present. Where there is a particular pinch-point that is of concern, then it is at the assessors’ discretion whether to include this as a separate location for analysis. For one-way streets, measure the full width of the street. Where road markings indicate an area of hatching not designed for frequent vehicle overrun, consider this as unusable space and do not include this as part of the lane width metric.
D11: What is the width of the kerbside parking / loading? (metres) | E11: Where kerbside activity is permitted, the kerbside parking or loading bay width should be measured. Where only one side of the carriageway has kerbside activity, use this side of the road to highlight the worst case situation. Where parking / loading is temporarily restricted or where parking / loading is not restricted and there are no designated bays but there is frequent kerbside activity, assume a 2m reduced width in carriageway to represent a parked vehicle, up to a 3m width for where HGV loading is expected based on the adjacent land use. Where night-time loading is permitted, this may be omitted from the spreadsheet input if the hours of operation do not coincide with peak cycling hours. This should be noted to highlight where this has been incorporated and reference made to the hours of operation. Bus stops are not included within the kerbside activity metric but due consideration is needed in relation to bus service frequency, the design of the bus stop area and the arrangement of cycling facilities to ensure that the layout is fit for purpose and complies with London Cycling Design Standards.
D12: Turning risk - does the layout fulfil the criteria? | E12: Designers should assess the existing risk to people cycling at junctions. The level of provision required should be determined based on professional judgement using information such as the volume of turning movements, speed, junction geometry and collision data. 'Yes' corresponds to provision of infrastructure measures that are deemed appropriate at priority junctions that reduce the speed of turning vehicles, such as raised junctions, side road entry treatments and tight corner radii or ways to minimise motor vehicle turning movements through road closures, banned turns, or modal filters on the side road. 'Yes' also applies to signal-controlled junctions where there is a need for signals such as early release or full separation to be implemented and it is being proposed. 'Yes' also applies in situations where a cycle route crosses the carriageway and appropriate crossing provision is provided based on traffic flows on the intersecting road, to comply with Figure 5.4 Cycle crossing options in the London Cycling Design Standards. 'No' should apply where there is a known significant risk and the above measures are not part of the existing arrangement or in the proposed design. Where there is a known risk at a junction that is not being suitably dealt with, it is not considered suitable for cyclists to be mixed with general traffic and therefore selecting this option will return a result that suggests it is not suitable for people cycling to be mixed with general traffic. 'N/A' applies to situations where there is no existing identified risk, such as a link which does not contain a major junction and no additional infrastructure measures are considered necessary.
D13: What is the peak hour HGV flow? | E13: Actual peak hour HGV volumes (defined as lorries and trucks over 3.5 tonnes) should be noted in this tab. It may not always be possible to conduct manual classified counts, therefore it is considered acceptable to use radar surveys that classify HGVs as any vehicle over 5.6m in length. Where HGV flows are equal to 50 vehicles or more in any given hour, it is not considered appropriate to mix people cycling with motor traffic.
D14: What is the peak hour HGV flow as a % of the total motor vehicle flow for that hour? | E14: HGV % (defined as all lorries and trucks over 3.5 tonnes) is calculated by comparing the peak hour HGV flow from 7am -7pm, to the total motor vehicle flow for that hour; i.e. not necessarily the peak hour motor vehicle flow, which may be different to the HGV peak flow. Where there are temporary construction sites that may skew the data, a proportion of the HGV traffic attributable to a particular site should be understood, so that the long term flow trend is used as the basis for identifying the HGV proportion of traffic. If only the peak hour % is known, this should be used and a comment inserted in the user comments box.
C15: User comments on data inputs | E15: This box should be populated with information relating to the data inputs, such as whether existing or predicted flows have been used, whether there is a significant proportion of kerbside activity and how this is designated through the day, justification for the turning risk criteria selected, and /or any other relevant details on influential characteristics of the location. Where describing a proposed design, it is recommended to note the features of the design that are expected to impact on the criteria; e.g. filtered permeability, kerbside parking removal, etc.
C17: Output 1a | D17: Are conditions expected to be suitable for people cycling to be mixed with motor traffic? | E17: This output is based on the relationship of the six design criteria: vehicle flows, speeds, width, turning risk, kerbside activity and proportion of HGVs, to determine whether the conditions are expected to be suitable for people cycling to mix with motor traffic. An accompanying technical note is available which describes the details of these relationships and how the output is calculated, which is embedded as part of this tool.
C19: Dedicated provision for cycling (part 1b) This section is used by the tool to inform a subsequent course of action based on whether existing conditions or a design proposal is broadly in line with the expected on-carriageway conditions for cycling. | D19: Is a light segregated cycle lane or full separation provided / proposed? | E19: Users should identify whether dedicated provision for cycling is already provided or being proposed following completion of the data inputs in part 1a. This section is used to inform a subsequent course of action based on whether existing conditions or a design proposal is broadly in line with the expected conditions for cycling. 'Yes' - for sections of the route which have a proposal for a light segregated cycle lane or additional degree of separation for cycling, such as a fully separated cycle track or shared use footway / path 'No' - should there be no dedicated space for cycling proposed 'N/A' - should there be no existing design proposal available
C21: Output 1b | D21: Recommended action | E21: This output identifies the recommended next step for project officers by relating the proposed design approach (part 2) to Output 1a which identifies whether there is a recommendation for cyclists to be separated from general traffic. The full range of automatically generated outputs are as follows: 'Expected to be suitable for cyclists to be mixed with general traffic' - this covers where it is expected that separation for cycling is not required but this does not necessarily mean that some form of separation should not be investigated further. 'Complete Proposed design information (part 2) below' - where it is proposed that cyclists will be provided with a dedicated cycle lane or track, it is suggested to seek further design advice by completing part 2 of the tool. 'Layout improvements recommended' - this situation only arises for existing conditions which are not expected to be suitable for cyclists to be mixed with general traffic and no cycle lane is currently provided. This should be a prompt for designers to consider how to provide better conditions for cycling in these locations. 'Speak to Lead Sponsor' - this situation only arises for proposed schemes where the conditions are not expected to be suitable for cyclists to be mixed with general traffic and no design response for separation has been proposed. This should be raised with the Lead Sponsor to identify a suitable course of action.
C23: Data inputs for when dedicated space for cycling is proposed (part 2) This section is used by the tool to identify whether there are potential design issues associated with cycle lane widths or signal design. | D23: Layout of light segregated cycle lane, track or shared use facility proposed | E23: This section should only be completed where existing conditions / proposed layouts feature a cycle lane which is light segregated as a minimum (i.e. a mandatory lane with separating objects). Advisory lanes are not considered to meet the Quality Criteria, except where it is appropriate for people cycling to be mixed with general traffic. Contraflow cycle lanes are not covered by the Quality Criteria process and should be reviewed as a separate detailed design consideration. 'One-way' where operating with general traffic flow in one direction for cyclists. 'Two-way' where operating as part of a bidirectional arrangement for cyclists. It is assumed that a light segregated lane is the minimum level of provision being proposed. 'Shared use' where operating as a footway or path that is designed to accommodate pedestrians and cyclists.
D24: Proposed width of cycle lane, track or shared use facility (metres) | E24: Measured from the kerb edge to the centre of the painted road marking (or other kerb / path edge as appropriate). This should factor in any reduction in effective widths as a result of features such as light segregation posts.
D25: Proposed buffer zone width adjacent to kerbside activity where a cycle lane is provided (metres) | E25: Measured from the centre of the painted marking as appropriate. 0m should be input where no specific buffer zone is delineated.
D26: Does the design provide a cycle early release signal at signal controlled junctions, where needed? | E26: The expected level of intervention for signal-controlled junctions is for a cycle early release signal to be provided, but only where it is considered appropriate to do so, based on a risk assessment. 'Yes' - should be selected where it is considered appropriate to do so and it is proposed. 'No' - should be selected where it could be considered appropriate to do so but it is not being proposed. 'N/A'- should be selected where it is not considered appropriate to do so and it is not being proposed.
D27: Are conflicting movements between cycle traffic and motor traffic separated with dedicated signals for cycles, where needed? | E27: The target level of intervention for signal-controlled junctions is to separate cycles in time with interventions such as hold-the-left signals or cycle gates included as appropriate on the cycle route, to separate cyclists where there is a known conflict issue. This input should also be used to highlight situations where a cycle route crosses the carriageway; in these instances, appropriate crossing provision should be provided based on traffic flows on the intersecting road, to comply with Figure 5.4 Cycle crossing options in the London Cycling Design Standards. 'Yes' - should be selected where it is considered appropriate to do so and it is proposed. 'No' - should be selected where it could be considered appropriate to do so but it is not being proposed. 'N/A'- should be selected where it is not considered appropriate to do so and it is not being proposed.
C29: Output 2 | D29: Additional design considerations | E29: This box will be automatically generated based on the inputs provided in part 2, setting out whether there may be potential issues with the proposals which should be further investigated and improved upon as appropriate. Where the term 'address' is used in relation to a specific issue, then it is strongly recommended that this design issue is investigated and acted on as appropriate, documenting the reponse in the comments box below. Where the term 'consider' is used in relation to a specific issue, then it may not be a major issue but should nevertheless be investigated, such as where the lane widths are not meeting the target level of 2m for one-way lanes/tracks and 3m for two-way lanes/tracks. Design issues will be identified in terms of a 'cycle lane width issue' and/or a 'signal design issue'.
C30: User comments on proposed approach | E30: This box should be populated with any further information relating to how the result for Output 1a and Output 2 has been acted on, as required.

Sheet Existing Conditions
C2: Existing Conditions
C3: Quality Criteria Assessment v1
F5: Link 1 | G5: Link 2 | H5: Link 3 | I5: Link 4 | J5: Link 5 | K5: Link 6 | L5: Link 7 | M5: Link 8 | N5: Link 9 | O5: Link 10 | P5: Link 11 | Q5: Link 12 | R5: Link 13 | S5: Link 14 | T5: Link 15 | U5: Link 16 | V5: Link 17 | W5: Link 18 | X5: Link 19 | Y5: Link 20
C6: Route information | D6: Route
D7: Borough
D8: Project Number
D9: Location
D10: Length of link (metres)
D11: Number of buses per hour (for reference)
C13: Existing Conditions Data inputs (Part 1a) | D13: Is this a one-way or two-way street? | E13: ?
D14: What is the peak hour motor vehicle flow? | E14: ?
D15: What is the 85th %ile speed? (mph) | E15: ?
D16: What is the width of the nearside running lane for general traffic? (metres - include the width of kerbside bays) | E16: ?
D17: What is the width of the kerbside parking / loading? (metres) | E17: ?
D18: Turning risk - does the existing arrangement fulfil the criteria? (see Guidance Notes tab) | E18: ?
D19: What is the peak hour HGV flow? | E19: ?
D20: What is the peak hour HGV flow as a % of the total motor vehicle flow for that hour? | E20: ?
C21: User comments on data inputs | E21: ?
C22: Output 1a | D22: Are existing conditions expected to be suitable for people cycling to be mixed with motor traffic? | F22: ='Calculations - Existing'!D24 | G22: ='Calculations - Existing'!E24 | H22: ='Calculations - Existing'!F24 | I22: ='Calculations - Existing'!G24 | J22: ='Calculations - Existing'!H24 | K22: ='Calculations - Existing'!I24 | L22: ='Calculations - Existing'!J24 | M22: ='Calculations - Existing'!K24 | ... Y22: ='Calculations - Existing'!W24
C24: Dedicated space for cycling (Part 1b) | D24: Is a light segregated cycle lane or full separation provided currently? | E24: ?
C25: Output 1b | D25: Recommended action | F25: ='Calculations - Existing'!D28 | G25: ='Calculations - Existing'!E28 | H25: ='Calculations - Existing'!F28 | I25: ='Calculations - Existing'!G28 | J25: ='Calculations - Existing'!H28 | K25: ='Calculations - Existing'!I28 | L25: ='Calculations - Existing'!J28 | M25: ='Calculations - Existing'!K28 | ... Y25: ='Calculations - Existing'!W28
C27: Data inputs for where there is existing dedicated space for cycling (Part 2) | D27: Layout of light segregated cycle lane, track or shared use facility, if currently provided | E27: ?
D28: Existing width of cycle lane, track or shared use facility (metres) | E28: ?
D29: Existing buffer zone width adjacent to kerbside activity where a cycle lane is provided (metres) | E29: ?
D30: Does the layout provide a cycle early release signal at signal controlled junctions, where needed? | E30: ?
D31: Are conflicting movements between cycle traffic and motor traffic separated with dedicated signals for cycles, where needed? | E31: ?
C32: Output 2 | D32: Additional design considerations | F32: ='Calculations - Existing'!D45 | G32: ='Calculations - Existing'!E45 | H32: ='Calculations - Existing'!F45 | I32: ='Calculations - Existing'!G45 | J32: ='Calculations - Existing'!H45 | K32: ='Calculations - Existing'!I45 | L32: ='Calculations - Existing'!J45 | M32: ='Calculations - Existing'!K45 | ... Y32: ='Calculations - Existing'!W45
C33: User comments on data inputs | E33: ?

Sheet Proposed Design
C2: Proposed Design
C3: Quality Criteria Assessment v1
F5: Link 1 | G5: Link 2 | H5: Link 3 | I5: Link 4 | J5: Link 5 | K5: Link 6 | L5: Link 7 | M5: Link 8 | N5: Link 9 | O5: Link 10 | P5: Link 11 | Q5: Link 12 | R5: Link 13 | S5: Link 14 | T5: Link 15 | U5: Link 16 | V5: Link 17 | W5: Link 18 | X5: Link 19 | Y5: Link 20
C6: Route information | D6: Route
D7: Borough
D8: Project Number
D9: Location
D10: Length of link (metres)
D11: Number of buses per hour (for reference)
C13: Proposed Design Data inputs (Part 1a) | D13: Is this a one-way or two-way street? | E13: ?
D14: What is the expected peak hour motor vehicle flow? | E14: ?
D15: What is the expected 85th %ile speed? (mph) | E15: ?
D16: Are measures proposed to reduce speeds at this location? (requires existing speeds to be filled out) | E16: ?
D17: What is the proposed width of the nearside running lane for general traffic? (metres - include the width of kerbside bays) | E17: ?
D18: What is the proposed width of the kerbside parking / loading? (metres) | E18: ?
D19: Turning risk - does the proposed arrangement fulfil the criteria? (see Guidance Notes tab) | E19: ?
D20: What is the expected peak hour HGV flow? | E20: ?
D21: What is the peak hour HGV flow as a % of the total motor vehicle flow for that hour? | E21: ?
C22: User comments on data inputs (including proposed design features that are anticipated to impact on the criteria) | E22: ?
C23: Output 1a | D23: Are proposed conditions expected to be suitable for people cycling to be mixed with motor traffic? | F23: ='Calculations - Proposed'!D24 | G23: ='Calculations - Proposed'!E24 | H23: ='Calculations - Proposed'!F24 | I23: ='Calculations - Proposed'!G24 | J23: ='Calculations - Proposed'!H24 | K23: ='Calculations - Proposed'!I24 | L23: ='Calculations - Proposed'!J24 | M23: ='Calculations - Proposed'!K24 | ... Y23: ='Calculations - Proposed'!W24
C25: Proposed dedicated space for cycling (Part 1b) | D25: Is a light segregated cycle lane or full separation proposed? | E25: ?
C26: Output 1b | D26: Recommended action | F26: ='Calculations - Proposed'!D28 | G26: ='Calculations - Proposed'!E28 | H26: ='Calculations - Proposed'!F28 | I26: ='Calculations - Proposed'!G28 | J26: ='Calculations - Proposed'!H28 | K26: ='Calculations - Proposed'!I28 | L26: ='Calculations - Proposed'!J28 | M26: ='Calculations - Proposed'!K28 | ... Y26: ='Calculations - Proposed'!W28
C28: Data inputs for when dedicated space for cycling is proposed (Part 2) | D28: Layout of light segregated cycle lane, track or shared use facility, if proposed | E28: ?
D29: Proposed width of cycle lane, track or shared use facility (metres) | E29: ?
D30: Proposed buffer zone width adjacent to kerbside activity where a cycle lane is provided (metres) | E30: ?
D31: Does the design provide a cycle early release signal at signal controlled junctions, where needed? | E31: ?
D32: Are conflicting movements between cycle traffic and motor traffic separated with dedicated signals for cycles, where needed? | E32: ?
C33: Output 2 | D33: Additional design considerations | F33: ='Calculations - Proposed'!D45 | G33: ='Calculations - Proposed'!E45 | H33: ='Calculations - Proposed'!F45 | I33: ='Calculations - Proposed'!G45 | J33: ='Calculations - Proposed'!H45 | K33: ='Calculations - Proposed'!I45 | L33: ='Calculations - Proposed'!J45 | M33: ='Calculations - Proposed'!K45 | ... Y33: ='Calculations - Proposed'!W45
C34: User comments on proposed approach | E34: ?

Sheet Calculations - Existing
D2: Link 1 | E2: Link 2 | F2: Link 3 | G2: Link 4 | H2: Link 5 | I2: Link 6 | J2: Link 7 | K2: Link 8 | L2: Link 9 | M2: Link 10 | N2: Link 11 | O2: Link 12 | P2: Link 13 | Q2: Link 14 | R2: Link 15 | S2: Link 16 | T2: Link 17 | U2: Link 18 | V2: Link 19 | W2: Link 20
B3: Route information | C3: Route | D3: =IF('Existing Conditions'!F6="","",'Existing Conditions'!F6) | E3: =IF('Existing Conditions'!G6="","",'Existing Conditions'!G6) | F3: =IF('Existing Conditions'!H6="","",'Existing Conditions'!H6) | G3: =IF('Existing Conditions'!I6="","",'Existing Conditions'!I6) | H3: =IF('Existing Conditions'!J6="","",'Existing Conditions'!J6) | I3: =IF('Existing Conditions'!K6="","",'Existing Conditions'!K6) | J3: =IF('Existing Conditions'!L6="","",'Existing Conditions'!L6) | K3: =IF('Existing Conditions'!M6="","",'Existing Conditions'!M6) | ... W3: =IF('Existing Conditions'!Y6="","",'Existing Conditions'!Y6)
C4: Borough | D4: =IF('Existing Conditions'!F7="","",'Existing Conditions'!F7) | E4: =IF('Existing Conditions'!G7="","",'Existing Conditions'!G7) | F4: =IF('Existing Conditions'!H7="","",'Existing Conditions'!H7) | G4: =IF('Existing Conditions'!I7="","",'Existing Conditions'!I7) | H4: =IF('Existing Conditions'!J7="","",'Existing Conditions'!J7) | I4: =IF('Existing Conditions'!K7="","",'Existing Conditions'!K7) | J4: =IF('Existing Conditions'!L7="","",'Existing Conditions'!L7) | K4: =IF('Existing Conditions'!M7="","",'Existing Conditions'!M7) | ... W4: =IF('Existing Conditions'!Y7="","",'Existing Conditions'!Y7)
C5: Project Number | D5: =IF('Existing Conditions'!F8="","",'Existing Conditions'!F8) | E5: =IF('Existing Conditions'!G8="","",'Existing Conditions'!G8) | F5: =IF('Existing Conditions'!H8="","",'Existing Conditions'!H8) | G5: =IF('Existing Conditions'!I8="","",'Existing Conditions'!I8) | H5: =IF('Existing Conditions'!J8="","",'Existing Conditions'!J8) | I5: =IF('Existing Conditions'!K8="","",'Existing Conditions'!K8) | J5: =IF('Existing Conditions'!L8="","",'Existing Conditions'!L8) | K5: =IF('Existing Conditions'!M8="","",'Existing Conditions'!M8) | ... W5: =IF('Existing Conditions'!Y8="","",'Existing Conditions'!Y8)
C6: Location | D6: =IF('Existing Conditions'!F9="","",'Existing Conditions'!F9) | E6: =IF('Existing Conditions'!G9="","",'Existing Conditions'!G9) | F6: =IF('Existing Conditions'!H9="","",'Existing Conditions'!H9) | G6: =IF('Existing Conditions'!I9="","",'Existing Conditions'!I9) | H6: =IF('Existing Conditions'!J9="","",'Existing Conditions'!J9) | I6: =IF('Existing Conditions'!K9="","",'Existing Conditions'!K9) | J6: =IF('Existing Conditions'!L9="","",'Existing Conditions'!L9) | K6: =IF('Existing Conditions'!M9="","",'Existing Conditions'!M9) | ... W6: =IF('Existing Conditions'!Y9="","",'Existing Conditions'!Y9)
C7: Scheme Status | D7: =IF('Existing Conditions'!F11="","",'Existing Conditions'!F11) | E7: =IF('Existing Conditions'!G11="","",'Existing Conditions'!G11) | F7: =IF('Existing Conditions'!H11="","",'Existing Conditions'!H11) | G7: =IF('Existing Conditions'!I11="","",'Existing Conditions'!I11) | H7: =IF('Existing Conditions'!J11="","",'Existing Conditions'!J11) | I7: =IF('Existing Conditions'!K11="","",'Existing Conditions'!K11) | J7: =IF('Existing Conditions'!L11="","",'Existing Conditions'!L11) | K7: =IF('Existing Conditions'!M11="","",'Existing Conditions'!M11) | ... W7: =IF('Existing Conditions'!Y11="","",'Existing Conditions'!Y11)
B9: Categorisation of current design information - this is calculated automatically | C9: Peak hour traffic flow | D9: =IF(OR('Existing Conditions'!F14="",'Existing Conditions'!F13=""),"",IF('Existing Conditions'!F13="Two-way",IF('Existing Conditions'!F14>1000,'Criteria look-up'!$B$3,IF('Existing Conditions'!F14>=500,'Criteria look-up'!$B$4,IF('Existing Conditions'!F14>=200,'Criteria look-up'!$B$5,'Criteria look-up'!$B$6))),IF('Existing Conditions'!F14>500,'Criteria look-up'!$B$3,IF('Existing Conditions'!F14>=250,'Criteria look-up'!$B$4,IF('Existing Conditions'!F14>=100,'Criteria look-up'!$B$5,'Criteria look-up'!$B$6))))) | E9: =IF(OR('Existing Conditions'!G14="",'Existing Conditions'!G13=""),"",IF('Existing Conditions'!G13="Two-way",IF('Existing Conditions'!G14>1000,'Criteria look-up'!$B$3,IF('Existing Conditions'!G14>=500,'Criteria look-up'!$B$4,IF('Existing Conditions'!G14>=200,'Criteria look-up'!$B$5,'Criteria look-up'!$B$6))),IF('Existing Conditions'!G14>500,'Criteria look-up'!$B$3,IF('Existing Conditions'!G14>=250,'Criteria look-up'!$B$4,IF('Existing Conditions'!G14>=100,'Criteria look-up'!$B$5,'Criteria look-up'!$B$6))))) | F9: =IF(OR('Existing Conditions'!H14="",'Existing Conditions'!H13=""),"",IF('Existing Conditions'!H13="Two-way",IF('Existing Conditions'!H14>1000,'Criteria look-up'!$B$3,IF('Existing Conditions'!H14>=500,'Criteria look-up'!$B$4,IF('Existing Conditions'!H14>=200,'Criteria look-up'!$B$5,'Criteria look-up'!$B$6))),IF('Existing Conditions'!H14>500,'Criteria look-up'!$B$3,IF('Existing Conditions'!H14>=250,'Criteria look-up'!$B$4,IF('Existing Conditions'!H14>=100,'Criteria look-up'!$B$5,'Criteria look-up'!$B$6))))) | G9: =IF(OR('Existing Conditions'!I14="",'Existing Conditions'!I13=""),"",IF('Existing Conditions'!I13="Two-way",IF('Existing Conditions'!I14>1000,'Criteria look-up'!$B$3,IF('Existing Conditions'!I14>=500,'Criteria look-up'!$B$4,IF('Existing Conditions'!I14>=200,'Criteria look-up'!$B$5,'Criteria look-up'!$B$6))),IF('Existing Conditions'!I14>500,'Criteria look-up'!$B$3,IF('Existing Conditions'!I14>=250,'Criteria look-up'!$B$4,IF('Existing Conditions'!I14>=100,'Criteria look-up'!$B$5,'Criteria look-up'!$B$6))))) | H9: =IF(OR('Existing Conditions'!J14="",'Existing Conditions'!J13=""),"",IF('Existing Conditions'!J13="Two-way",IF('Existing Conditions'!J14>1000,'Criteria look-up'!$B$3,IF('Existing Conditions'!J14>=500,'Criteria look-up'!$B$4,IF('Existing Conditions'!J14>=200,'Criteria look-up'!$B$5,'Criteria look-up'!$B$6))),IF('Existing Conditions'!J14>500,'Criteria look-up'!$B$3,IF('Existing Conditions'!J14>=250,'Criteria look-up'!$B$4,IF('Existing Conditions'!J14>=100,'Criteria look-up'!$B$5,'Criteria look-up'!$B$6))))) | I9: =IF(OR('Existing Conditions'!K14="",'Existing Conditions'!K13=""),"",IF('Existing Conditions'!K13="Two-way",IF('Existing Conditions'!K14>1000,'Criteria look-up'!$B$3,IF('Existing Conditions'!K14>=500,'Criteria look-up'!$B$4,IF('Existing Conditions'!K14>=200,'Criteria look-up'!$B$5,'Criteria look-up'!$B$6))),IF('Existing Conditions'!K14>500,'Criteria look-up'!$B$3,IF('Existing Conditions'!K14>=250,'Criteria look-up'!$B$4,IF('Existing Conditions'!K14>=100,'Criteria look-up'!$B$5,'Criteria look-up'!$B$6))))) | J9: =IF(OR('Existing Conditions'!L14="",'Existing Conditions'!L13=""),"",IF('Existing Conditions'!L13="Two-way",IF('Existing Conditions'!L14>1000,'Criteria look-up'!$B$3,IF('Existing Conditions'!L14>=500,'Criteria look-up'!$B$4,IF('Existing Conditions'!L14>=200,'Criteria look-up'!$B$5,'Criteria look-up'!$B$6))),IF('Existing Conditions'!L14>500,'Criteria look-up'!$B$3,IF('Existing Conditions'!L14>=250,'Criteria look-up'!$B$4,IF('Existing Conditions'!L14>=100,'Criteria look-up'!$B$5,'Criteria look-up'!$B$6))))) | K9: =IF(OR('Existing Conditions'!M14="",'Existing Conditions'!M13=""),"",IF('Existing Conditions'!M13="Two-way",IF('Existing Conditions'!M14>1000,'Criteria look-up'!$B$3,IF('Existing Conditions'!M14>=500,'Criteria look-up'!$B$4,IF('Existing Conditions'!M14>=200,'Criteria look-up'!$B$5,'Criteria look-up'!$B$6))),IF('Existing Conditions'!M14>500,'Criteria look-up'!$B$3,IF('Existing Conditions'!M14>=250,'Criteria look-up'!$B$4,IF('Existing Conditions'!M14>=100,'Criteria look-up'!$B$5,'Criteria look-up'!$B$6))))) | ... W9: =IF(OR('Existing Conditions'!Y14="",'Existing Conditions'!Y13=""),"",IF('Existing Conditions'!Y13="Two-way",IF('Existing Conditions'!Y14>1000,'Criteria look-up'!$B$3,IF('Existing Conditions'!Y14>=500,'Criteria look-up'!$B$4,IF('Existing Conditions'!Y14>=200,'Criteria look-up'!$B$5,'Criteria look-up'!$B$6))),IF('Existing Conditions'!Y14>500,'Criteria look-up'!$B$3,IF('Existing Conditions'!Y14>=250,'Criteria look-up'!$B$4,IF('Existing Conditions'!Y14>=100,'Criteria look-up'!$B$5,'Criteria look-up'!$B$6)))))
C10: Average 85th %ile speed (mph) | D10: =IF('Existing Conditions'!F15="","",IF('Existing Conditions'!F15>30,'Criteria look-up'!$C$4,IF('Existing Conditions'!F15>=25,'Criteria look-up'!$C$6,'Criteria look-up'!$C$7))) | E10: =IF('Existing Conditions'!G15="","",IF('Existing Conditions'!G15>30,'Criteria look-up'!$C$4,IF('Existing Conditions'!G15>=25,'Criteria look-up'!$C$6,'Criteria look-up'!$C$7))) | F10: =IF('Existing Conditions'!H15="","",IF('Existing Conditions'!H15>30,'Criteria look-up'!$C$4,IF('Existing Conditions'!H15>=25,'Criteria look-up'!$C$6,'Criteria look-up'!$C$7))) | G10: =IF('Existing Conditions'!I15="","",IF('Existing Conditions'!I15>30,'Criteria look-up'!$C$4,IF('Existing Conditions'!I15>=25,'Criteria look-up'!$C$6,'Criteria look-up'!$C$7))) | H10: =IF('Existing Conditions'!J15="","",IF('Existing Conditions'!J15>30,'Criteria look-up'!$C$4,IF('Existing Conditions'!J15>=25,'Criteria look-up'!$C$6,'Criteria look-up'!$C$7))) | I10: =IF('Existing Conditions'!K15="","",IF('Existing Conditions'!K15>30,'Criteria look-up'!$C$4,IF('Existing Conditions'!K15>=25,'Criteria look-up'!$C$6,'Criteria look-up'!$C$7))) | J10: =IF('Existing Conditions'!L15="","",IF('Existing Conditions'!L15>30,'Criteria look-up'!$C$4,IF('Existing Conditions'!L15>=25,'Criteria look-up'!$C$6,'Criteria look-up'!$C$7))) | K10: =IF('Existing Conditions'!M15="","",IF('Existing Conditions'!M15>30,'Criteria look-up'!$C$4,IF('Existing Conditions'!M15>=25,'Criteria look-up'!$C$6,'Criteria look-up'!$C$7))) | ... W10: =IF('Existing Conditions'!Y15="","",IF('Existing Conditions'!Y15>30,'Criteria look-up'!$C$4,IF('Existing Conditions'!Y15>=25,'Criteria look-up'!$C$6,'Criteria look-up'!$C$7)))
C11: Effective width (metres) | D11: =IF('Existing Conditions'!F16="","",IF('Existing Conditions'!F16<=3.2,'Criteria look-up'!$D$3,IF('Existing Conditions'!F16<4,'Criteria look-up'!$D$4,IF('Existing Conditions'!F16<4.5,'Criteria look-up'!$D$5,'Criteria look-up'!$D$6)))) | E11: =IF('Existing Conditions'!G16="","",IF('Existing Conditions'!G16<=3.2,'Criteria look-up'!$D$3,IF('Existing Conditions'!G16<4,'Criteria look-up'!$D$4,IF('Existing Conditions'!G16<4.5,'Criteria look-up'!$D$5,'Criteria look-up'!$D$6)))) | F11: =IF('Existing Conditions'!H16="","",IF('Existing Conditions'!H16<=3.2,'Criteria look-up'!$D$3,IF('Existing Conditions'!H16<4,'Criteria look-up'!$D$4,IF('Existing Conditions'!H16<4.5,'Criteria look-up'!$D$5,'Criteria look-up'!$D$6)))) | G11: =IF('Existing Conditions'!I16="","",IF('Existing Conditions'!I16<=3.2,'Criteria look-up'!$D$3,IF('Existing Conditions'!I16<4,'Criteria look-up'!$D$4,IF('Existing Conditions'!I16<4.5,'Criteria look-up'!$D$5,'Criteria look-up'!$D$6)))) | H11: =IF('Existing Conditions'!J16="","",IF('Existing Conditions'!J16<=3.2,'Criteria look-up'!$D$3,IF('Existing Conditions'!J16<4,'Criteria look-up'!$D$4,IF('Existing Conditions'!J16<4.5,'Criteria look-up'!$D$5,'Criteria look-up'!$D$6)))) | I11: =IF('Existing Conditions'!K16="","",IF('Existing Conditions'!K16<=3.2,'Criteria look-up'!$D$3,IF('Existing Conditions'!K16<4,'Criteria look-up'!$D$4,IF('Existing Conditions'!K16<4.5,'Criteria look-up'!$D$5,'Criteria look-up'!$D$6)))) | J11: =IF('Existing Conditions'!L16="","",IF('Existing Conditions'!L16<=3.2,'Criteria look-up'!$D$3,IF('Existing Conditions'!L16<4,'Criteria look-up'!$D$4,IF('Existing Conditions'!L16<4.5,'Criteria look-up'!$D$5,'Criteria look-up'!$D$6)))) | K11: =IF('Existing Conditions'!M16="","",IF('Existing Conditions'!M16<=3.2,'Criteria look-up'!$D$3,IF('Existing Conditions'!M16<4,'Criteria look-up'!$D$4,IF('Existing Conditions'!M16<4.5,'Criteria look-up'!$D$5,'Criteria look-up'!$D$6)))) | ... W11: =IF('Existing Conditions'!Y16="","",IF('Existing Conditions'!Y16<=3.2,'Criteria look-up'!$D$3,IF('Existing Conditions'!Y16<4,'Criteria look-up'!$D$4,IF('Existing Conditions'!Y16<4.5,'Criteria look-up'!$D$5,'Criteria look-up'!$D$6))))
C12: Turning risk - does design fulfil criteria? | D12: =IF('Existing Conditions'!F18="","",'Existing Conditions'!F18) | E12: =IF('Existing Conditions'!G18="","",'Existing Conditions'!G18) | F12: =IF('Existing Conditions'!H18="","",'Existing Conditions'!H18) | G12: =IF('Existing Conditions'!I18="","",'Existing Conditions'!I18) | H12: =IF('Existing Conditions'!J18="","",'Existing Conditions'!J18) | I12: =IF('Existing Conditions'!K18="","",'Existing Conditions'!K18) | J12: =IF('Existing Conditions'!L18="","",'Existing Conditions'!L18) | K12: =IF('Existing Conditions'!M18="","",'Existing Conditions'!M18) | ... W12: =IF('Existing Conditions'!Y18="","",'Existing Conditions'!Y18)
C13: Kerbside activity - does design fulfil criteria | D13: =IF(OR(D9="",D10="",D11="",'Existing Conditions'!F17=""),"",IF(('Existing Conditions'!F16-'Existing Conditions'!F17)>=2,IF('Existing Conditions'!F15<25,"Yes","No"),IF(AND('Existing Conditions'!F15<25,'Existing Conditions'!F14<200,'Existing Conditions'!F20<0.05),"Yes","No"))) | E13: =IF(OR(E9="",E10="",E11="",'Existing Conditions'!G17=""),"",IF(('Existing Conditions'!G16-'Existing Conditions'!G17)>=2,IF('Existing Conditions'!G15<25,"Yes","No"),IF(AND('Existing Conditions'!G15<25,'Existing Conditions'!G14<200,'Existing Conditions'!G20<0.05),"Yes","No"))) | F13: =IF(OR(F9="",F10="",F11="",'Existing Conditions'!H17=""),"",IF(('Existing Conditions'!H16-'Existing Conditions'!H17)>=2,IF('Existing Conditions'!H15<25,"Yes","No"),IF(AND('Existing Conditions'!H15<25,'Existing Conditions'!H14<200,'Existing Conditions'!H20<0.05),"Yes","No"))) | G13: =IF(OR(G9="",G10="",G11="",'Existing Conditions'!I17=""),"",IF(('Existing Conditions'!I16-'Existing Conditions'!I17)>=2,IF('Existing Conditions'!I15<25,"Yes","No"),IF(AND('Existing Conditions'!I15<25,'Existing Conditions'!I14<200,'Existing Conditions'!I20<0.05),"Yes","No"))) | H13: =IF(OR(H9="",H10="",H11="",'Existing Conditions'!J17=""),"",IF(('Existing Conditions'!J16-'Existing Conditions'!J17)>=2,IF('Existing Conditions'!J15<25,"Yes","No"),IF(AND('Existing Conditions'!J15<25,'Existing Conditions'!J14<200,'Existing Conditions'!J20<0.05),"Yes","No"))) | I13: =IF(OR(I9="",I10="",I11="",'Existing Conditions'!K17=""),"",IF(('Existing Conditions'!K16-'Existing Conditions'!K17)>=2,IF('Existing Conditions'!K15<25,"Yes","No"),IF(AND('Existing Conditions'!K15<25,'Existing Conditions'!K14<200,'Existing Conditions'!K20<0.05),"Yes","No"))) | J13: =IF(OR(J9="",J10="",J11="",'Existing Conditions'!L17=""),"",IF(('Existing Conditions'!L16-'Existing Conditions'!L17)>=2,IF('Existing Conditions'!L15<25,"Yes","No"),IF(AND('Existing Conditions'!L15<25,'Existing Conditions'!L14<200,'Existing Conditions'!L20<0.05),"Yes","No"))) | K13: =IF(OR(K9="",K10="",K11="",'Existing Conditions'!M17=""),"",IF(('Existing Conditions'!M16-'Existing Conditions'!M17)>=2,IF('Existing Conditions'!M15<25,"Yes","No"),IF(AND('Existing Conditions'!M15<25,'Existing Conditions'!M14<200,'Existing Conditions'!M20<0.05),"Yes","No"))) | ... W13: =IF(OR(W9="",W10="",W11="",'Existing Conditions'!Y17=""),"",IF(('Existing Conditions'!Y16-'Existing Conditions'!Y17)>=2,IF('Existing Conditions'!Y15<25,"Yes","No"),IF(AND('Existing Conditions'!Y15<25,'Existing Conditions'!Y14<200,'Existing Conditions'!Y20<0.05),"Yes","No")))
C14: Average % HGV volume (7am-7pm) | D14: =IF(OR('Existing Conditions'!F20="",'Existing Conditions'!F19=""),"",IF('Existing Conditions'!F20>0.1,'Criteria look-up'!$H$3,IF('Existing Conditions'!F20>=0.05,'Criteria look-up'!$H$4,IF('Existing Conditions'!F20>=0.02,'Criteria look-up'!$H$5,'Criteria look-up'!$H$6)))) | E14: =IF(OR('Existing Conditions'!G20="",'Existing Conditions'!G19=""),"",IF('Existing Conditions'!G20>0.1,'Criteria look-up'!$H$3,IF('Existing Conditions'!G20>=0.05,'Criteria look-up'!$H$4,IF('Existing Conditions'!G20>=0.02,'Criteria look-up'!$H$5,'Criteria look-up'!$H$6)))) | F14: =IF(OR('Existing Conditions'!H20="",'Existing Conditions'!H19=""),"",IF('Existing Conditions'!H20>0.1,'Criteria look-up'!$H$3,IF('Existing Conditions'!H20>=0.05,'Criteria look-up'!$H$4,IF('Existing Conditions'!H20>=0.02,'Criteria look-up'!$H$5,'Criteria look-up'!$H$6)))) | G14: =IF(OR('Existing Conditions'!I20="",'Existing Conditions'!I19=""),"",IF('Existing Conditions'!I20>0.1,'Criteria look-up'!$H$3,IF('Existing Conditions'!I20>=0.05,'Criteria look-up'!$H$4,IF('Existing Conditions'!I20>=0.02,'Criteria look-up'!$H$5,'Criteria look-up'!$H$6)))) | H14: =IF(OR('Existing Conditions'!J20="",'Existing Conditions'!J19=""),"",IF('Existing Conditions'!J20>0.1,'Criteria look-up'!$H$3,IF('Existing Conditions'!J20>=0.05,'Criteria look-up'!$H$4,IF('Existing Conditions'!J20>=0.02,'Criteria look-up'!$H$5,'Criteria look-up'!$H$6)))) | I14: =IF(OR('Existing Conditions'!K20="",'Existing Conditions'!K19=""),"",IF('Existing Conditions'!K20>0.1,'Criteria look-up'!$H$3,IF('Existing Conditions'!K20>=0.05,'Criteria look-up'!$H$4,IF('Existing Conditions'!K20>=0.02,'Criteria look-up'!$H$5,'Criteria look-up'!$H$6)))) | J14: =IF(OR('Existing Conditions'!L20="",'Existing Conditions'!L19=""),"",IF('Existing Conditions'!L20>0.1,'Criteria look-up'!$H$3,IF('Existing Conditions'!L20>=0.05,'Criteria look-up'!$H$4,IF('Existing Conditions'!L20>=0.02,'Criteria look-up'!$H$5,'Criteria look-up'!$H$6)))) | K14: =IF(OR('Existing Conditions'!M20="",'Existing Conditions'!M19=""),"",IF('Existing Conditions'!M20>0.1,'Criteria look-up'!$H$3,IF('Existing Conditions'!M20>=0.05,'Criteria look-up'!$H$4,IF('Existing Conditions'!M20>=0.02,'Criteria look-up'!$H$5,'Criteria look-up'!$H$6)))) | ... W14: =IF(OR('Existing Conditions'!Y20="",'Existing Conditions'!Y19=""),"",IF('Existing Conditions'!Y20>0.1,'Criteria look-up'!$H$3,IF('Existing Conditions'!Y20>=0.05,'Criteria look-up'!$H$4,IF('Existing Conditions'!Y20>=0.02,'Criteria look-up'!$H$5,'Criteria look-up'!$H$6))))
B16: Value coding of current design information - this is calculated automatically | C16: Peak hour traffic flow | D16: =IFERROR(INDEX('Criteria look-up'!$A$3:$A$6,MATCH(D9,'Criteria look-up'!$B$3:$B$6,0),0),"") | E16: =IFERROR(INDEX('Criteria look-up'!$A$3:$A$6,MATCH(E9,'Criteria look-up'!$B$3:$B$6,0),0),"") | F16: =IFERROR(INDEX('Criteria look-up'!$A$3:$A$6,MATCH(F9,'Criteria look-up'!$B$3:$B$6,0),0),"") | G16: =IFERROR(INDEX('Criteria look-up'!$A$3:$A$6,MATCH(G9,'Criteria look-up'!$B$3:$B$6,0),0),"") | H16: =IFERROR(INDEX('Criteria look-up'!$A$3:$A$6,MATCH(H9,'Criteria look-up'!$B$3:$B$6,0),0),"") | I16: =IFERROR(INDEX('Criteria look-up'!$A$3:$A$6,MATCH(I9,'Criteria look-up'!$B$3:$B$6,0),0),"") | J16: =IFERROR(INDEX('Criteria look-up'!$A$3:$A$6,MATCH(J9,'Criteria look-up'!$B$3:$B$6,0),0),"") | K16: =IFERROR(INDEX('Criteria look-up'!$A$3:$A$6,MATCH(K9,'Criteria look-up'!$B$3:$B$6,0),0),"") | ... W16: =IFERROR(INDEX('Criteria look-up'!$A$3:$A$6,MATCH(W9,'Criteria look-up'!$B$3:$B$6,0),0),"")
C17: Average 85th %ile speed (mph) | D17: =IFERROR(INDEX('Criteria look-up'!$A$3:$A$7,MATCH(D10,'Criteria look-up'!$C$3:$C$7,0),0),"") | E17: =IFERROR(INDEX('Criteria look-up'!$A$3:$A$7,MATCH(E10,'Criteria look-up'!$C$3:$C$7,0),0),"") | F17: =IFERROR(INDEX('Criteria look-up'!$A$3:$A$7,MATCH(F10,'Criteria look-up'!$C$3:$C$7,0),0),"") | G17: =IFERROR(INDEX('Criteria look-up'!$A$3:$A$7,MATCH(G10,'Criteria look-up'!$C$3:$C$7,0),0),"") | H17: =IFERROR(INDEX('Criteria look-up'!$A$3:$A$7,MATCH(H10,'Criteria look-up'!$C$3:$C$7,0),0),"") | I17: =IFERROR(INDEX('Criteria look-up'!$A$3:$A$7,MATCH(I10,'Criteria look-up'!$C$3:$C$7,0),0),"") | J17: =IFERROR(INDEX('Criteria look-up'!$A$3:$A$7,MATCH(J10,'Criteria look-up'!$C$3:$C$7,0),0),"") | K17: =IFERROR(INDEX('Criteria look-up'!$A$3:$A$7,MATCH(K10,'Criteria look-up'!$C$3:$C$7,0),0),"") | ... W17: =IFERROR(INDEX('Criteria look-up'!$A$3:$A$7,MATCH(W10,'Criteria look-up'!$C$3:$C$7,0),0),"")
C18: Effective width (metres) | D18: =IFERROR(INDEX('Criteria look-up'!$A$3:$A$6,MATCH(D11,'Criteria look-up'!$D$3:$D$6,0),0),"") | E18: =IFERROR(INDEX('Criteria look-up'!$A$3:$A$6,MATCH(E11,'Criteria look-up'!$D$3:$D$6,0),0),"") | F18: =IFERROR(INDEX('Criteria look-up'!$A$3:$A$6,MATCH(F11,'Criteria look-up'!$D$3:$D$6,0),0),"") | G18: =IFERROR(INDEX('Criteria look-up'!$A$3:$A$6,MATCH(G11,'Criteria look-up'!$D$3:$D$6,0),0),"") | H18: =IFERROR(INDEX('Criteria look-up'!$A$3:$A$6,MATCH(H11,'Criteria look-up'!$D$3:$D$6,0),0),"") | I18: =IFERROR(INDEX('Criteria look-up'!$A$3:$A$6,MATCH(I11,'Criteria look-up'!$D$3:$D$6,0),0),"") | J18: =IFERROR(INDEX('Criteria look-up'!$A$3:$A$6,MATCH(J11,'Criteria look-up'!$D$3:$D$6,0),0),"") | K18: =IFERROR(INDEX('Criteria look-up'!$A$3:$A$6,MATCH(K11,'Criteria look-up'!$D$3:$D$6,0),0),"") | ... W18: =IFERROR(INDEX('Criteria look-up'!$A$3:$A$6,MATCH(W11,'Criteria look-up'!$D$3:$D$6,0),0),"")
C19: Turning risk - does design fulfil criteria? | D19: =IFERROR(INDEX('Criteria look-up'!$A$3:$A$6,MATCH(D12,'Criteria look-up'!$E$3:$E$6,0),0),"") | E19: =IFERROR(INDEX('Criteria look-up'!$A$3:$A$6,MATCH(E12,'Criteria look-up'!$E$3:$E$6,0),0),"") | F19: =IFERROR(INDEX('Criteria look-up'!$A$3:$A$6,MATCH(F12,'Criteria look-up'!$E$3:$E$6,0),0),"") | G19: =IFERROR(INDEX('Criteria look-up'!$A$3:$A$6,MATCH(G12,'Criteria look-up'!$E$3:$E$6,0),0),"") | H19: =IFERROR(INDEX('Criteria look-up'!$A$3:$A$6,MATCH(H12,'Criteria look-up'!$E$3:$E$6,0),0),"") | I19: =IFERROR(INDEX('Criteria look-up'!$A$3:$A$6,MATCH(I12,'Criteria look-up'!$E$3:$E$6,0),0),"") | J19: =IFERROR(INDEX('Criteria look-up'!$A$3:$A$6,MATCH(J12,'Criteria look-up'!$E$3:$E$6,0),0),"") | K19: =IFERROR(INDEX('Criteria look-up'!$A$3:$A$6,MATCH(K12,'Criteria look-up'!$E$3:$E$6,0),0),"") | ... W19: =IFERROR(INDEX('Criteria look-up'!$A$3:$A$6,MATCH(W12,'Criteria look-up'!$E$3:$E$6,0),0),"")
C20: Kerbside activity - does design fulfil criteria | D20: =IFERROR(INDEX('Criteria look-up'!$A$3:$A$6,MATCH(D13,'Criteria look-up'!$G$3:$G$6,0),0),"") | E20: =IFERROR(INDEX('Criteria look-up'!$A$3:$A$6,MATCH(E13,'Criteria look-up'!$G$3:$G$6,0),0),"") | F20: =IFERROR(INDEX('Criteria look-up'!$A$3:$A$6,MATCH(F13,'Criteria look-up'!$G$3:$G$6,0),0),"") | G20: =IFERROR(INDEX('Criteria look-up'!$A$3:$A$6,MATCH(G13,'Criteria look-up'!$G$3:$G$6,0),0),"") | H20: =IFERROR(INDEX('Criteria look-up'!$A$3:$A$6,MATCH(H13,'Criteria look-up'!$G$3:$G$6,0),0),"") | I20: =IFERROR(INDEX('Criteria look-up'!$A$3:$A$6,MATCH(I13,'Criteria look-up'!$G$3:$G$6,0),0),"") | J20: =IFERROR(INDEX('Criteria look-up'!$A$3:$A$6,MATCH(J13,'Criteria look-up'!$G$3:$G$6,0),0),"") | K20: =IFERROR(INDEX('Criteria look-up'!$A$3:$A$6,MATCH(K13,'Criteria look-up'!$G$3:$G$6,0),0),"") | ... W20: =IFERROR(INDEX('Criteria look-up'!$A$3:$A$6,MATCH(W13,'Criteria look-up'!$G$3:$G$6,0),0),"")
C21: Average % HGV volume (7am-7pm) | D21: =IFERROR(INDEX('Criteria look-up'!$A$3:$A$6,MATCH(D14,'Criteria look-up'!$H$3:$H$6,0),0),"") | E21: =IFERROR(INDEX('Criteria look-up'!$A$3:$A$6,MATCH(E14,'Criteria look-up'!$H$3:$H$6,0),0),"") | F21: =IFERROR(INDEX('Criteria look-up'!$A$3:$A$6,MATCH(F14,'Criteria look-up'!$H$3:$H$6,0),0),"") | G21: =IFERROR(INDEX('Criteria look-up'!$A$3:$A$6,MATCH(G14,'Criteria look-up'!$H$3:$H$6,0),0),"") | H21: =IFERROR(INDEX('Criteria look-up'!$A$3:$A$6,MATCH(H14,'Criteria look-up'!$H$3:$H$6,0),0),"") | I21: =IFERROR(INDEX('Criteria look-up'!$A$3:$A$6,MATCH(I14,'Criteria look-up'!$H$3:$H$6,0),0),"") | J21: =IFERROR(INDEX('Criteria look-up'!$A$3:$A$6,MATCH(J14,'Criteria look-up'!$H$3:$H$6,0),0),"") | K21: =IFERROR(INDEX('Criteria look-up'!$A$3:$A$6,MATCH(K14,'Criteria look-up'!$H$3:$H$6,0),0),"") | ... W21: =IFERROR(INDEX('Criteria look-up'!$A$3:$A$6,MATCH(W14,'Criteria look-up'!$H$3:$H$6,0),0),"")
C22: Unique ID | D22: =IFERROR(D16*100000+D17*10000+D18*1000+D19*100+D20*10+D21,"") | E22: =IFERROR(E16*100000+E17*10000+E18*1000+E19*100+E20*10+E21,"") | F22: =IFERROR(F16*100000+F17*10000+F18*1000+F19*100+F20*10+F21,"") | G22: =IFERROR(G16*100000+G17*10000+G18*1000+G19*100+G20*10+G21,"") | H22: =IFERROR(H16*100000+H17*10000+H18*1000+H19*100+H20*10+H21,"") | I22: =IFERROR(I16*100000+I17*10000+I18*1000+I19*100+I20*10+I21,"") | J22: =IFERROR(J16*100000+J17*10000+J18*1000+J19*100+J20*10+J21,"") | K22: =IFERROR(K16*100000+K17*10000+K18*1000+K19*100+K20*10+K21,"") | ... W22: =IFERROR(W16*100000+W17*10000+W18*1000+W19*100+W20*10+W21,"")
B24: Current design assessment | C24: Are existing conditions suitable for cyclists to be mixed with motor traffic? | D24: =IFERROR(IF(OR(D16=1,'Existing Conditions'!F19>=50,AND(('Existing Conditions'!F16-'Existing Conditions'!F17)<1,('Existing Conditions'!F16-'Existing Conditions'!F17)>0),'Existing Conditions'!F15>30,AND('Existing Conditions'!F14>=500,'Existing Conditions'!F17>0)),"No",INDEX('Combinations - Current'!$G$2:$G$3841,MATCH(D22,'Combinations - Current'!$O$2:$O$3841,0))),"") | E24: =IFERROR(IF(OR(E16=1,'Existing Conditions'!G19>=50,AND(('Existing Conditions'!G16-'Existing Conditions'!G17)<1,('Existing Conditions'!G16-'Existing Conditions'!G17)>0),'Existing Conditions'!G15>30,AND('Existing Conditions'!G14>=500,'Existing Conditions'!G17>0)),"No",INDEX('Combinations - Current'!$G$2:$G$3841,MATCH(E22,'Combinations - Current'!$O$2:$O$3841,0))),"") | F24: =IFERROR(IF(OR(F16=1,'Existing Conditions'!H19>=50,AND(('Existing Conditions'!H16-'Existing Conditions'!H17)<1,('Existing Conditions'!H16-'Existing Conditions'!H17)>0),'Existing Conditions'!H15>30,AND('Existing Conditions'!H14>=500,'Existing Conditions'!H17>0)),"No",INDEX('Combinations - Current'!$G$2:$G$3841,MATCH(F22,'Combinations - Current'!$O$2:$O$3841,0))),"") | G24: =IFERROR(IF(OR(G16=1,'Existing Conditions'!I19>=50,AND(('Existing Conditions'!I16-'Existing Conditions'!I17)<1,('Existing Conditions'!I16-'Existing Conditions'!I17)>0),'Existing Conditions'!I15>30,AND('Existing Conditions'!I14>=500,'Existing Conditions'!I17>0)),"No",INDEX('Combinations - Current'!$G$2:$G$3841,MATCH(G22,'Combinations - Current'!$O$2:$O$3841,0))),"") | H24: =IFERROR(IF(OR(H16=1,'Existing Conditions'!J19>=50,AND(('Existing Conditions'!J16-'Existing Conditions'!J17)<1,('Existing Conditions'!J16-'Existing Conditions'!J17)>0),'Existing Conditions'!J15>30,AND('Existing Conditions'!J14>=500,'Existing Conditions'!J17>0)),"No",INDEX('Combinations - Current'!$G$2:$G$3841,MATCH(H22,'Combinations - Current'!$O$2:$O$3841,0))),"") | I24: =IFERROR(IF(OR(I16=1,'Existing Conditions'!K19>=50,AND(('Existing Conditions'!K16-'Existing Conditions'!K17)<1,('Existing Conditions'!K16-'Existing Conditions'!K17)>0),'Existing Conditions'!K15>30,AND('Existing Conditions'!K14>=500,'Existing Conditions'!K17>0)),"No",INDEX('Combinations - Current'!$G$2:$G$3841,MATCH(I22,'Combinations - Current'!$O$2:$O$3841,0))),"") | J24: =IFERROR(IF(OR(J16=1,'Existing Conditions'!L19>=50,AND(('Existing Conditions'!L16-'Existing Conditions'!L17)<1,('Existing Conditions'!L16-'Existing Conditions'!L17)>0),'Existing Conditions'!L15>30,AND('Existing Conditions'!L14>=500,'Existing Conditions'!L17>0)),"No",INDEX('Combinations - Current'!$G$2:$G$3841,MATCH(J22,'Combinations - Current'!$O$2:$O$3841,0))),"") | K24: =IFERROR(IF(OR(K16=1,'Existing Conditions'!M19>=50,AND(('Existing Conditions'!M16-'Existing Conditions'!M17)<1,('Existing Conditions'!M16-'Existing Conditions'!M17)>0),'Existing Conditions'!M15>30,AND('Existing Conditions'!M14>=500,'Existing Conditions'!M17>0)),"No",INDEX('Combinations - Current'!$G$2:$G$3841,MATCH(K22,'Combinations - Current'!$O$2:$O$3841,0))),"") | ... W24: =IFERROR(IF(OR(W16=1,'Existing Conditions'!Y19>=50,AND(('Existing Conditions'!Y16-'Existing Conditions'!Y17)<1,('Existing Conditions'!Y16-'Existing Conditions'!Y17)>0),'Existing Conditions'!Y15>30,AND('Existing Conditions'!Y14>=500,'Existing Conditions'!Y17>0)),"No",INDEX('Combinations - Current'!$G$2:$G$3841,MATCH(W22,'Combinations - Current'!$O$2:$O$3841,0))),"")
B26: Value coding - Phase 2 | C26: Unique ID | D26: =D24&'Existing Conditions'!F24 | E26: =E24&'Existing Conditions'!G24 | F26: =F24&'Existing Conditions'!H24 | G26: =G24&'Existing Conditions'!I24 | H26: =H24&'Existing Conditions'!J24 | I26: =I24&'Existing Conditions'!K24 | J26: =J24&'Existing Conditions'!L24 | K26: =K24&'Existing Conditions'!M24 | ... W26: =W24&'Existing Conditions'!Y24
B28: Next steps for design | C28: Recommendation | D28: =IFERROR(INDEX('Combinations - Approach'!$E$2:$E$7,MATCH(D26,'Combinations - Approach'!$C$2:$C$7,0),0),"") | E28: =IFERROR(INDEX('Combinations - Approach'!$E$2:$E$7,MATCH(E26,'Combinations - Approach'!$C$2:$C$7,0),0),"") | F28: =IFERROR(INDEX('Combinations - Approach'!$E$2:$E$7,MATCH(F26,'Combinations - Approach'!$C$2:$C$7,0),0),"") | G28: =IFERROR(INDEX('Combinations - Approach'!$E$2:$E$7,MATCH(G26,'Combinations - Approach'!$C$2:$C$7,0),0),"") | H28: =IFERROR(INDEX('Combinations - Approach'!$E$2:$E$7,MATCH(H26,'Combinations - Approach'!$C$2:$C$7,0),0),"") | I28: =IFERROR(INDEX('Combinations - Approach'!$E$2:$E$7,MATCH(I26,'Combinations - Approach'!$C$2:$C$7,0),0),"") | J28: =IFERROR(INDEX('Combinations - Approach'!$E$2:$E$7,MATCH(J26,'Combinations - Approach'!$C$2:$C$7,0),0),"") | K28: =IFERROR(INDEX('Combinations - Approach'!$E$2:$E$7,MATCH(K26,'Combinations - Approach'!$C$2:$C$7,0),0),"") | ... W28: =IFERROR(INDEX('Combinations - Approach'!$E$2:$E$7,MATCH(W26,'Combinations - Approach'!$C$2:$C$7,0),0),"")
B30: Categorisation of potential design information - this is calculated automatically | C30: Type of cycle lane or track proposed | D30: =IF('Existing Conditions'!F27="","",'Existing Conditions'!F27) | E30: =IF('Existing Conditions'!G27="","",'Existing Conditions'!G27) | F30: =IF('Existing Conditions'!H27="","",'Existing Conditions'!H27) | G30: =IF('Existing Conditions'!I27="","",'Existing Conditions'!I27) | H30: =IF('Existing Conditions'!J27="","",'Existing Conditions'!J27) | I30: =IF('Existing Conditions'!K27="","",'Existing Conditions'!K27) | J30: =IF('Existing Conditions'!L27="","",'Existing Conditions'!L27) | K30: =IF('Existing Conditions'!M27="","",'Existing Conditions'!M27) | ... W30: =IF('Existing Conditions'!Y27="","",'Existing Conditions'!Y27)
C31: Proposed width of shared use/one-way lane or track (m) | D31: =IF('Existing Conditions'!F27="","",IF('Existing Conditions'!F27='Criteria look-up'!$L$3,IF('Existing Conditions'!F28<1.5,'Criteria look-up'!$M$3,IF('Existing Conditions'!F28<2.2,'Criteria look-up'!$M$4,'Criteria look-up'!$M$5)),IF('Existing Conditions'!F27='Criteria look-up'!$L$5,IF('Existing Conditions'!F28<2.2,'Criteria look-up'!$M$6,IF('Existing Conditions'!F28<3,'Criteria look-up'!$M$7,'Criteria look-up'!$M$8)),'Criteria look-up'!$M$9))) | E31: =IF('Existing Conditions'!G27="","",IF('Existing Conditions'!G27='Criteria look-up'!$L$3,IF('Existing Conditions'!G28<1.5,'Criteria look-up'!$M$3,IF('Existing Conditions'!G28<2.2,'Criteria look-up'!$M$4,'Criteria look-up'!$M$5)),IF('Existing Conditions'!G27='Criteria look-up'!$L$5,IF('Existing Conditions'!G28<2.2,'Criteria look-up'!$M$6,IF('Existing Conditions'!G28<3,'Criteria look-up'!$M$7,'Criteria look-up'!$M$8)),'Criteria look-up'!$M$9))) | F31: =IF('Existing Conditions'!H27="","",IF('Existing Conditions'!H27='Criteria look-up'!$L$3,IF('Existing Conditions'!H28<1.5,'Criteria look-up'!$M$3,IF('Existing Conditions'!H28<2.2,'Criteria look-up'!$M$4,'Criteria look-up'!$M$5)),IF('Existing Conditions'!H27='Criteria look-up'!$L$5,IF('Existing Conditions'!H28<2.2,'Criteria look-up'!$M$6,IF('Existing Conditions'!H28<3,'Criteria look-up'!$M$7,'Criteria look-up'!$M$8)),'Criteria look-up'!$M$9))) | G31: =IF('Existing Conditions'!I27="","",IF('Existing Conditions'!I27='Criteria look-up'!$L$3,IF('Existing Conditions'!I28<1.5,'Criteria look-up'!$M$3,IF('Existing Conditions'!I28<2.2,'Criteria look-up'!$M$4,'Criteria look-up'!$M$5)),IF('Existing Conditions'!I27='Criteria look-up'!$L$5,IF('Existing Conditions'!I28<2.2,'Criteria look-up'!$M$6,IF('Existing Conditions'!I28<3,'Criteria look-up'!$M$7,'Criteria look-up'!$M$8)),'Criteria look-up'!$M$9))) | H31: =IF('Existing Conditions'!J27="","",IF('Existing Conditions'!J27='Criteria look-up'!$L$3,IF('Existing Conditions'!J28<1.5,'Criteria look-up'!$M$3,IF('Existing Conditions'!J28<2.2,'Criteria look-up'!$M$4,'Criteria look-up'!$M$5)),IF('Existing Conditions'!J27='Criteria look-up'!$L$5,IF('Existing Conditions'!J28<2.2,'Criteria look-up'!$M$6,IF('Existing Conditions'!J28<3,'Criteria look-up'!$M$7,'Criteria look-up'!$M$8)),'Criteria look-up'!$M$9))) | I31: =IF('Existing Conditions'!K27="","",IF('Existing Conditions'!K27='Criteria look-up'!$L$3,IF('Existing Conditions'!K28<1.5,'Criteria look-up'!$M$3,IF('Existing Conditions'!K28<2.2,'Criteria look-up'!$M$4,'Criteria look-up'!$M$5)),IF('Existing Conditions'!K27='Criteria look-up'!$L$5,IF('Existing Conditions'!K28<2.2,'Criteria look-up'!$M$6,IF('Existing Conditions'!K28<3,'Criteria look-up'!$M$7,'Criteria look-up'!$M$8)),'Criteria look-up'!$M$9))) | J31: =IF('Existing Conditions'!L27="","",IF('Existing Conditions'!L27='Criteria look-up'!$L$3,IF('Existing Conditions'!L28<1.5,'Criteria look-up'!$M$3,IF('Existing Conditions'!L28<2.2,'Criteria look-up'!$M$4,'Criteria look-up'!$M$5)),IF('Existing Conditions'!L27='Criteria look-up'!$L$5,IF('Existing Conditions'!L28<2.2,'Criteria look-up'!$M$6,IF('Existing Conditions'!L28<3,'Criteria look-up'!$M$7,'Criteria look-up'!$M$8)),'Criteria look-up'!$M$9))) | K31: =IF('Existing Conditions'!M27="","",IF('Existing Conditions'!M27='Criteria look-up'!$L$3,IF('Existing Conditions'!M28<1.5,'Criteria look-up'!$M$3,IF('Existing Conditions'!M28<2.2,'Criteria look-up'!$M$4,'Criteria look-up'!$M$5)),IF('Existing Conditions'!M27='Criteria look-up'!$L$5,IF('Existing Conditions'!M28<2.2,'Criteria look-up'!$M$6,IF('Existing Conditions'!M28<3,'Criteria look-up'!$M$7,'Criteria look-up'!$M$8)),'Criteria look-up'!$M$9))) | ... W31: =IF('Existing Conditions'!Y27="","",IF('Existing Conditions'!Y27='Criteria look-up'!$L$3,IF('Existing Conditions'!Y28<1.5,'Criteria look-up'!$M$3,IF('Existing Conditions'!Y28<2.2,'Criteria look-up'!$M$4,'Criteria look-up'!$M$5)),IF('Existing Conditions'!Y27='Criteria look-up'!$L$5,IF('Existing Conditions'!Y28<2.2,'Criteria look-up'!$M$6,IF('Existing Conditions'!Y28<3,'Criteria look-up'!$M$7,'Criteria look-up'!$M$8)),'Criteria look-up'!$M$9)))
