Workbook

Sheet Quality Criteria Tool
B2: New Cycle Route Quality Criteria tool Version 1
B36: Please note this tool is presented in "NJ Font Book" and will only display correctly where this font is pre-installed within Microsoft Excel
B37: When printing results it is recommended to select: "Print active sheet" / "Landscape Orientation" / "Fit all rows on one page"

Sheet Introduction
B2: Introduction to the tool
B3: The Quality Criteria are based on London Cycling Design Standard best practice guidance, focusing on whether conditions are appropriate for routes to be designed to mix people cycling with motor traffic, as well as recommending an appropriate level of provision for routes with dedicated space for cycling. An accompanying technical note is available which explains the thresholds embedded as part of this tool.
B15: When should I use this tool?
B16: The Quality Criteria tool can be used throughout the lifecycle of a cycle route project before each Stage Gate: • To assist in the selection of a preferred route alignment and exploration of potential design forms in Outcome Definition alongside other factors including existing conditions, modal and network requirements and stakeholder input • At Feasibility Design / Option Selection to help identify the range of route design forms and the selection of a single preferred option • At the Concept Design stage to ensure the design is fit for purpose The tool features two tabs: one for an assessment of existing conditions; the other for proposed design approaches. Users should apply suitable data inputs that correspond to the design stage and the purpose of the assessment. Quality Criteria will be reviewed by TfL Sponsors for all cycle routes that are expected to be part of the signed cycle network. All proposals will continue to go through due TfL approval processes, including the application of the Healthy Streets Check for Designers tool.
B35: General guidance for selecting links and using the tool
B36: A proposed cycle route should be divided into links which comprise a consistent street character. Where there are significant changes in the quality of provision for cycling being offered, such as if there is a long stretch of on-street parking that adversely impacts on cycling, this should be considered as a separate link location. Some pinch-points, such as at bus stop bypasses where a cycle track is temporarily narrowed, may be considered appropriate for the context and should be noted as not being included as a separate link. Main junctions should be reviewed as part of the link. This tool does not provide a detailed assessment of junctions but flags up when a design proposal may not be delivering to a high standard as part of the ‘Additional design considerations’ and should be further evaluated as appropriate. Indicative ‘green’ highlighted tabs show where the input corresponds with an expected high level of provision for cycling, ‘grey’ where only the minimum level of provision has been attained, and ‘red’ where the minimum level of provision has not been reached, to provide some visual assistance in comparing data inputs between links. The tool provides space for data to be input for up to 20 links and users of the tool are encouraged to save separate spreadsheets for different projects.

Sheet Guidance Notes
C3: Quality Criteria Assessment - Guidance Notes
E5: Information on completing the spreadsheet
C6: Data inputs (part 1a) This section is used by the tool to calculate whether conditions are expected to be suitable for people cycling to mix with general traffic. All data inputs are required to produce a valid output presented in Output 1a. | D6: Is this a one-way or two-way street? | E6: This selection refers to whether motor vehicle traffic is permitted in both directions or not. It is used to determine how the tool interprets the peak hour motor vehicle flow data described in the next box.
D7: What is the peak hour motor vehicle flow? | E7: Peak hour motor vehicle flows should be used for the existing assessment, with the peak identified using a 7am to 7pm count on a weekday. Where the peak hour flow is known to fall outside these hours, it is recommended to use the peak hour flow across 24 hours and note the time period used. Two-way flows should be input where a street is two-way and one-way flows for a one-way street, For the proposed scheme, modelled flows should be used where available. The user comments tab should identify whether existing or predicted flows have been used.
D8: What is the 85th %ile speed? (mph) | E8: 85th percentile speed data for a typical weekday should be used. Where multiple locations are collected within a section of road, the highest speed value should be used.
D9: Are measures proposed to reduce speeds at this location? | E9: This input only applies to proposed design assessments. Where the existing 85th percentile speed is 25mph or more and the proposal is to mix people cycling with motorised traffic, designers should justify what measures will be put in place to provide sufficient speed reduction measures. Speed reduction measures may include: reducing the speed limit to 20mph; installing new infrastructure such as raised tables, raised side road entry treatments, cycle-friendly speed humps, cycle lanes that narrow general traffic lanes; and/or by removing the centreline.
D10: What is the width of the nearside running lane for general traffic? (metres - include the width of kerbside bays) | E10: The width of the carriageway should be measured across a link of relatively consistent character and width. The nearside general traffic lane width input should cover only a single general traffic lane width where the majority of people cycling would be expected to ride. This width should be measured from the kerb edge to the nearside lane marking, or road centre point where there is only one running lane in each direction, and should include the width of parking or loading bays where present. Where there is a particular pinch-point that is of concern, then it is at the assessors’ discretion whether to include this as a separate location for analysis. For one-way streets, measure the full width of the street. Where road markings indicate an area of hatching not designed for frequent vehicle overrun, consider this as unusable space and do not include this as part of the lane width metric.
D11: What is the width of the kerbside parking / loading? (metres) | E11: Where kerbside activity is permitted, the kerbside parking or loading bay width should be measured. Where only one side of the carriageway has kerbside activity, use this side of the road to highlight the worst case situation. Where parking / loading is temporarily restricted or where parking / loading is not restricted and there are no designated bays but there is frequent kerbside activity, assume a 2m reduced width in carriageway to represent a parked vehicle, up to a 3m width for where HGV loading is expected based on the adjacent land use. Where night-time loading is permitted, this may be omitted from the spreadsheet input if the hours of operation do not coincide with peak cycling hours. This should be noted to highlight where this has been incorporated and reference made to the hours of operation. Bus stops are not included within the kerbside activity metric but due consideration is needed in relation to bus service frequency, the design of the bus stop area and the arrangement of cycling facilities to ensure that the layout is fit for purpose and complies with London Cycling Design Standards.
D12: Turning risk - does the layout fulfil the criteria? | E12: Designers should assess the existing risk to people cycling at junctions. The level of provision required should be determined based on professional judgement using information such as the volume of turning movements, speed, junction geometry and collision data. 'Yes' corresponds to provision of infrastructure measures that are deemed appropriate at priority junctions that reduce the speed of turning vehicles, such as raised junctions, side road entry treatments and tight corner radii or ways to minimise motor vehicle turning movements through road closures, banned turns, or modal filters on the side road. 'Yes' also applies to signal-controlled junctions where there is a need for signals such as early release or full separation to be implemented and it is being proposed. 'Yes' also applies in situations where a cycle route crosses the carriageway and appropriate crossing provision is provided based on traffic flows on the intersecting road, to comply with Figure 5.4 Cycle crossing options in the London Cycling Design Standards. 'No' should apply where there is a known significant risk and the above measures are not part of the existing arrangement or in the proposed design. Where there is a known risk at a junction that is not being suitably dealt with, it is not considered suitable for cyclists to be mixed with general traffic and therefore selecting this option will return a result that suggests it is not suitable for people cycling to be mixed with general traffic. 'N/A' applies to situations where there is no existing identified risk, such as a link which does not contain a major junction and no additional infrastructure measures are considered necessary.
D13: What is the peak hour HGV flow? | E13: Actual peak hour HGV volumes (defined as lorries and trucks over 3.5 tonnes) should be noted in this tab. It may not always be possible to conduct manual classified counts, therefore it is considered acceptable to use radar surveys that classify HGVs as any vehicle over 5.6m in length. Where HGV flows are equal to 50 vehicles or more in any given hour, it is not considered appropriate to mix people cycling with motor traffic.
D14: What is the peak hour HGV flow as a % of the total motor vehicle flow for that hour? | E14: HGV % (defined as all lorries and trucks over 3.5 tonnes) is calculated by comparing the peak hour HGV flow from 7am -7pm, to the total motor vehicle flow for that hour; i.e. not necessarily the peak hour motor vehicle flow, which may be different to the HGV peak flow. Where there are temporary construction sites that may skew the data, a proportion of the HGV traffic attributable to a particular site should be understood, so that the long term flow trend is used as the basis for identifying the HGV proportion of traffic. If only the peak hour % is known, this should be used and a comment inserted in the user comments box.
C15: User comments on data inputs | E15: This box should be populated with information relating to the data inputs, such as whether existing or predicted flows have been used, whether there is a significant proportion of kerbside activity and how this is designated through the day, justification for the turning risk criteria selected, and /or any other relevant details on influential characteristics of the location. Where describing a proposed design, it is recommended to note the features of the design that are expected to impact on the criteria; e.g. filtered permeability, kerbside parking removal, etc.
C17: Output 1a | D17: Are conditions expected to be suitable for people cycling to be mixed with motor traffic? | E17: This output is based on the relationship of the six design criteria: vehicle flows, speeds, width, turning risk, kerbside activity and proportion of HGVs, to determine whether the conditions are expected to be suitable for people cycling to mix with motor traffic. An accompanying technical note is available which describes the details of these relationships and how the output is calculated, which is embedded as part of this tool.
C19: Dedicated provision for cycling (part 1b) This section is used by the tool to inform a subsequent course of action based on whether existing conditions or a design proposal is broadly in line with the expected on-carriageway conditions for cycling. | D19: Is a light segregated cycle lane or full separation provided / proposed? | E19: Users should identify whether dedicated provision for cycling is already provided or being proposed following completion of the data inputs in part 1a. This section is used to inform a subsequent course of action based on whether existing conditions or a design proposal is broadly in line with the expected conditions for cycling. 'Yes' - for sections of the route which have a proposal for a light segregated cycle lane or additional degree of separation for cycling, such as a fully separated cycle track or shared use footway / path 'No' - should there be no dedicated space for cycling proposed 'N/A' - should there be no existing design proposal available
C21: Output 1b | D21: Recommended action | E21: This output identifies the recommended next step for project officers by relating the proposed design approach (part 2) to Output 1a which identifies whether there is a recommendation for cyclists to be separated from general traffic. The full range of automatically generated outputs are as follows: 'Expected to be suitable for cyclists to be mixed with general traffic' - this covers where it is expected that separation for cycling is not required but this does not necessarily mean that some form of separation should not be investigated further. 'Complete Proposed design information (part 2) below' - where it is proposed that cyclists will be provided with a dedicated cycle lane or track, it is suggested to seek further design advice by completing part 2 of the tool. 'Layout improvements recommended' - this situation only arises for existing conditions which are not expected to be suitable for cyclists to be mixed with general traffic and no cycle lane is currently provided. This should be a prompt for designers to consider how to provide better conditions for cycling in these locations. 'Speak to Lead Sponsor' - this situation only arises for proposed schemes where the conditions are not expected to be suitable for cyclists to be mixed with general traffic and no design response for separation has been proposed. This should be raised with the Lead Sponsor to identify a suitable course of action.
C23: Data inputs for when dedicated space for cycling is proposed (part 2) This section is used by the tool to identify whether there are potential design issues associated with cycle lane widths or signal design. | D23: Layout of light segregated cycle lane, track or shared use facility proposed | E23: This section should only be completed where existing conditions / proposed layouts feature a cycle lane which is light segregated as a minimum (i.e. a mandatory lane with separating objects). Advisory lanes are not considered to meet the Quality Criteria, except where it is appropriate for people cycling to be mixed with general traffic. Contraflow cycle lanes are not covered by the Quality Criteria process and should be reviewed as a separate detailed design consideration. 'One-way' where operating with general traffic flow in one direction for cyclists. 'Two-way' where operating as part of a bidirectional arrangement for cyclists. It is assumed that a light segregated lane is the minimum level of provision being proposed. 'Shared use' where operating as a footway or path that is designed to accommodate pedestrians and cyclists.
D24: Proposed width of cycle lane, track or shared use facility (metres) | E24: Measured from the kerb edge to the centre of the painted road marking (or other kerb / path edge as appropriate). This should factor in any reduction in effective widths as a result of features such as light segregation posts.
D25: Proposed buffer zone width adjacent to kerbside activity where a cycle lane is provided (metres) | E25: Measured from the centre of the painted marking as appropriate. 0m should be input where no specific buffer zone is delineated.
D26: Does the design provide a cycle early release signal at signal controlled junctions, where needed? | E26: The expected level of intervention for signal-controlled junctions is for a cycle early release signal to be provided, but only where it is considered appropriate to do so, based on a risk assessment. 'Yes' - should be selected where it is considered appropriate to do so and it is proposed. 'No' - should be selected where it could be considered appropriate to do so but it is not being proposed. 'N/A'- should be selected where it is not considered appropriate to do so and it is not being proposed.
D27: Are conflicting movements between cycle traffic and motor traffic separated with dedicated signals for cycles, where needed? | E27: The target level of intervention for signal-controlled junctions is to separate cycles in time with interventions such as hold-the-left signals or cycle gates included as appropriate on the cycle route, to separate cyclists where there is a known conflict issue. This input should also be used to highlight situations where a cycle route crosses the carriageway; in these instances, appropriate crossing provision should be provided based on traffic flows on the intersecting road, to comply with Figure 5.4 Cycle crossing options in the London Cycling Design Standards. 'Yes' - should be selected where it is considered appropriate to do so and it is proposed. 'No' - should be selected where it could be considered appropriate to do so but it is not being proposed. 'N/A'- should be selected where it is not considered appropriate to do so and it is not being proposed.
C29: Output 2 | D29: Additional design considerations | E29: This box will be automatically generated based on the inputs provided in part 2, setting out whether there may be potential issues with the proposals which should be further investigated and improved upon as appropriate. Where the term 'address' is used in relation to a specific issue, then it is strongly recommended that this design issue is investigated and acted on as appropriate, documenting the reponse in the comments box below. Where the term 'consider' is used in relation to a specific issue, then it may not be a major issue but should nevertheless be investigated, such as where the lane widths are not meeting the target level of 2m for one-way lanes/tracks and 3m for two-way lanes/tracks. Design issues will be identified in terms of a 'cycle lane width issue' and/or a 'signal design issue'.
C30: User comments on proposed approach | E30: This box should be populated with any further information relating to how the result for Output 1a and Output 2 has been acted on, as required.

Sheet Existing Conditions
C2: Existing Conditions
C3: Quality Criteria Assessment v1
F5: Link 1 | G5: Link 2 | H5: Link 3 | I5: Link 4 | J5: Link 5 | K5: Link 6 | L5: Link 7 | M5: Link 8 | N5: Link 9 | O5: Link 10 | P5: Link 11 | Q5: Link 12 | R5: Link 13 | S5: Link 14 | T5: Link 15 | U5: Link 16 | V5: Link 17 | W5: Link 18 | X5: Link 19 | Y5: Link 20
C6: Route information | D6: Route
D7: Borough
D8: Project Number
D9: Location
D10: Length of link (metres)
D11: Number of buses per hour (for reference)
C13: Existing Conditions Data inputs (Part 1a) | D13: Is this a one-way or two-way street? | E13: ?
D14: What is the peak hour motor vehicle flow? | E14: ?
D15: What is the 85th %ile speed? (mph) | E15: ?
D16: What is the width of the nearside running lane for general traffic? (metres - include the width of kerbside bays) | E16: ?
D17: What is the width of the kerbside parking / loading? (metres) | E17: ?
D18: Turning risk - does the existing arrangement fulfil the criteria? (see Guidance Notes tab) | E18: ?
D19: What is the peak hour HGV flow? | E19: ?
D20: What is the peak hour HGV flow as a % of the total motor vehicle flow for that hour? | E20: ?
C21: User comments on data inputs | E21: ?
C22: Output 1a | D22: Are existing conditions expected to be suitable for people cycling to be mixed with motor traffic? | F22: ='Calculations - Existing'!D24 | G22: ='Calculations - Existing'!E24 | H22: ='Calculations - Existing'!F24 | I22: ='Calculations - Existing'!G24 | J22: ='Calculations - Existing'!H24 | K22: ='Calculations - Existing'!I24 | L22: ='Calculations - Existing'!J24 | M22: ='Calculations - Existing'!K24 | ... Y22: ='Calculations - Existing'!W24
C24: Dedicated space for cycling (Part 1b) | D24: Is a light segregated cycle lane or full separation provided currently? | E24: ?
C25: Output 1b | D25: Recommended action | F25: ='Calculations - Existing'!D28 | G25: ='Calculations - Existing'!E28 | H25: ='Calculations - Existing'!F28 | I25: ='Calculations - Existing'!G28 | J25: ='Calculations - Existing'!H28 | K25: ='Calculations - Existing'!I28 | L25: ='Calculations - Existing'!J28 | M25: ='Calculations - Existing'!K28 | ... Y25: ='Calculations - Existing'!W28
C27: Data inputs for where there is existing dedicated space for cycling (Part 2) | D27: Layout of light segregated cycle lane, track or shared use facility, if currently provided | E27: ?
D28: Existing width of cycle lane, track or shared use facility (metres) | E28: ?
D29: Existing buffer zone width adjacent to kerbside activity where a cycle lane is provided (metres) | E29: ?
D30: Does the layout provide a cycle early release signal at signal controlled junctions, where needed? | E30: ?
D31: Are conflicting movements between cycle traffic and motor traffic separated with dedicated signals for cycles, where needed? | E31: ?
C32: Output 2 | D32: Additional design considerations | F32: ='Calculations - Existing'!D45 | G32: ='Calculations - Existing'!E45 | H32: ='Calculations - Existing'!F45 | I32: ='Calculations - Existing'!G45 | J32: ='Calculations - Existing'!H45 | K32: ='Calculations - Existing'!I45 | L32: ='Calculations - Existing'!J45 | M32: ='Calculations - Existing'!K45 | ... Y32: ='Calculations - Existing'!W45
C33: User comments on data inputs | E33: ?

Sheet Proposed Design
C2: Proposed Design
C3: Quality Criteria Assessment v1
F5: Link 1 | G5: Link 2 | H5: Link 3 | I5: Link 4 | J5: Link 5 | K5: Link 6 | L5: Link 7 | M5: Link 8 | N5: Link 9 | O5: Link 10 | P5: Link 11 | Q5: Link 12 | R5: Link 13 | S5: Link 14 | T5: Link 15 | U5: Link 16 | V5: Link 17 | W5: Link 18 | X5: Link 19 | Y5: Link 20
C6: Route information | D6: Route
D7: Borough
D8: Project Number
D9: Location
D10: Length of link (metres)
D11: Number of buses per hour (for reference)
C13: Proposed Design Data inputs (Part 1a) | D13: Is this a one-way or two-way street? | E13: ?
D14: What is the expected peak hour motor vehicle flow? | E14: ?
D15: What is the expected 85th %ile speed? (mph) | E15: ?
D16: Are measures proposed to reduce speeds at this location? (requires existing speeds to be filled out) | E16: ?
D17: What is the proposed width of the nearside running lane for general traffic? (metres - include the width of kerbside bays) | E17: ?
D18: What is the proposed width of the kerbside parking / loading? (metres) | E18: ?
D19: Turning risk - does the proposed arrangement fulfil the criteria? (see Guidance Notes tab) | E19: ?
D20: What is the expected peak hour HGV flow? | E20: ?
D21: What is the peak hour HGV flow as a % of the total motor vehicle flow for that hour? | E21: ?
C22: User comments on data inputs (including proposed design features that are anticipated to impact on the criteria) | E22: ?
C23: Output 1a | D23: Are proposed conditions expected to be suitable for people cycling to be mixed with motor traffic? | F23: ='Calculations - Proposed'!D24 | G23: ='Calculations - Proposed'!E24 | H23: ='Calculations - Proposed'!F24 | I23: ='Calculations - Proposed'!G24 | J23: ='Calculations - Proposed'!H24 | K23: ='Calculations - Proposed'!I24 | L23: ='Calculations - Proposed'!J24 | M23: ='Calculations - Proposed'!K24 | ... Y23: ='Calculations - Proposed'!W24
C25: Proposed dedicated space for cycling (Part 1b) | D25: Is a light segregated cycle lane or full separation proposed? | E25: ?
C26: Output 1b | D26: Recommended action | F26: ='Calculations - Proposed'!D28 | G26: ='Calculations - Proposed'!E28 | H26: ='Calculations - Proposed'!F28 | I26: ='Calculations - Proposed'!G28 | J26: ='Calculations - Proposed'!H28 | K26: ='Calculations - Proposed'!I28 | L26: ='Calculations - Proposed'!J28 | M26: ='Calculations - Proposed'!K28 | ... Y26: ='Calculations - Proposed'!W28
C28: Data inputs for when dedicated space for cycling is proposed (Part 2) | D28: Layout of light segregated cycle lane, track or shared use facility, if proposed | E28: ?
D29: Proposed width of cycle lane, track or shared use facility (metres) | E29: ?
D30: Proposed buffer zone width adjacent to kerbside activity where a cycle lane is provided (metres) | E30: ?
D31: Does the design provide a cycle early release signal at signal controlled junctions, where needed? | E31: ?
D32: Are conflicting movements between cycle traffic and motor traffic separated with dedicated signals for cycles, where needed? | E32: ?
C33: Output 2 | D33: Additional design considerations | F33: ='Calculations - Proposed'!D45 | G33: ='Calculations - Proposed'!E45 | H33: ='Calculations - Proposed'!F45 | I33: ='Calculations - Proposed'!G45 | J33: ='Calculations - Proposed'!H45 | K33: ='Calculations - Proposed'!I45 | L33: ='Calculations - Proposed'!J45 | M33: ='Calculations - Proposed'!K45 | ... Y33: ='Calculations - Proposed'!W45
C34: User comments on proposed approach | E34: ?

Sheet Calculations - Existing
D2: Link 1 | E2: Link 2 | F2: Link 3 | G2: Link 4 | H2: Link 5 | I2: Link 6 | J2: Link 7 | K2: Link 8 | L2: Link 9 | M2: Link 10 | N2: Link 11 | O2: Link 12 | P2: Link 13 | Q2: Link 14 | R2: Link 15 | S2: Link 16 | T2: Link 17 | U2: Link 18 | V2: Link 19 | W2: Link 20
B3: Route information | C3: Route | D3: =IF('Existing Conditions'!F6="","",'Existing Conditions'!F6) | E3: =IF('Existing Conditions'!G6="","",'Existing Conditions'!G6) | F3: =IF('Existing Conditions'!H6="","",'Existing Conditions'!H6) | G3: =IF('Existing Conditions'!I6="","",'Existing Conditions'!I6) | H3: =IF('Existing Conditions'!J6="","",'Existing Conditions'!J6) | I3: =IF('Existing Conditions'!K6="","",'Existing Conditions'!K6) | J3: =IF('Existing Conditions'!L6="","",'Existing Conditions'!L6) | K3: =IF('Existing Conditions'!M6="","",'Existing Conditions'!M6) | ... W3: =IF('Existing Conditions'!Y6="","",'Existing Conditions'!Y6)
C4: Borough | D4: =IF('Existing Conditions'!F7="","",'Existing Conditions'!F7) | E4: =IF('Existing Conditions'!G7="","",'Existing Conditions'!G7) | F4: =IF('Existing Conditions'!H7="","",'Existing Conditions'!H7) | G4: =IF('Existing Conditions'!I7="","",'Existing Conditions'!I7) | H4: =IF('Existing Conditions'!J7="","",'Existing Conditions'!J7) | I4: =IF('Existing Conditions'!K7="","",'Existing Conditions'!K7) | J4: =IF('Existing Conditions'!L7="","",'Existing Conditions'!L7) | K4: =IF('Existing Conditions'!M7="","",'Existing Conditions'!M7) | ... W4: =IF('Existing Conditions'!Y7="","",'Existing Conditions'!Y7)
C5: Project Number | D5: =IF('Existing Conditions'!F8="","",'Existing Conditions'!F8) | E5: =IF('Existing Conditions'!G8="","",'Existing Conditions'!G8) | F5: =IF('Existing Conditions'!H8="","",'Existing Conditions'!H8) | G5: =IF('Existing Conditions'!I8="","",'Existing Conditions'!I8) | H5: =IF('Existing Conditions'!J8="","",'Existing Conditions'!J8) | I5: =IF('Existing Conditions'!K8="","",'Existing Conditions'!K8) | J5: =IF('Existing Conditions'!L8="","",'Existing Conditions'!L8) | K5: =IF('Existing Conditions'!M8="","",'Existing Conditions'!M8) | ... W5: =IF('Existing Conditions'!Y8="","",'Existing Conditions'!Y8)
C6: Location | D6: =IF('Existing Conditions'!F9="","",'Existing Conditions'!F9) | E6: =IF('Existing Conditions'!G9="","",'Existing Conditions'!G9) | F6: =IF('Existing Conditions'!H9="","",'Existing Conditions'!H9) | G6: =IF('Existing Conditions'!I9="","",'Existing Conditions'!I9) | H6: =IF('Existing Conditions'!J9="","",'Existing Conditions'!J9) | I6: =IF('Existing Conditions'!K9="","",'Existing Conditions'!K9) | J6: =IF('Existing Conditions'!L9="","",'Existing Conditions'!L9) | K6: =IF('Existing Conditions'!M9="","",'Existing Conditions'!M9) | ... W6: =IF('Existing Conditions'!Y9="","",'Existing Conditions'!Y9)
C7: Scheme Status | D7: =IF('Existing Conditions'!F11="","",'Existing Conditions'!F11) | E7: =IF('Existing Conditions'!G11="","",'Existing Conditions'!G11) | F7: =IF('Existing Conditions'!H11="","",'Existing Conditions'!H11) | G7: =IF('Existing Conditions'!I11="","",'Existing Conditions'!I11) | H7: =IF('Existing Conditions'!J11="","",'Existing Conditions'!J11) | I7: =IF('Existing Conditions'!K11="","",'Existing Conditions'!K11) | J7: =IF('Existing Conditions'!L11="","",'Existing Conditions'!L11) | K7: =IF('Existing Conditions'!M11="","",'Existing Conditions'!M11) | ... W7: =IF('Existing Conditions'!Y11="","",'Existing Conditions'!Y11)
B9: Categorisation of current design information - this is calculated automatically | C9: Peak hour traffic flow | D9: =IF(OR('Existing Conditions'!F14="",'Existing Conditions'!F13=""),"",IF('Existing Conditions'!F13="Two-way",IF('Existing Conditions'!F14>1000,'Criteria look-up'!$B$3,IF('Existing Conditions'!F14>=500,'Criteria look-up'!$B$4,IF('Existing Conditions'!F14>=200,'Criteria look-up'!$B$5,'Criteria look-up'!$B$6))),IF('Existing Conditions'!F14>500,'Criteria look-up'!$B$3,IF('Existing Conditions'!F14>=250,'Criteria look-up'!$B$4,IF('Existing Conditions'!F14>=100,'Criteria look-up'!$B$5,'Criteria look-up'!$B$6))))) | E9: =IF(OR('Existing Conditions'!G14="",'Existing Conditions'!G13=""),"",IF('Existing Conditions'!G13="Two-way",IF('Existing Conditions'!G14>1000,'Criteria look-up'!$B$3,IF('Existing Conditions'!G14>=500,'Criteria look-up'!$B$4,IF('Existing Conditions'!G14>=200,'Criteria look-up'!$B$5,'Criteria look-up'!$B$6))),IF('Existing Conditions'!G14>500,'Criteria look-up'!$B$3,IF('Existing Conditions'!G14>=250,'Criteria look-up'!$B$4,IF('Existing Conditions'!G14>=100,'Criteria look-up'!$B$5,'Criteria look-up'!$B$6))))) | F9: =IF(OR('Existing Conditions'!H14="",'Existing Conditions'!H13=""),"",IF('Existing Conditions'!H13="Two-way",IF('Existing Conditions'!H14>1000,'Criteria look-up'!$B$3,IF('Existing Conditions'!H14>=500,'Criteria look-up'!$B$4,IF('Existing Conditions'!H14>=200,'Criteria look-up'!$B$5,'Criteria look-up'!$B$6))),IF('Existing Conditions'!H14>500,'Criteria look-up'!$B$3,IF('Existing Conditions'!H14>=250,'Criteria look-up'!$B$4,IF('Existing Conditions'!H14>=100,'Criteria look-up'!$B$5,'Criteria look-up'!$B$6))))) | G9: =IF(OR('Existing Conditions'!I14="",'Existing Conditions'!I13=""),"",IF('Existing Conditions'!I13="Two-way",IF('Existing Conditions'!I14>1000,'Criteria look-up'!$B$3,IF('Existing Conditions'!I14>=500,'Criteria look-up'!$B$4,IF('Existing Conditions'!I14>=200,'Criteria look-up'!$B$5,'Criteria look-up'!$B$6))),IF('Existing Conditions'!I14>500,'Criteria look-up'!$B$3,IF('Existing Conditions'!I14>=250,'Criteria look-up'!$B$4,IF('Existing Conditions'!I14>=100,'Criteria look-up'!$B$5,'Criteria look-up'!$B$6))))) | H9: =IF(OR('Existing Conditions'!J14="",'Existing Conditions'!J13=""),"",IF('Existing Conditions'!J13="Two-way",IF('Existing Conditions'!J14>1000,'Criteria look-up'!$B$3,IF('Existing Conditions'!J14>=500,'Criteria look-up'!$B$4,IF('Existing Conditions'!J14>=200,'Criteria look-up'!$B$5,'Criteria look-up'!$B$6))),IF('Existing Conditions'!J14>500,'Criteria look-up'!$B$3,IF('Existing Conditions'!J14>=250,'Criteria look-up'!$B$4,IF('Existing Conditions'!J14>=100,'Criteria look-up'!$B$5,'Criteria look-up'!$B$6))))) | I9: =IF(OR('Existing Conditions'!K14="",'Existing Conditions'!K13=""),"",IF('Existing Conditions'!K13="Two-way",IF('Existing Conditions'!K14>1000,'Criteria look-up'!$B$3,IF('Existing Conditions'!K14>=500,'Criteria look-up'!$B$4,IF('Existing Conditions'!K14>=200,'Criteria look-up'!$B$5,'Criteria look-up'!$B$6))),IF('Existing Conditions'!K14>500,'Criteria look-up'!$B$3,IF('Existing Conditions'!K14>=250,'Criteria look-up'!$B$4,IF('Existing Conditions'!K14>=100,'Criteria look-up'!$B$5,'Criteria look-up'!$B$6))))) | J9: =IF(OR('Existing Conditions'!L14="",'Existing Conditions'!L13=""),"",IF('Existing Conditions'!L13="Two-way",IF('Existing Conditions'!L14>1000,'Criteria look-up'!$B$3,IF('Existing Conditions'!L14>=500,'Criteria look-up'!$B$4,IF('Existing Conditions'!L14>=200,'Criteria look-up'!$B$5,'Criteria look-up'!$B$6))),IF('Existing Conditions'!L14>500,'Criteria look-up'!$B$3,IF('Existing Conditions'!L14>=250,'Criteria look-up'!$B$4,IF('Existing Conditions'!L14>=100,'Criteria look-up'!$B$5,'Criteria look-up'!$B$6))))) | K9: =IF(OR('Existing Conditions'!M14="",'Existing Conditions'!M13=""),"",IF('Existing Conditions'!M13="Two-way",IF('Existing Conditions'!M14>1000,'Criteria look-up'!$B$3,IF('Existing Conditions'!M14>=500,'Criteria look-up'!$B$4,IF('Existing Conditions'!M14>=200,'Criteria look-up'!$B$5,'Criteria look-up'!$B$6))),IF('Existing Conditions'!M14>500,'Criteria look-up'!$B$3,IF('Existing Conditions'!M14>=250,'Criteria look-up'!$B$4,IF('Existing Conditions'!M14>=100,'Criteria look-up'!$B$5,'Criteria look-up'!$B$6))))) | ... W9: =IF(OR('Existing Conditions'!Y14="",'Existing Conditions'!Y13=""),"",IF('Existing Conditions'!Y13="Two-way",IF('Existing Conditions'!Y14>1000,'Criteria look-up'!$B$3,IF('Existing Conditions'!Y14>=500,'Criteria look-up'!$B$4,IF('Existing Conditions'!Y14>=200,'Criteria look-up'!$B$5,'Criteria look-up'!$B$6))),IF('Existing Conditions'!Y14>500,'Criteria look-up'!$B$3,IF('Existing Conditions'!Y14>=250,'Criteria look-up'!$B$4,IF('Existing Conditions'!Y14>=100,'Criteria look-up'!$B$5,'Criteria look-up'!$B$6)))))
C10: Average 85th %ile speed (mph) | D10: =IF('Existing Conditions'!F15="","",IF('Existing Conditions'!F15>30,'Criteria look-up'!$C$4,IF('Existing Conditions'!F15>=25,'Criteria look-up'!$C$6,'Criteria look-up'!$C$7))) | E10: =IF('Existing Conditions'!G15="","",IF('Existing Conditions'!G15>30,'Criteria look-up'!$C$4,IF('Existing Conditions'!G15>=25,'Criteria look-up'!$C$6,'Criteria look-up'!$C$7))) | F10: =IF('Existing Conditions'!H15="","",IF('Existing Conditions'!H15>30,'Criteria look-up'!$C$4,IF('Existing Conditions'!H15>=25,'Criteria look-up'!$C$6,'Criteria look-up'!$C$7))) | G10: =IF('Existing Conditions'!I15="","",IF('Existing Conditions'!I15>30,'Criteria look-up'!$C$4,IF('Existing Conditions'!I15>=25,'Criteria look-up'!$C$6,'Criteria look-up'!$C$7))) | H10: =IF('Existing Conditions'!J15="","",IF('Existing Conditions'!J15>30,'Criteria look-up'!$C$4,IF('Existing Conditions'!J15>=25,'Criteria look-up'!$C$6,'Criteria look-up'!$C$7))) | I10: =IF('Existing Conditions'!K15="","",IF('Existing Conditions'!K15>30,'Criteria look-up'!$C$4,IF('Existing Conditions'!K15>=25,'Criteria look-up'!$C$6,'Criteria look-up'!$C$7))) | J10: =IF('Existing Conditions'!L15="","",IF('Existing Conditions'!L15>30,'Criteria look-up'!$C$4,IF('Existing Conditions'!L15>=25,'Criteria look-up'!$C$6,'Criteria look-up'!$C$7))) | K10: =IF('Existing Conditions'!M15="","",IF('Existing Conditions'!M15>30,'Criteria look-up'!$C$4,IF('Existing Conditions'!M15>=25,'Criteria look-up'!$C$6,'Criteria look-up'!$C$7))) | ... W10: =IF('Existing Conditions'!Y15="","",IF('Existing Conditions'!Y15>30,'Criteria look-up'!$C$4,IF('Existing Conditions'!Y15>=25,'Criteria look-up'!$C$6,'Criteria look-up'!$C$7)))
C11: Effective width (metres) | D11: =IF('Existing Conditions'!F16="","",IF('Existing Conditions'!F16<=3.2,'Criteria look-up'!$D$3,IF('Existing Conditions'!F16<4,'Criteria look-up'!$D$4,IF('Existing Conditions'!F16<4.5,'Criteria look-up'!$D$5,'Criteria look-up'!$D$6)))) | E11: =IF('Existing Conditions'!G16="","",IF('Existing Conditions'!G16<=3.2,'Criteria look-up'!$D$3,IF('Existing Conditions'!G16<4,'Criteria look-up'!$D$4,IF('Existing Conditions'!G16<4.5,'Criteria look-up'!$D$5,'Criteria look-up'!$D$6)))) | F11: =IF('Existing Conditions'!H16="","",IF('Existing Conditions'!H16<=3.2,'Criteria look-up'!$D$3,IF('Existing Conditions'!H16<4,'Criteria look-up'!$D$4,IF('Existing Conditions'!H16<4.5,'Criteria look-up'!$D$5,'Criteria look-up'!$D$6)))) | G11: =IF('Existing Conditions'!I16="","",IF('Existing Conditions'!I16<=3.2,'Criteria look-up'!$D$3,IF('Existing Conditions'!I16<4,'Criteria look-up'!$D$4,IF('Existing Conditions'!I16<4.5,'Criteria look-up'!$D$5,'Criteria look-up'!$D$6)))) | H11: =IF('Existing Conditions'!J16="","",IF('Existing Conditions'!J16<=3.2,'Criteria look-up'!$D$3,IF('Existing Conditions'!J16<4,'Criteria look-up'!$D$4,IF('Existing Conditions'!J16<4.5,'Criteria look-up'!$D$5,'Criteria look-up'!$D$6)))) | I11: =IF('Existing Conditions'!K16="","",IF('Existing Conditions'!K16<=3.2,'Criteria look-up'!$D$3,IF('Existing Conditions'!K16<4,'Criteria look-up'!$D$4,IF('Existing Conditions'!K16<4.5,'Criteria look-up'!$D$5,'Criteria look-up'!$D$6)))) | J11: =IF('Existing Conditions'!L16="","",IF('Existing Conditions'!L16<=3.2,'Criteria look-up'!$D$3,IF('Existing Conditions'!L16<4,'Criteria look-up'!$D$4,IF('Existing Conditions'!L16<4.5,'Criteria look-up'!$D$5,'Criteria look-up'!$D$6)))) | K11: =IF('Existing Conditions'!M16="","",IF('Existing Conditions'!M16<=3.2,'Criteria look-up'!$D$3,IF('Existing Conditions'!M16<4,'Criteria look-up'!$D$4,IF('Existing Conditions'!M16<4.5,'Criteria look-up'!$D$5,'Criteria look-up'!$D$6)))) | ... W11: =IF('Existing Conditions'!Y16="","",IF('Existing Conditions'!Y16<=3.2,'Criteria look-up'!$D$3,IF('Existing Conditions'!Y16<4,'Criteria look-up'!$D$4,IF('Existing Conditions'!Y16<4.5,'Criteria look-up'!$D$5,'Criteria look-up'!$D$6))))
C12: Turning risk - does design fulfil criteria? | D12: =IF('Existing Conditions'!F18="","",'Existing Conditions'!F18) | E12: =IF('Existing Conditions'!G18="","",'Existing Conditions'!G18) | F12: =IF('Existing Conditions'!H18="","",'Existing Conditions'!H18) | G12: =IF('Existing Conditions'!I18="","",'Existing Conditions'!I18) | H12: =IF('Existing Conditions'!J18="","",'Existing Conditions'!J18) | I12: =IF('Existing Conditions'!K18="","",'Existing Conditions'!K18) | J12: =IF('Existing Conditions'!L18="","",'Existing Conditions'!L18) | K12: =IF('Existing Conditions'!M18="","",'Existing Conditions'!M18) | ... W12: =IF('Existing Conditions'!Y18="","",'Existing Conditions'!Y18)
C13: Kerbside activity - does design fulfil criteria | D13: =IF(OR(D9="",D10="",D11="",'Existing Conditions'!F17=""),"",IF(('Existing Conditions'!F16-'Existing Conditions'!F17)>=2,IF('Existing Conditions'!F15<25,"Yes","No"),IF(AND('Existing Conditions'!F15<25,'Existing Conditions'!F14<200,'Existing Conditions'!F20<0.05),"Yes","No"))) | E13: =IF(OR(E9="",E10="",E11="",'Existing Conditions'!G17=""),"",IF(('Existing Conditions'!G16-'Existing Conditions'!G17)>=2,IF('Existing Conditions'!G15<25,"Yes","No"),IF(AND('Existing Conditions'!G15<25,'Existing Conditions'!G14<200,'Existing Conditions'!G20<0.05),"Yes","No"))) | F13: =IF(OR(F9="",F10="",F11="",'Existing Conditions'!H17=""),"",IF(('Existing Conditions'!H16-'Existing Conditions'!H17)>=2,IF('Existing Conditions'!H15<25,"Yes","No"),IF(AND('Existing Conditions'!H15<25,'Existing Conditions'!H14<200,'Existing Conditions'!H20<0.05),"Yes","No"))) | G13: =IF(OR(G9="",G10="",G11="",'Existing Conditions'!I17=""),"",IF(('Existing Conditions'!I16-'Existing Conditions'!I17)>=2,IF('Existing Conditions'!I15<25,"Yes","No"),IF(AND('Existing Conditions'!I15<25,'Existing Conditions'!I14<200,'Existing Conditions'!I20<0.05),"Yes","No"))) | H13: =IF(OR(H9="",H10="",H11="",'Existing Conditions'!J17=""),"",IF(('Existing Conditions'!J16-'Existing Conditions'!J17)>=2,IF('Existing Conditions'!J15<25,"Yes","No"),IF(AND('Existing Conditions'!J15<25,'Existing Conditions'!J14<200,'Existing Conditions'!J20<0.05),"Yes","No"))) | I13: =IF(OR(I9="",I10="",I11="",'Existing Conditions'!K17=""),"",IF(('Existing Conditions'!K16-'Existing Conditions'!K17)>=2,IF('Existing Conditions'!K15<25,"Yes","No"),IF(AND('Existing Conditions'!K15<25,'Existing Conditions'!K14<200,'Existing Conditions'!K20<0.05),"Yes","No"))) | J13: =IF(OR(J9="",J10="",J11="",'Existing Conditions'!L17=""),"",IF(('Existing Conditions'!L16-'Existing Conditions'!L17)>=2,IF('Existing Conditions'!L15<25,"Yes","No"),IF(AND('Existing Conditions'!L15<25,'Existing Conditions'!L14<200,'Existing Conditions'!L20<0.05),"Yes","No"))) | K13: =IF(OR(K9="",K10="",K11="",'Existing Conditions'!M17=""),"",IF(('Existing Conditions'!M16-'Existing Conditions'!M17)>=2,IF('Existing Conditions'!M15<25,"Yes","No"),IF(AND('Existing Conditions'!M15<25,'Existing Conditions'!M14<200,'Existing Conditions'!M20<0.05),"Yes","No"))) | ... W13: =IF(OR(W9="",W10="",W11="",'Existing Conditions'!Y17=""),"",IF(('Existing Conditions'!Y16-'Existing Conditions'!Y17)>=2,IF('Existing Conditions'!Y15<25,"Yes","No"),IF(AND('Existing Conditions'!Y15<25,'Existing Conditions'!Y14<200,'Existing Conditions'!Y20<0.05),"Yes","No")))
C14: Average % HGV volume (7am-7pm) | D14: =IF(OR('Existing Conditions'!F20="",'Existing Conditions'!F19=""),"",IF('Existing Conditions'!F20>0.1,'Criteria look-up'!$H$3,IF('Existing Conditions'!F20>=0.05,'Criteria look-up'!$H$4,IF('Existing Conditions'!F20>=0.02,'Criteria look-up'!$H$5,'Criteria look-up'!$H$6)))) | E14: =IF(OR('Existing Conditions'!G20="",'Existing Conditions'!G19=""),"",IF('Existing Conditions'!G20>0.1,'Criteria look-up'!$H$3,IF('Existing Conditions'!G20>=0.05,'Criteria look-up'!$H$4,IF('Existing Conditions'!G20>=0.02,'Criteria look-up'!$H$5,'Criteria look-up'!$H$6)))) | F14: =IF(OR('Existing Conditions'!H20="",'Existing Conditions'!H19=""),"",IF('Existing Conditions'!H20>0.1,'Criteria look-up'!$H$3,IF('Existing Conditions'!H20>=0.05,'Criteria look-up'!$H$4,IF('Existing Conditions'!H20>=0.02,'Criteria look-up'!$H$5,'Criteria look-up'!$H$6)))) | G14: =IF(OR('Existing Conditions'!I20="",'Existing Conditions'!I19=""),"",IF('Existing Conditions'!I20>0.1,'Criteria look-up'!$H$3,IF('Existing Conditions'!I20>=0.05,'Criteria look-up'!$H$4,IF('Existing Conditions'!I20>=0.02,'Criteria look-up'!$H$5,'Criteria look-up'!$H$6)))) | H14: =IF(OR('Existing Conditions'!J20="",'Existing Conditions'!J19=""),"",IF('Existing Conditions'!J20>0.1,'Criteria look-up'!$H$3,IF('Existing Conditions'!J20>=0.05,'Criteria look-up'!$H$4,IF('Existing Conditions'!J20>=0.02,'Criteria look-up'!$H$5,'Criteria look-up'!$H$6)))) | I14: =IF(OR('Existing Conditions'!K20="",'Existing Conditions'!K19=""),"",IF('Existing Conditions'!K20>0.1,'Criteria look-up'!$H$3,IF('Existing Conditions'!K20>=0.05,'Criteria look-up'!$H$4,IF('Existing Conditions'!K20>=0.02,'Criteria look-up'!$H$5,'Criteria look-up'!$H$6)))) | J14: =IF(OR('Existing Conditions'!L20="",'Existing Conditions'!L19=""),"",IF('Existing Conditions'!L20>0.1,'Criteria look-up'!$H$3,IF('Existing Conditions'!L20>=0.05,'Criteria look-up'!$H$4,IF('Existing Conditions'!L20>=0.02,'Criteria look-up'!$H$5,'Criteria look-up'!$H$6)))) | K14: =IF(OR('Existing Conditions'!M20="",'Existing Conditions'!M19=""),"",IF('Existing Conditions'!M20>0.1,'Criteria look-up'!$H$3,IF('Existing Conditions'!M20>=0.05,'Criteria look-up'!$H$4,IF('Existing Conditions'!M20>=0.02,'Criteria look-up'!$H$5,'Criteria look-up'!$H$6)))) | ... W14: =IF(OR('Existing Conditions'!Y20="",'Existing Conditions'!Y19=""),"",IF('Existing Conditions'!Y20>0.1,'Criteria look-up'!$H$3,IF('Existing Conditions'!Y20>=0.05,'Criteria look-up'!$H$4,IF('Existing Conditions'!Y20>=0.02,'Criteria look-up'!$H$5,'Criteria look-up'!$H$6))))
B16: Value coding of current design information - this is calculated automatically | C16: Peak hour traffic flow | D16: =IFERROR(INDEX('Criteria look-up'!$A$3:$A$6,MATCH(D9,'Criteria look-up'!$B$3:$B$6,0),0),"") | E16: =IFERROR(INDEX('Criteria look-up'!$A$3:$A$6,MATCH(E9,'Criteria look-up'!$B$3:$B$6,0),0),"") | F16: =IFERROR(INDEX('Criteria look-up'!$A$3:$A$6,MATCH(F9,'Criteria look-up'!$B$3:$B$6,0),0),"") | G16: =IFERROR(INDEX('Criteria look-up'!$A$3:$A$6,MATCH(G9,'Criteria look-up'!$B$3:$B$6,0),0),"") | H16: =IFERROR(INDEX('Criteria look-up'!$A$3:$A$6,MATCH(H9,'Criteria look-up'!$B$3:$B$6,0),0),"") | I16: =IFERROR(INDEX('Criteria look-up'!$A$3:$A$6,MATCH(I9,'Criteria look-up'!$B$3:$B$6,0),0),"") | J16: =IFERROR(INDEX('Criteria look-up'!$A$3:$A$6,MATCH(J9,'Criteria look-up'!$B$3:$B$6,0),0),"") | K16: =IFERROR(INDEX('Criteria look-up'!$A$3:$A$6,MATCH(K9,'Criteria look-up'!$B$3:$B$6,0),0),"") | ... W16: =IFERROR(INDEX('Criteria look-up'!$A$3:$A$6,MATCH(W9,'Criteria look-up'!$B$3:$B$6,0),0),"")
C17: Average 85th %ile speed (mph) | D17: =IFERROR(INDEX('Criteria look-up'!$A$3:$A$7,MATCH(D10,'Criteria look-up'!$C$3:$C$7,0),0),"") | E17: =IFERROR(INDEX('Criteria look-up'!$A$3:$A$7,MATCH(E10,'Criteria look-up'!$C$3:$C$7,0),0),"") | F17: =IFERROR(INDEX('Criteria look-up'!$A$3:$A$7,MATCH(F10,'Criteria look-up'!$C$3:$C$7,0),0),"") | G17: =IFERROR(INDEX('Criteria look-up'!$A$3:$A$7,MATCH(G10,'Criteria look-up'!$C$3:$C$7,0),0),"") | H17: =IFERROR(INDEX('Criteria look-up'!$A$3:$A$7,MATCH(H10,'Criteria look-up'!$C$3:$C$7,0),0),"") | I17: =IFERROR(INDEX('Criteria look-up'!$A$3:$A$7,MATCH(I10,'Criteria look-up'!$C$3:$C$7,0),0),"") | J17: =IFERROR(INDEX('Criteria look-up'!$A$3:$A$7,MATCH(J10,'Criteria look-up'!$C$3:$C$7,0),0),"") | K17: =IFERROR(INDEX('Criteria look-up'!$A$3:$A$7,MATCH(K10,'Criteria look-up'!$C$3:$C$7,0),0),"") | ... W17: =IFERROR(INDEX('Criteria look-up'!$A$3:$A$7,MATCH(W10,'Criteria look-up'!$C$3:$C$7,0),0),"")
C18: Effective width (metres) | D18: =IFERROR(INDEX('Criteria look-up'!$A$3:$A$6,MATCH(D11,'Criteria look-up'!$D$3:$D$6,0),0),"") | E18: =IFERROR(INDEX('Criteria look-up'!$A$3:$A$6,MATCH(E11,'Criteria look-up'!$D$3:$D$6,0),0),"") | F18: =IFERROR(INDEX('Criteria look-up'!$A$3:$A$6,MATCH(F11,'Criteria look-up'!$D$3:$D$6,0),0),"") | G18: =IFERROR(INDEX('Criteria look-up'!$A$3:$A$6,MATCH(G11,'Criteria look-up'!$D$3:$D$6,0),0),"") | H18: =IFERROR(INDEX('Criteria look-up'!$A$3:$A$6,MATCH(H11,'Criteria look-up'!$D$3:$D$6,0),0),"") | I18: =IFERROR(INDEX('Criteria look-up'!$A$3:$A$6,MATCH(I11,'Criteria look-up'!$D$3:$D$6,0),0),"") | J18: =IFERROR(INDEX('Criteria look-up'!$A$3:$A$6,MATCH(J11,'Criteria look-up'!$D$3:$D$6,0),0),"") | K18: =IFERROR(INDEX('Criteria look-up'!$A$3:$A$6,MATCH(K11,'Criteria look-up'!$D$3:$D$6,0),0),"") | ... W18: =IFERROR(INDEX('Criteria look-up'!$A$3:$A$6,MATCH(W11,'Criteria look-up'!$D$3:$D$6,0),0),"")
C19: Turning risk - does design fulfil criteria? | D19: =IFERROR(INDEX('Criteria look-up'!$A$3:$A$6,MATCH(D12,'Criteria look-up'!$E$3:$E$6,0),0),"") | E19: =IFERROR(INDEX('Criteria look-up'!$A$3:$A$6,MATCH(E12,'Criteria look-up'!$E$3:$E$6,0),0),"") | F19: =IFERROR(INDEX('Criteria look-up'!$A$3:$A$6,MATCH(F12,'Criteria look-up'!$E$3:$E$6,0),0),"") | G19: =IFERROR(INDEX('Criteria look-up'!$A$3:$A$6,MATCH(G12,'Criteria look-up'!$E$3:$E$6,0),0),"") | H19: =IFERROR(INDEX('Criteria look-up'!$A$3:$A$6,MATCH(H12,'Criteria look-up'!$E$3:$E$6,0),0),"") | I19: =IFERROR(INDEX('Criteria look-up'!$A$3:$A$6,MATCH(I12,'Criteria look-up'!$E$3:$E$6,0),0),"") | J19: =IFERROR(INDEX('Criteria look-up'!$A$3:$A$6,MATCH(J12,'Criteria look-up'!$E$3:$E$6,0),0),"") | K19: =IFERROR(INDEX('Criteria look-up'!$A$3:$A$6,MATCH(K12,'Criteria look-up'!$E$3:$E$6,0),0),"") | ... W19: =IFERROR(INDEX('Criteria look-up'!$A$3:$A$6,MATCH(W12,'Criteria look-up'!$E$3:$E$6,0),0),"")
C20: Kerbside activity - does design fulfil criteria | D20: =IFERROR(INDEX('Criteria look-up'!$A$3:$A$6,MATCH(D13,'Criteria look-up'!$G$3:$G$6,0),0),"") | E20: =IFERROR(INDEX('Criteria look-up'!$A$3:$A$6,MATCH(E13,'Criteria look-up'!$G$3:$G$6,0),0),"") | F20: =IFERROR(INDEX('Criteria look-up'!$A$3:$A$6,MATCH(F13,'Criteria look-up'!$G$3:$G$6,0),0),"") | G20: =IFERROR(INDEX('Criteria look-up'!$A$3:$A$6,MATCH(G13,'Criteria look-up'!$G$3:$G$6,0),0),"") | H20: =IFERROR(INDEX('Criteria look-up'!$A$3:$A$6,MATCH(H13,'Criteria look-up'!$G$3:$G$6,0),0),"") | I20: =IFERROR(INDEX('Criteria look-up'!$A$3:$A$6,MATCH(I13,'Criteria look-up'!$G$3:$G$6,0),0),"") | J20: =IFERROR(INDEX('Criteria look-up'!$A$3:$A$6,MATCH(J13,'Criteria look-up'!$G$3:$G$6,0),0),"") | K20: =IFERROR(INDEX('Criteria look-up'!$A$3:$A$6,MATCH(K13,'Criteria look-up'!$G$3:$G$6,0),0),"") | ... W20: =IFERROR(INDEX('Criteria look-up'!$A$3:$A$6,MATCH(W13,'Criteria look-up'!$G$3:$G$6,0),0),"")
C21: Average % HGV volume (7am-7pm) | D21: =IFERROR(INDEX('Criteria look-up'!$A$3:$A$6,MATCH(D14,'Criteria look-up'!$H$3:$H$6,0),0),"") | E21: =IFERROR(INDEX('Criteria look-up'!$A$3:$A$6,MATCH(E14,'Criteria look-up'!$H$3:$H$6,0),0),"") | F21: =IFERROR(INDEX('Criteria look-up'!$A$3:$A$6,MATCH(F14,'Criteria look-up'!$H$3:$H$6,0),0),"") | G21: =IFERROR(INDEX('Criteria look-up'!$A$3:$A$6,MATCH(G14,'Criteria look-up'!$H$3:$H$6,0),0),"") | H21: =IFERROR(INDEX('Criteria look-up'!$A$3:$A$6,MATCH(H14,'Criteria look-up'!$H$3:$H$6,0),0),"") | I21: =IFERROR(INDEX('Criteria look-up'!$A$3:$A$6,MATCH(I14,'Criteria look-up'!$H$3:$H$6,0),0),"") | J21: =IFERROR(INDEX('Criteria look-up'!$A$3:$A$6,MATCH(J14,'Criteria look-up'!$H$3:$H$6,0),0),"") | K21: =IFERROR(INDEX('Criteria look-up'!$A$3:$A$6,MATCH(K14,'Criteria look-up'!$H$3:$H$6,0),0),"") | ... W21: =IFERROR(INDEX('Criteria look-up'!$A$3:$A$6,MATCH(W14,'Criteria look-up'!$H$3:$H$6,0),0),"")
C22: Unique ID | D22: =IFERROR(D16*100000+D17*10000+D18*1000+D19*100+D20*10+D21,"") | E22: =IFERROR(E16*100000+E17*10000+E18*1000+E19*100+E20*10+E21,"") | F22: =IFERROR(F16*100000+F17*10000+F18*1000+F19*100+F20*10+F21,"") | G22: =IFERROR(G16*100000+G17*10000+G18*1000+G19*100+G20*10+G21,"") | H22: =IFERROR(H16*100000+H17*10000+H18*1000+H19*100+H20*10+H21,"") | I22: =IFERROR(I16*100000+I17*10000+I18*1000+I19*100+I20*10+I21,"") | J22: =IFERROR(J16*100000+J17*10000+J18*1000+J19*100+J20*10+J21,"") | K22: =IFERROR(K16*100000+K17*10000+K18*1000+K19*100+K20*10+K21,"") | ... W22: =IFERROR(W16*100000+W17*10000+W18*1000+W19*100+W20*10+W21,"")
B24: Current design assessment | C24: Are existing conditions suitable for cyclists to be mixed with motor traffic? | D24: =IFERROR(IF(OR(D16=1,'Existing Conditions'!F19>=50,AND(('Existing Conditions'!F16-'Existing Conditions'!F17)<1,('Existing Conditions'!F16-'Existing Conditions'!F17)>0),'Existing Conditions'!F15>30,AND('Existing Conditions'!F14>=500,'Existing Conditions'!F17>0)),"No",INDEX('Combinations - Current'!$G$2:$G$3841,MATCH(D22,'Combinations - Current'!$O$2:$O$3841,0))),"") | E24: =IFERROR(IF(OR(E16=1,'Existing Conditions'!G19>=50,AND(('Existing Conditions'!G16-'Existing Conditions'!G17)<1,('Existing Conditions'!G16-'Existing Conditions'!G17)>0),'Existing Conditions'!G15>30,AND('Existing Conditions'!G14>=500,'Existing Conditions'!G17>0)),"No",INDEX('Combinations - Current'!$G$2:$G$3841,MATCH(E22,'Combinations - Current'!$O$2:$O$3841,0))),"") | F24: =IFERROR(IF(OR(F16=1,'Existing Conditions'!H19>=50,AND(('Existing Conditions'!H16-'Existing Conditions'!H17)<1,('Existing Conditions'!H16-'Existing Conditions'!H17)>0),'Existing Conditions'!H15>30,AND('Existing Conditions'!H14>=500,'Existing Conditions'!H17>0)),"No",INDEX('Combinations - Current'!$G$2:$G$3841,MATCH(F22,'Combinations - Current'!$O$2:$O$3841,0))),"") | G24: =IFERROR(IF(OR(G16=1,'Existing Conditions'!I19>=50,AND(('Existing Conditions'!I16-'Existing Conditions'!I17)<1,('Existing Conditions'!I16-'Existing Conditions'!I17)>0),'Existing Conditions'!I15>30,AND('Existing Conditions'!I14>=500,'Existing Conditions'!I17>0)),"No",INDEX('Combinations - Current'!$G$2:$G$3841,MATCH(G22,'Combinations - Current'!$O$2:$O$3841,0))),"") | H24: =IFERROR(IF(OR(H16=1,'Existing Conditions'!J19>=50,AND(('Existing Conditions'!J16-'Existing Conditions'!J17)<1,('Existing Conditions'!J16-'Existing Conditions'!J17)>0),'Existing Conditions'!J15>30,AND('Existing Conditions'!J14>=500,'Existing Conditions'!J17>0)),"No",INDEX('Combinations - Current'!$G$2:$G$3841,MATCH(H22,'Combinations - Current'!$O$2:$O$3841,0))),"") | I24: =IFERROR(IF(OR(I16=1,'Existing Conditions'!K19>=50,AND(('Existing Conditions'!K16-'Existing Conditions'!K17)<1,('Existing Conditions'!K16-'Existing Conditions'!K17)>0),'Existing Conditions'!K15>30,AND('Existing Conditions'!K14>=500,'Existing Conditions'!K17>0)),"No",INDEX('Combinations - Current'!$G$2:$G$3841,MATCH(I22,'Combinations - Current'!$O$2:$O$3841,0))),"") | J24: =IFERROR(IF(OR(J16=1,'Existing Conditions'!L19>=50,AND(('Existing Conditions'!L16-'Existing Conditions'!L17)<1,('Existing Conditions'!L16-'Existing Conditions'!L17)>0),'Existing Conditions'!L15>30,AND('Existing Conditions'!L14>=500,'Existing Conditions'!L17>0)),"No",INDEX('Combinations - Current'!$G$2:$G$3841,MATCH(J22,'Combinations - Current'!$O$2:$O$3841,0))),"") | K24: =IFERROR(IF(OR(K16=1,'Existing Conditions'!M19>=50,AND(('Existing Conditions'!M16-'Existing Conditions'!M17)<1,('Existing Conditions'!M16-'Existing Conditions'!M17)>0),'Existing Conditions'!M15>30,AND('Existing Conditions'!M14>=500,'Existing Conditions'!M17>0)),"No",INDEX('Combinations - Current'!$G$2:$G$3841,MATCH(K22,'Combinations - Current'!$O$2:$O$3841,0))),"") | ... W24: =IFERROR(IF(OR(W16=1,'Existing Conditions'!Y19>=50,AND(('Existing Conditions'!Y16-'Existing Conditions'!Y17)<1,('Existing Conditions'!Y16-'Existing Conditions'!Y17)>0),'Existing Conditions'!Y15>30,AND('Existing Conditions'!Y14>=500,'Existing Conditions'!Y17>0)),"No",INDEX('Combinations - Current'!$G$2:$G$3841,MATCH(W22,'Combinations - Current'!$O$2:$O$3841,0))),"")
B26: Value coding - Phase 2 | C26: Unique ID | D26: =D24&'Existing Conditions'!F24 | E26: =E24&'Existing Conditions'!G24 | F26: =F24&'Existing Conditions'!H24 | G26: =G24&'Existing Conditions'!I24 | H26: =H24&'Existing Conditions'!J24 | I26: =I24&'Existing Conditions'!K24 | J26: =J24&'Existing Conditions'!L24 | K26: =K24&'Existing Conditions'!M24 | ... W26: =W24&'Existing Conditions'!Y24
B28: Next steps for design | C28: Recommendation | D28: =IFERROR(INDEX('Combinations - Approach'!$E$2:$E$7,MATCH(D26,'Combinations - Approach'!$C$2:$C$7,0),0),"") | E28: =IFERROR(INDEX('Combinations - Approach'!$E$2:$E$7,MATCH(E26,'Combinations - Approach'!$C$2:$C$7,0),0),"") | F28: =IFERROR(INDEX('Combinations - Approach'!$E$2:$E$7,MATCH(F26,'Combinations - Approach'!$C$2:$C$7,0),0),"") | G28: =IFERROR(INDEX('Combinations - Approach'!$E$2:$E$7,MATCH(G26,'Combinations - Approach'!$C$2:$C$7,0),0),"") | H28: =IFERROR(INDEX('Combinations - Approach'!$E$2:$E$7,MATCH(H26,'Combinations - Approach'!$C$2:$C$7,0),0),"") | I28: =IFERROR(INDEX('Combinations - Approach'!$E$2:$E$7,MATCH(I26,'Combinations - Approach'!$C$2:$C$7,0),0),"") | J28: =IFERROR(INDEX('Combinations - Approach'!$E$2:$E$7,MATCH(J26,'Combinations - Approach'!$C$2:$C$7,0),0),"") | K28: =IFERROR(INDEX('Combinations - Approach'!$E$2:$E$7,MATCH(K26,'Combinations - Approach'!$C$2:$C$7,0),0),"") | ... W28: =IFERROR(INDEX('Combinations - Approach'!$E$2:$E$7,MATCH(W26,'Combinations - Approach'!$C$2:$C$7,0),0),"")
B30: Categorisation of potential design information - this is calculated automatically | C30: Type of cycle lane or track proposed | D30: =IF('Existing Conditions'!F27="","",'Existing Conditions'!F27) | E30: =IF('Existing Conditions'!G27="","",'Existing Conditions'!G27) | F30: =IF('Existing Conditions'!H27="","",'Existing Conditions'!H27) | G30: =IF('Existing Conditions'!I27="","",'Existing Conditions'!I27) | H30: =IF('Existing Conditions'!J27="","",'Existing Conditions'!J27) | I30: =IF('Existing Conditions'!K27="","",'Existing Conditions'!K27) | J30: =IF('Existing Conditions'!L27="","",'Existing Conditions'!L27) | K30: =IF('Existing Conditions'!M27="","",'Existing Conditions'!M27) | ... W30: =IF('Existing Conditions'!Y27="","",'Existing Conditions'!Y27)
C31: Proposed width of shared use/one-way lane or track (m) | D31: =IF('Existing Conditions'!F27="","",IF('Existing Conditions'!F27='Criteria look-up'!$L$3,IF('Existing Conditions'!F28<1.5,'Criteria look-up'!$M$3,IF('Existing Conditions'!F28<2.2,'Criteria look-up'!$M$4,'Criteria look-up'!$M$5)),IF('Existing Conditions'!F27='Criteria look-up'!$L$5,IF('Existing Conditions'!F28<2.2,'Criteria look-up'!$M$6,IF('Existing Conditions'!F28<3,'Criteria look-up'!$M$7,'Criteria look-up'!$M$8)),'Criteria look-up'!$M$9))) | E31: =IF('Existing Conditions'!G27="","",IF('Existing Conditions'!G27='Criteria look-up'!$L$3,IF('Existing Conditions'!G28<1.5,'Criteria look-up'!$M$3,IF('Existing Conditions'!G28<2.2,'Criteria look-up'!$M$4,'Criteria look-up'!$M$5)),IF('Existing Conditions'!G27='Criteria look-up'!$L$5,IF('Existing Conditions'!G28<2.2,'Criteria look-up'!$M$6,IF('Existing Conditions'!G28<3,'Criteria look-up'!$M$7,'Criteria look-up'!$M$8)),'Criteria look-up'!$M$9))) | F31: =IF('Existing Conditions'!H27="","",IF('Existing Conditions'!H27='Criteria look-up'!$L$3,IF('Existing Conditions'!H28<1.5,'Criteria look-up'!$M$3,IF('Existing Conditions'!H28<2.2,'Criteria look-up'!$M$4,'Criteria look-up'!$M$5)),IF('Existing Conditions'!H27='Criteria look-up'!$L$5,IF('Existing Conditions'!H28<2.2,'Criteria look-up'!$M$6,IF('Existing Conditions'!H28<3,'Criteria look-up'!$M$7,'Criteria look-up'!$M$8)),'Criteria look-up'!$M$9))) | G31: =IF('Existing Conditions'!I27="","",IF('Existing Conditions'!I27='Criteria look-up'!$L$3,IF('Existing Conditions'!I28<1.5,'Criteria look-up'!$M$3,IF('Existing Conditions'!I28<2.2,'Criteria look-up'!$M$4,'Criteria look-up'!$M$5)),IF('Existing Conditions'!I27='Criteria look-up'!$L$5,IF('Existing Conditions'!I28<2.2,'Criteria look-up'!$M$6,IF('Existing Conditions'!I28<3,'Criteria look-up'!$M$7,'Criteria look-up'!$M$8)),'Criteria look-up'!$M$9))) | H31: =IF('Existing Conditions'!J27="","",IF('Existing Conditions'!J27='Criteria look-up'!$L$3,IF('Existing Conditions'!J28<1.5,'Criteria look-up'!$M$3,IF('Existing Conditions'!J28<2.2,'Criteria look-up'!$M$4,'Criteria look-up'!$M$5)),IF('Existing Conditions'!J27='Criteria look-up'!$L$5,IF('Existing Conditions'!J28<2.2,'Criteria look-up'!$M$6,IF('Existing Conditions'!J28<3,'Criteria look-up'!$M$7,'Criteria look-up'!$M$8)),'Criteria look-up'!$M$9))) | I31: =IF('Existing Conditions'!K27="","",IF('Existing Conditions'!K27='Criteria look-up'!$L$3,IF('Existing Conditions'!K28<1.5,'Criteria look-up'!$M$3,IF('Existing Conditions'!K28<2.2,'Criteria look-up'!$M$4,'Criteria look-up'!$M$5)),IF('Existing Conditions'!K27='Criteria look-up'!$L$5,IF('Existing Conditions'!K28<2.2,'Criteria look-up'!$M$6,IF('Existing Conditions'!K28<3,'Criteria look-up'!$M$7,'Criteria look-up'!$M$8)),'Criteria look-up'!$M$9))) | J31: =IF('Existing Conditions'!L27="","",IF('Existing Conditions'!L27='Criteria look-up'!$L$3,IF('Existing Conditions'!L28<1.5,'Criteria look-up'!$M$3,IF('Existing Conditions'!L28<2.2,'Criteria look-up'!$M$4,'Criteria look-up'!$M$5)),IF('Existing Conditions'!L27='Criteria look-up'!$L$5,IF('Existing Conditions'!L28<2.2,'Criteria look-up'!$M$6,IF('Existing Conditions'!L28<3,'Criteria look-up'!$M$7,'Criteria look-up'!$M$8)),'Criteria look-up'!$M$9))) | K31: =IF('Existing Conditions'!M27="","",IF('Existing Conditions'!M27='Criteria look-up'!$L$3,IF('Existing Conditions'!M28<1.5,'Criteria look-up'!$M$3,IF('Existing Conditions'!M28<2.2,'Criteria look-up'!$M$4,'Criteria look-up'!$M$5)),IF('Existing Conditions'!M27='Criteria look-up'!$L$5,IF('Existing Conditions'!M28<2.2,'Criteria look-up'!$M$6,IF('Existing Conditions'!M28<3,'Criteria look-up'!$M$7,'Criteria look-up'!$M$8)),'Criteria look-up'!$M$9))) | ... W31: =IF('Existing Conditions'!Y27="","",IF('Existing Conditions'!Y27='Criteria look-up'!$L$3,IF('Existing Conditions'!Y28<1.5,'Criteria look-up'!$M$3,IF('Existing Conditions'!Y28<2.2,'Criteria look-up'!$M$4,'Criteria look-up'!$M$5)),IF('Existing Conditions'!Y27='Criteria look-up'!$L$5,IF('Existing Conditions'!Y28<2.2,'Criteria look-up'!$M$6,IF('Existing Conditions'!Y28<3,'Criteria look-up'!$M$7,'Criteria look-up'!$M$8)),'Criteria look-up'!$M$9)))
C32: Proposed width of two-way lane or track (m) | D32: =IF('Existing Conditions'!F27="","",IF('Existing Conditions'!F27='Criteria look-up'!$L$4,IF('Existing Conditions'!F28<2,'Criteria look-up'!$N$3,IF('Existing Conditions'!F28<3,'Criteria look-up'!$N$4,'Criteria look-up'!$N$5)),'Criteria look-up'!$N$6)) | E32: =IF('Existing Conditions'!G27="","",IF('Existing Conditions'!G27='Criteria look-up'!$L$4,IF('Existing Conditions'!G28<2,'Criteria look-up'!$N$3,IF('Existing Conditions'!G28<3,'Criteria look-up'!$N$4,'Criteria look-up'!$N$5)),'Criteria look-up'!$N$6)) | F32: =IF('Existing Conditions'!H27="","",IF('Existing Conditions'!H27='Criteria look-up'!$L$4,IF('Existing Conditions'!H28<2,'Criteria look-up'!$N$3,IF('Existing Conditions'!H28<3,'Criteria look-up'!$N$4,'Criteria look-up'!$N$5)),'Criteria look-up'!$N$6)) | G32: =IF('Existing Conditions'!I27="","",IF('Existing Conditions'!I27='Criteria look-up'!$L$4,IF('Existing Conditions'!I28<2,'Criteria look-up'!$N$3,IF('Existing Conditions'!I28<3,'Criteria look-up'!$N$4,'Criteria look-up'!$N$5)),'Criteria look-up'!$N$6)) | H32: =IF('Existing Conditions'!J27="","",IF('Existing Conditions'!J27='Criteria look-up'!$L$4,IF('Existing Conditions'!J28<2,'Criteria look-up'!$N$3,IF('Existing Conditions'!J28<3,'Criteria look-up'!$N$4,'Criteria look-up'!$N$5)),'Criteria look-up'!$N$6)) | I32: =IF('Existing Conditions'!K27="","",IF('Existing Conditions'!K27='Criteria look-up'!$L$4,IF('Existing Conditions'!K28<2,'Criteria look-up'!$N$3,IF('Existing Conditions'!K28<3,'Criteria look-up'!$N$4,'Criteria look-up'!$N$5)),'Criteria look-up'!$N$6)) | J32: =IF('Existing Conditions'!L27="","",IF('Existing Conditions'!L27='Criteria look-up'!$L$4,IF('Existing Conditions'!L28<2,'Criteria look-up'!$N$3,IF('Existing Conditions'!L28<3,'Criteria look-up'!$N$4,'Criteria look-up'!$N$5)),'Criteria look-up'!$N$6)) | K32: =IF('Existing Conditions'!M27="","",IF('Existing Conditions'!M27='Criteria look-up'!$L$4,IF('Existing Conditions'!M28<2,'Criteria look-up'!$N$3,IF('Existing Conditions'!M28<3,'Criteria look-up'!$N$4,'Criteria look-up'!$N$5)),'Criteria look-up'!$N$6)) | ... W32: =IF('Existing Conditions'!Y27="","",IF('Existing Conditions'!Y27='Criteria look-up'!$L$4,IF('Existing Conditions'!Y28<2,'Criteria look-up'!$N$3,IF('Existing Conditions'!Y28<3,'Criteria look-up'!$N$4,'Criteria look-up'!$N$5)),'Criteria look-up'!$N$6))
C33: Proposed buffer zone width adjacent to kerbside activity where a cycle lane is provided (m) | D33: =IF('Existing Conditions'!F29="","",IF('Existing Conditions'!F27='Criteria look-up'!$L$5,'Criteria look-up'!$O$5,IF('Existing Conditions'!F29<0.5,'Criteria look-up'!$O$3,'Criteria look-up'!$O$4))) | E33: =IF('Existing Conditions'!G29="","",IF('Existing Conditions'!G27='Criteria look-up'!$L$5,'Criteria look-up'!$O$5,IF('Existing Conditions'!G29<0.5,'Criteria look-up'!$O$3,'Criteria look-up'!$O$4))) | F33: =IF('Existing Conditions'!H29="","",IF('Existing Conditions'!H27='Criteria look-up'!$L$5,'Criteria look-up'!$O$5,IF('Existing Conditions'!H29<0.5,'Criteria look-up'!$O$3,'Criteria look-up'!$O$4))) | G33: =IF('Existing Conditions'!I29="","",IF('Existing Conditions'!I27='Criteria look-up'!$L$5,'Criteria look-up'!$O$5,IF('Existing Conditions'!I29<0.5,'Criteria look-up'!$O$3,'Criteria look-up'!$O$4))) | H33: =IF('Existing Conditions'!J29="","",IF('Existing Conditions'!J27='Criteria look-up'!$L$5,'Criteria look-up'!$O$5,IF('Existing Conditions'!J29<0.5,'Criteria look-up'!$O$3,'Criteria look-up'!$O$4))) | I33: =IF('Existing Conditions'!K29="","",IF('Existing Conditions'!K27='Criteria look-up'!$L$5,'Criteria look-up'!$O$5,IF('Existing Conditions'!K29<0.5,'Criteria look-up'!$O$3,'Criteria look-up'!$O$4))) | J33: =IF('Existing Conditions'!L29="","",IF('Existing Conditions'!L27='Criteria look-up'!$L$5,'Criteria look-up'!$O$5,IF('Existing Conditions'!L29<0.5,'Criteria look-up'!$O$3,'Criteria look-up'!$O$4))) | K33: =IF('Existing Conditions'!M29="","",IF('Existing Conditions'!M27='Criteria look-up'!$L$5,'Criteria look-up'!$O$5,IF('Existing Conditions'!M29<0.5,'Criteria look-up'!$O$3,'Criteria look-up'!$O$4))) | ... W33: =IF('Existing Conditions'!Y29="","",IF('Existing Conditions'!Y27='Criteria look-up'!$L$5,'Criteria look-up'!$O$5,IF('Existing Conditions'!Y29<0.5,'Criteria look-up'!$O$3,'Criteria look-up'!$O$4)))
C34: Turning risk - does the design provide a cycle early release signal at signal controlled junctions? | D34: =IF('Existing Conditions'!F30="","",'Existing Conditions'!F30) | E34: =IF('Existing Conditions'!G30="","",'Existing Conditions'!G30) | F34: =IF('Existing Conditions'!H30="","",'Existing Conditions'!H30) | G34: =IF('Existing Conditions'!I30="","",'Existing Conditions'!I30) | H34: =IF('Existing Conditions'!J30="","",'Existing Conditions'!J30) | I34: =IF('Existing Conditions'!K30="","",'Existing Conditions'!K30) | J34: =IF('Existing Conditions'!L30="","",'Existing Conditions'!L30) | K34: =IF('Existing Conditions'!M30="","",'Existing Conditions'!M30) | ... W34: =IF('Existing Conditions'!Y30="","",'Existing Conditions'!Y30)
C35: Turning risk - are conflicting movements between cycle traffic and motor traffic separated with dedicated signals for cycles? | D35: =IF('Existing Conditions'!F31="","",'Existing Conditions'!F31) | E35: =IF('Existing Conditions'!G31="","",'Existing Conditions'!G31) | F35: =IF('Existing Conditions'!H31="","",'Existing Conditions'!H31) | G35: =IF('Existing Conditions'!I31="","",'Existing Conditions'!I31) | H35: =IF('Existing Conditions'!J31="","",'Existing Conditions'!J31) | I35: =IF('Existing Conditions'!K31="","",'Existing Conditions'!K31) | J35: =IF('Existing Conditions'!L31="","",'Existing Conditions'!L31) | K35: =IF('Existing Conditions'!M31="","",'Existing Conditions'!M31) | ... W35: =IF('Existing Conditions'!Y31="","",'Existing Conditions'!Y31)
B37: Value coding of potential design information - this is calculated automatically | C37: Type of cycle lane or track proposed | D37: =IFERROR(INDEX('Criteria look-up'!$A$3:$A$6,MATCH(D30,'Criteria look-up'!$L$3:$L$6,0),0),"") | E37: =IFERROR(INDEX('Criteria look-up'!$A$3:$A$6,MATCH(E30,'Criteria look-up'!$L$3:$L$6,0),0),"") | F37: =IFERROR(INDEX('Criteria look-up'!$A$3:$A$6,MATCH(F30,'Criteria look-up'!$L$3:$L$6,0),0),"") | G37: =IFERROR(INDEX('Criteria look-up'!$A$3:$A$6,MATCH(G30,'Criteria look-up'!$L$3:$L$6,0),0),"") | H37: =IFERROR(INDEX('Criteria look-up'!$A$3:$A$6,MATCH(H30,'Criteria look-up'!$L$3:$L$6,0),0),"") | I37: =IFERROR(INDEX('Criteria look-up'!$A$3:$A$6,MATCH(I30,'Criteria look-up'!$L$3:$L$6,0),0),"") | J37: =IFERROR(INDEX('Criteria look-up'!$A$3:$A$6,MATCH(J30,'Criteria look-up'!$L$3:$L$6,0),0),"") | K37: =IFERROR(INDEX('Criteria look-up'!$A$3:$A$6,MATCH(K30,'Criteria look-up'!$L$3:$L$6,0),0),"") | ... W37: =IFERROR(INDEX('Criteria look-up'!$A$3:$A$6,MATCH(W30,'Criteria look-up'!$L$3:$L$6,0),0),"")
C38: Proposed width of shared space/one-way lane or track (m) | D38: =IFERROR(INDEX('Criteria look-up'!$A$3:$A$9,MATCH(D31,'Criteria look-up'!$M$3:$M$9,0),0),"") | E38: =IFERROR(INDEX('Criteria look-up'!$A$3:$A$9,MATCH(E31,'Criteria look-up'!$M$3:$M$9,0),0),"") | F38: =IFERROR(INDEX('Criteria look-up'!$A$3:$A$9,MATCH(F31,'Criteria look-up'!$M$3:$M$9,0),0),"") | G38: =IFERROR(INDEX('Criteria look-up'!$A$3:$A$9,MATCH(G31,'Criteria look-up'!$M$3:$M$9,0),0),"") | H38: =IFERROR(INDEX('Criteria look-up'!$A$3:$A$9,MATCH(H31,'Criteria look-up'!$M$3:$M$9,0),0),"") | I38: =IFERROR(INDEX('Criteria look-up'!$A$3:$A$9,MATCH(I31,'Criteria look-up'!$M$3:$M$9,0),0),"") | J38: =IFERROR(INDEX('Criteria look-up'!$A$3:$A$9,MATCH(J31,'Criteria look-up'!$M$3:$M$9,0),0),"") | K38: =IFERROR(INDEX('Criteria look-up'!$A$3:$A$9,MATCH(K31,'Criteria look-up'!$M$3:$M$9,0),0),"") | ... W38: =IFERROR(INDEX('Criteria look-up'!$A$3:$A$9,MATCH(W31,'Criteria look-up'!$M$3:$M$9,0),0),"")
C39: Proposed width of two-way lane or track (m) | D39: =IFERROR(INDEX('Criteria look-up'!$A$3:$A$6,MATCH(D32,'Criteria look-up'!$N$3:$N$6,0),0),"") | E39: =IFERROR(INDEX('Criteria look-up'!$A$3:$A$6,MATCH(E32,'Criteria look-up'!$N$3:$N$6,0),0),"") | F39: =IFERROR(INDEX('Criteria look-up'!$A$3:$A$6,MATCH(F32,'Criteria look-up'!$N$3:$N$6,0),0),"") | G39: =IFERROR(INDEX('Criteria look-up'!$A$3:$A$6,MATCH(G32,'Criteria look-up'!$N$3:$N$6,0),0),"") | H39: =IFERROR(INDEX('Criteria look-up'!$A$3:$A$6,MATCH(H32,'Criteria look-up'!$N$3:$N$6,0),0),"") | I39: =IFERROR(INDEX('Criteria look-up'!$A$3:$A$6,MATCH(I32,'Criteria look-up'!$N$3:$N$6,0),0),"") | J39: =IFERROR(INDEX('Criteria look-up'!$A$3:$A$6,MATCH(J32,'Criteria look-up'!$N$3:$N$6,0),0),"") | K39: =IFERROR(INDEX('Criteria look-up'!$A$3:$A$6,MATCH(K32,'Criteria look-up'!$N$3:$N$6,0),0),"") | ... W39: =IFERROR(INDEX('Criteria look-up'!$A$3:$A$6,MATCH(W32,'Criteria look-up'!$N$3:$N$6,0),0),"")
C40: Proposed buffer zone width adjacent to kerbside activity where a cycle lane is provided (m) | D40: =IFERROR(INDEX('Criteria look-up'!$A$3:$A$6,MATCH(D33,'Criteria look-up'!$O$3:$O$6,0),0),"") | E40: =IFERROR(INDEX('Criteria look-up'!$A$3:$A$6,MATCH(E33,'Criteria look-up'!$O$3:$O$6,0),0),"") | F40: =IFERROR(INDEX('Criteria look-up'!$A$3:$A$6,MATCH(F33,'Criteria look-up'!$O$3:$O$6,0),0),"") | G40: =IFERROR(INDEX('Criteria look-up'!$A$3:$A$6,MATCH(G33,'Criteria look-up'!$O$3:$O$6,0),0),"") | H40: =IFERROR(INDEX('Criteria look-up'!$A$3:$A$6,MATCH(H33,'Criteria look-up'!$O$3:$O$6,0),0),"") | I40: =IFERROR(INDEX('Criteria look-up'!$A$3:$A$6,MATCH(I33,'Criteria look-up'!$O$3:$O$6,0),0),"") | J40: =IFERROR(INDEX('Criteria look-up'!$A$3:$A$6,MATCH(J33,'Criteria look-up'!$O$3:$O$6,0),0),"") | K40: =IFERROR(INDEX('Criteria look-up'!$A$3:$A$6,MATCH(K33,'Criteria look-up'!$O$3:$O$6,0),0),"") | ... W40: =IFERROR(INDEX('Criteria look-up'!$A$3:$A$6,MATCH(W33,'Criteria look-up'!$O$3:$O$6,0),0),"")
C41: Turning risk - does the design provide a cycle early release signal at signal controlled junctions? | D41: =IFERROR(INDEX('Criteria look-up'!$A$3:$A$6,MATCH(D34,'Criteria look-up'!$P$3:$P$6,0),0),"") | E41: =IFERROR(INDEX('Criteria look-up'!$A$3:$A$6,MATCH(E34,'Criteria look-up'!$P$3:$P$6,0),0),"") | F41: =IFERROR(INDEX('Criteria look-up'!$A$3:$A$6,MATCH(F34,'Criteria look-up'!$P$3:$P$6,0),0),"") | G41: =IFERROR(INDEX('Criteria look-up'!$A$3:$A$6,MATCH(G34,'Criteria look-up'!$P$3:$P$6,0),0),"") | H41: =IFERROR(INDEX('Criteria look-up'!$A$3:$A$6,MATCH(H34,'Criteria look-up'!$P$3:$P$6,0),0),"") | I41: =IFERROR(INDEX('Criteria look-up'!$A$3:$A$6,MATCH(I34,'Criteria look-up'!$P$3:$P$6,0),0),"") | J41: =IFERROR(INDEX('Criteria look-up'!$A$3:$A$6,MATCH(J34,'Criteria look-up'!$P$3:$P$6,0),0),"") | K41: =IFERROR(INDEX('Criteria look-up'!$A$3:$A$6,MATCH(K34,'Criteria look-up'!$P$3:$P$6,0),0),"") | ... W41: =IFERROR(INDEX('Criteria look-up'!$A$3:$A$6,MATCH(W34,'Criteria look-up'!$P$3:$P$6,0),0),"")
C42: Turning risk - are conflicting movements between cycle traffic and motor traffic separated with dedicated signals for cycles? | D42: =IFERROR(INDEX('Criteria look-up'!$A$3:$A$6,MATCH(D35,'Criteria look-up'!$Q$3:$Q$6,0),0),"") | E42: =IFERROR(INDEX('Criteria look-up'!$A$3:$A$6,MATCH(E35,'Criteria look-up'!$Q$3:$Q$6,0),0),"") | F42: =IFERROR(INDEX('Criteria look-up'!$A$3:$A$6,MATCH(F35,'Criteria look-up'!$Q$3:$Q$6,0),0),"") | G42: =IFERROR(INDEX('Criteria look-up'!$A$3:$A$6,MATCH(G35,'Criteria look-up'!$Q$3:$Q$6,0),0),"") | H42: =IFERROR(INDEX('Criteria look-up'!$A$3:$A$6,MATCH(H35,'Criteria look-up'!$Q$3:$Q$6,0),0),"") | I42: =IFERROR(INDEX('Criteria look-up'!$A$3:$A$6,MATCH(I35,'Criteria look-up'!$Q$3:$Q$6,0),0),"") | J42: =IFERROR(INDEX('Criteria look-up'!$A$3:$A$6,MATCH(J35,'Criteria look-up'!$Q$3:$Q$6,0),0),"") | K42: =IFERROR(INDEX('Criteria look-up'!$A$3:$A$6,MATCH(K35,'Criteria look-up'!$Q$3:$Q$6,0),0),"") | ... W42: =IFERROR(INDEX('Criteria look-up'!$A$3:$A$6,MATCH(W35,'Criteria look-up'!$Q$3:$Q$6,0),0),"")
C43: Unique ID | D43: =IFERROR(D37*100000+D38*10000+D39*1000+D40*100+D41*10+D42,"") | E43: =IFERROR(E37*100000+E38*10000+E39*1000+E40*100+E41*10+E42,"") | F43: =IFERROR(F37*100000+F38*10000+F39*1000+F40*100+F41*10+F42,"") | G43: =IFERROR(G37*100000+G38*10000+G39*1000+G40*100+G41*10+G42,"") | H43: =IFERROR(H37*100000+H38*10000+H39*1000+H40*100+H41*10+H42,"") | I43: =IFERROR(I37*100000+I38*10000+I39*1000+I40*100+I41*10+I42,"") | J43: =IFERROR(J37*100000+J38*10000+J39*1000+J40*100+J41*10+J42,"") | K43: =IFERROR(K37*100000+K38*10000+K39*1000+K40*100+K41*10+K42,"") | ... W43: =IFERROR(W37*100000+W38*10000+W39*1000+W40*100+W41*10+W42,"")
B45: Design guidance | D45: =IFERROR(INDEX('Combinations - Potential'!$G$2:$G$1729,MATCH(D43,'Combinations - Potential'!$O$2:$O$1729,0),0),"") | E45: =IFERROR(INDEX('Combinations - Potential'!$G$2:$G$1729,MATCH(E43,'Combinations - Potential'!$O$2:$O$1729,0),0),"") | F45: =IFERROR(INDEX('Combinations - Potential'!$G$2:$G$1729,MATCH(F43,'Combinations - Potential'!$O$2:$O$1729,0),0),"") | G45: =IFERROR(INDEX('Combinations - Potential'!$G$2:$G$1729,MATCH(G43,'Combinations - Potential'!$O$2:$O$1729,0),0),"") | H45: =IFERROR(INDEX('Combinations - Potential'!$G$2:$G$1729,MATCH(H43,'Combinations - Potential'!$O$2:$O$1729,0),0),"") | I45: =IFERROR(INDEX('Combinations - Potential'!$G$2:$G$1729,MATCH(I43,'Combinations - Potential'!$O$2:$O$1729,0),0),"") | J45: =IFERROR(INDEX('Combinations - Potential'!$G$2:$G$1729,MATCH(J43,'Combinations - Potential'!$O$2:$O$1729,0),0),"") | K45: =IFERROR(INDEX('Combinations - Potential'!$G$2:$G$1729,MATCH(K43,'Combinations - Potential'!$O$2:$O$1729,0),0),"") | ... W45: =IFERROR(INDEX('Combinations - Potential'!$G$2:$G$1729,MATCH(W43,'Combinations - Potential'!$O$2:$O$1729,0),0),"")

Sheet Calculations - Proposed
D2: Link 1 | E2: Link 2 | F2: Link 3 | G2: Link 4 | H2: Link 5 | I2: Link 6 | J2: Link 7 | K2: Link 8 | L2: Link 9 | M2: Link 10 | N2: Link 11 | O2: Link 12 | P2: Link 13 | Q2: Link 14 | R2: Link 15 | S2: Link 16 | T2: Link 17 | U2: Link 18 | V2: Link 19 | W2: Link 20
B3: Route information | C3: Route | D3: =IF('Proposed Design'!F6="","",'Proposed Design'!F6) | E3: =IF('Proposed Design'!G6="","",'Proposed Design'!G6) | F3: =IF('Proposed Design'!H6="","",'Proposed Design'!H6) | G3: =IF('Proposed Design'!I6="","",'Proposed Design'!I6) | H3: =IF('Proposed Design'!J6="","",'Proposed Design'!J6) | I3: =IF('Proposed Design'!K6="","",'Proposed Design'!K6) | J3: =IF('Proposed Design'!L6="","",'Proposed Design'!L6) | K3: =IF('Proposed Design'!M6="","",'Proposed Design'!M6) | ... W3: =IF('Proposed Design'!Y6="","",'Proposed Design'!Y6)
C4: Borough | D4: =IF('Proposed Design'!F7="","",'Proposed Design'!F7) | E4: =IF('Proposed Design'!G7="","",'Proposed Design'!G7) | F4: =IF('Proposed Design'!H7="","",'Proposed Design'!H7) | G4: =IF('Proposed Design'!I7="","",'Proposed Design'!I7) | H4: =IF('Proposed Design'!J7="","",'Proposed Design'!J7) | I4: =IF('Proposed Design'!K7="","",'Proposed Design'!K7) | J4: =IF('Proposed Design'!L7="","",'Proposed Design'!L7) | K4: =IF('Proposed Design'!M7="","",'Proposed Design'!M7) | ... W4: =IF('Proposed Design'!Y7="","",'Proposed Design'!Y7)
C5: Project Number | D5: =IF('Proposed Design'!F8="","",'Proposed Design'!F8) | E5: =IF('Proposed Design'!G8="","",'Proposed Design'!G8) | F5: =IF('Proposed Design'!H8="","",'Proposed Design'!H8) | G5: =IF('Proposed Design'!I8="","",'Proposed Design'!I8) | H5: =IF('Proposed Design'!J8="","",'Proposed Design'!J8) | I5: =IF('Proposed Design'!K8="","",'Proposed Design'!K8) | J5: =IF('Proposed Design'!L8="","",'Proposed Design'!L8) | K5: =IF('Proposed Design'!M8="","",'Proposed Design'!M8) | ... W5: =IF('Proposed Design'!Y8="","",'Proposed Design'!Y8)
C6: Location | D6: =IF('Proposed Design'!F9="","",'Proposed Design'!F9) | E6: =IF('Proposed Design'!G9="","",'Proposed Design'!G9) | F6: =IF('Proposed Design'!H9="","",'Proposed Design'!H9) | G6: =IF('Proposed Design'!I9="","",'Proposed Design'!I9) | H6: =IF('Proposed Design'!J9="","",'Proposed Design'!J9) | I6: =IF('Proposed Design'!K9="","",'Proposed Design'!K9) | J6: =IF('Proposed Design'!L9="","",'Proposed Design'!L9) | K6: =IF('Proposed Design'!M9="","",'Proposed Design'!M9) | ... W6: =IF('Proposed Design'!Y9="","",'Proposed Design'!Y9)
C7: Scheme Status | D7: =IF('Proposed Design'!F11="","",'Proposed Design'!F11) | E7: =IF('Proposed Design'!G11="","",'Proposed Design'!G11) | F7: =IF('Proposed Design'!H11="","",'Proposed Design'!H11) | G7: =IF('Proposed Design'!I11="","",'Proposed Design'!I11) | H7: =IF('Proposed Design'!J11="","",'Proposed Design'!J11) | I7: =IF('Proposed Design'!K11="","",'Proposed Design'!K11) | J7: =IF('Proposed Design'!L11="","",'Proposed Design'!L11) | K7: =IF('Proposed Design'!M11="","",'Proposed Design'!M11) | ... W7: =IF('Proposed Design'!Y11="","",'Proposed Design'!Y11)
B9: Categorisation of current design information - this is calculated automatically | C9: Peak hour traffic flow | D9: =IF(OR('Proposed Design'!F14="",'Proposed Design'!F13=""),"",IF('Proposed Design'!F13="Two-way",IF('Proposed Design'!F14>1000,'Criteria look-up'!$B$3,IF('Proposed Design'!F14>=500,'Criteria look-up'!$B$4,IF('Proposed Design'!F14>=200,'Criteria look-up'!$B$5,'Criteria look-up'!$B$6))),IF('Proposed Design'!F14>500,'Criteria look-up'!$B$3,IF('Proposed Design'!F14>=250,'Criteria look-up'!$B$4,IF('Proposed Design'!F14>=100,'Criteria look-up'!$B$5,'Criteria look-up'!$B$6))))) | E9: =IF(OR('Proposed Design'!G14="",'Proposed Design'!G13=""),"",IF('Proposed Design'!G13="Two-way",IF('Proposed Design'!G14>1000,'Criteria look-up'!$B$3,IF('Proposed Design'!G14>=500,'Criteria look-up'!$B$4,IF('Proposed Design'!G14>=200,'Criteria look-up'!$B$5,'Criteria look-up'!$B$6))),IF('Proposed Design'!G14>500,'Criteria look-up'!$B$3,IF('Proposed Design'!G14>=250,'Criteria look-up'!$B$4,IF('Proposed Design'!G14>=100,'Criteria look-up'!$B$5,'Criteria look-up'!$B$6))))) | F9: =IF(OR('Proposed Design'!H14="",'Proposed Design'!H13=""),"",IF('Proposed Design'!H13="Two-way",IF('Proposed Design'!H14>1000,'Criteria look-up'!$B$3,IF('Proposed Design'!H14>=500,'Criteria look-up'!$B$4,IF('Proposed Design'!H14>=200,'Criteria look-up'!$B$5,'Criteria look-up'!$B$6))),IF('Proposed Design'!H14>500,'Criteria look-up'!$B$3,IF('Proposed Design'!H14>=250,'Criteria look-up'!$B$4,IF('Proposed Design'!H14>=100,'Criteria look-up'!$B$5,'Criteria look-up'!$B$6))))) | G9: =IF(OR('Proposed Design'!I14="",'Proposed Design'!I13=""),"",IF('Proposed Design'!I13="Two-way",IF('Proposed Design'!I14>1000,'Criteria look-up'!$B$3,IF('Proposed Design'!I14>=500,'Criteria look-up'!$B$4,IF('Proposed Design'!I14>=200,'Criteria look-up'!$B$5,'Criteria look-up'!$B$6))),IF('Proposed Design'!I14>500,'Criteria look-up'!$B$3,IF('Proposed Design'!I14>=250,'Criteria look-up'!$B$4,IF('Proposed Design'!I14>=100,'Criteria look-up'!$B$5,'Criteria look-up'!$B$6))))) | H9: =IF(OR('Proposed Design'!J14="",'Proposed Design'!J13=""),"",IF('Proposed Design'!J13="Two-way",IF('Proposed Design'!J14>1000,'Criteria look-up'!$B$3,IF('Proposed Design'!J14>=500,'Criteria look-up'!$B$4,IF('Proposed Design'!J14>=200,'Criteria look-up'!$B$5,'Criteria look-up'!$B$6))),IF('Proposed Design'!J14>500,'Criteria look-up'!$B$3,IF('Proposed Design'!J14>=250,'Criteria look-up'!$B$4,IF('Proposed Design'!J14>=100,'Criteria look-up'!$B$5,'Criteria look-up'!$B$6))))) | I9: =IF(OR('Proposed Design'!K14="",'Proposed Design'!K13=""),"",IF('Proposed Design'!K13="Two-way",IF('Proposed Design'!K14>1000,'Criteria look-up'!$B$3,IF('Proposed Design'!K14>=500,'Criteria look-up'!$B$4,IF('Proposed Design'!K14>=200,'Criteria look-up'!$B$5,'Criteria look-up'!$B$6))),IF('Proposed Design'!K14>500,'Criteria look-up'!$B$3,IF('Proposed Design'!K14>=250,'Criteria look-up'!$B$4,IF('Proposed Design'!K14>=100,'Criteria look-up'!$B$5,'Criteria look-up'!$B$6))))) | J9: =IF(OR('Proposed Design'!L14="",'Proposed Design'!L13=""),"",IF('Proposed Design'!L13="Two-way",IF('Proposed Design'!L14>1000,'Criteria look-up'!$B$3,IF('Proposed Design'!L14>=500,'Criteria look-up'!$B$4,IF('Proposed Design'!L14>=200,'Criteria look-up'!$B$5,'Criteria look-up'!$B$6))),IF('Proposed Design'!L14>500,'Criteria look-up'!$B$3,IF('Proposed Design'!L14>=250,'Criteria look-up'!$B$4,IF('Proposed Design'!L14>=100,'Criteria look-up'!$B$5,'Criteria look-up'!$B$6))))) | K9: =IF(OR('Proposed Design'!M14="",'Proposed Design'!M13=""),"",IF('Proposed Design'!M13="Two-way",IF('Proposed Design'!M14>1000,'Criteria look-up'!$B$3,IF('Proposed Design'!M14>=500,'Criteria look-up'!$B$4,IF('Proposed Design'!M14>=200,'Criteria look-up'!$B$5,'Criteria look-up'!$B$6))),IF('Proposed Design'!M14>500,'Criteria look-up'!$B$3,IF('Proposed Design'!M14>=250,'Criteria look-up'!$B$4,IF('Proposed Design'!M14>=100,'Criteria look-up'!$B$5,'Criteria look-up'!$B$6))))) | ... W9: =IF(OR('Proposed Design'!Y14="",'Proposed Design'!Y13=""),"",IF('Proposed Design'!Y13="Two-way",IF('Proposed Design'!Y14>1000,'Criteria look-up'!$B$3,IF('Proposed Design'!Y14>=500,'Criteria look-up'!$B$4,IF('Proposed Design'!Y14>=200,'Criteria look-up'!$B$5,'Criteria look-up'!$B$6))),IF('Proposed Design'!Y14>500,'Criteria look-up'!$B$3,IF('Proposed Design'!Y14>=250,'Criteria look-up'!$B$4,IF('Proposed Design'!Y14>=100,'Criteria look-up'!$B$5,'Criteria look-up'!$B$6)))))
C10: Average 85th %ile speed (mph) | D10: =IF('Proposed Design'!F15="","",IF('Proposed Design'!F15>30,IF('Proposed Design'!F16="Yes",'Criteria look-up'!$C$3,'Criteria look-up'!$C$4),IF('Proposed Design'!F15<25,'Criteria look-up'!$C$7,IF('Proposed Design'!F16="Yes",'Criteria look-up'!$C$5,'Criteria look-up'!$C$6)))) | E10: =IF('Proposed Design'!G15="","",IF('Proposed Design'!G15>30,IF('Proposed Design'!G16="Yes",'Criteria look-up'!$C$3,'Criteria look-up'!$C$4),IF('Proposed Design'!G15<25,'Criteria look-up'!$C$7,IF('Proposed Design'!G16="Yes",'Criteria look-up'!$C$5,'Criteria look-up'!$C$6)))) | F10: =IF('Proposed Design'!H15="","",IF('Proposed Design'!H15>30,IF('Proposed Design'!H16="Yes",'Criteria look-up'!$C$3,'Criteria look-up'!$C$4),IF('Proposed Design'!H15<25,'Criteria look-up'!$C$7,IF('Proposed Design'!H16="Yes",'Criteria look-up'!$C$5,'Criteria look-up'!$C$6)))) | G10: =IF('Proposed Design'!I15="","",IF('Proposed Design'!I15>30,IF('Proposed Design'!I16="Yes",'Criteria look-up'!$C$3,'Criteria look-up'!$C$4),IF('Proposed Design'!I15<25,'Criteria look-up'!$C$7,IF('Proposed Design'!I16="Yes",'Criteria look-up'!$C$5,'Criteria look-up'!$C$6)))) | H10: =IF('Proposed Design'!J15="","",IF('Proposed Design'!J15>30,IF('Proposed Design'!J16="Yes",'Criteria look-up'!$C$3,'Criteria look-up'!$C$4),IF('Proposed Design'!J15<25,'Criteria look-up'!$C$7,IF('Proposed Design'!J16="Yes",'Criteria look-up'!$C$5,'Criteria look-up'!$C$6)))) | I10: =IF('Proposed Design'!K15="","",IF('Proposed Design'!K15>30,IF('Proposed Design'!K16="Yes",'Criteria look-up'!$C$3,'Criteria look-up'!$C$4),IF('Proposed Design'!K15<25,'Criteria look-up'!$C$7,IF('Proposed Design'!K16="Yes",'Criteria look-up'!$C$5,'Criteria look-up'!$C$6)))) | J10: =IF('Proposed Design'!L15="","",IF('Proposed Design'!L15>30,IF('Proposed Design'!L16="Yes",'Criteria look-up'!$C$3,'Criteria look-up'!$C$4),IF('Proposed Design'!L15<25,'Criteria look-up'!$C$7,IF('Proposed Design'!L16="Yes",'Criteria look-up'!$C$5,'Criteria look-up'!$C$6)))) | K10: =IF('Proposed Design'!M15="","",IF('Proposed Design'!M15>30,IF('Proposed Design'!M16="Yes",'Criteria look-up'!$C$3,'Criteria look-up'!$C$4),IF('Proposed Design'!M15<25,'Criteria look-up'!$C$7,IF('Proposed Design'!M16="Yes",'Criteria look-up'!$C$5,'Criteria look-up'!$C$6)))) | ... W10: =IF('Proposed Design'!Y15="","",IF('Proposed Design'!Y15>30,IF('Proposed Design'!Y16="Yes",'Criteria look-up'!$C$3,'Criteria look-up'!$C$4),IF('Proposed Design'!Y15<25,'Criteria look-up'!$C$7,IF('Proposed Design'!Y16="Yes",'Criteria look-up'!$C$5,'Criteria look-up'!$C$6))))
C11: Effective width (metres) | D11: =IF('Proposed Design'!F17="","",IF('Proposed Design'!F17<=3.2,'Criteria look-up'!$D$3,IF('Proposed Design'!F17<4,'Criteria look-up'!$D$4,IF('Proposed Design'!F17<4.5,'Criteria look-up'!$D$5,'Criteria look-up'!$D$6)))) | E11: =IF('Proposed Design'!G17="","",IF('Proposed Design'!G17<=3.2,'Criteria look-up'!$D$3,IF('Proposed Design'!G17<4,'Criteria look-up'!$D$4,IF('Proposed Design'!G17<4.5,'Criteria look-up'!$D$5,'Criteria look-up'!$D$6)))) | F11: =IF('Proposed Design'!H17="","",IF('Proposed Design'!H17<=3.2,'Criteria look-up'!$D$3,IF('Proposed Design'!H17<4,'Criteria look-up'!$D$4,IF('Proposed Design'!H17<4.5,'Criteria look-up'!$D$5,'Criteria look-up'!$D$6)))) | G11: =IF('Proposed Design'!I17="","",IF('Proposed Design'!I17<=3.2,'Criteria look-up'!$D$3,IF('Proposed Design'!I17<4,'Criteria look-up'!$D$4,IF('Proposed Design'!I17<4.5,'Criteria look-up'!$D$5,'Criteria look-up'!$D$6)))) | H11: =IF('Proposed Design'!J17="","",IF('Proposed Design'!J17<=3.2,'Criteria look-up'!$D$3,IF('Proposed Design'!J17<4,'Criteria look-up'!$D$4,IF('Proposed Design'!J17<4.5,'Criteria look-up'!$D$5,'Criteria look-up'!$D$6)))) | I11: =IF('Proposed Design'!K17="","",IF('Proposed Design'!K17<=3.2,'Criteria look-up'!$D$3,IF('Proposed Design'!K17<4,'Criteria look-up'!$D$4,IF('Proposed Design'!K17<4.5,'Criteria look-up'!$D$5,'Criteria look-up'!$D$6)))) | J11: =IF('Proposed Design'!L17="","",IF('Proposed Design'!L17<=3.2,'Criteria look-up'!$D$3,IF('Proposed Design'!L17<4,'Criteria look-up'!$D$4,IF('Proposed Design'!L17<4.5,'Criteria look-up'!$D$5,'Criteria look-up'!$D$6)))) | K11: =IF('Proposed Design'!M17="","",IF('Proposed Design'!M17<=3.2,'Criteria look-up'!$D$3,IF('Proposed Design'!M17<4,'Criteria look-up'!$D$4,IF('Proposed Design'!M17<4.5,'Criteria look-up'!$D$5,'Criteria look-up'!$D$6)))) | ... W11: =IF('Proposed Design'!Y17="","",IF('Proposed Design'!Y17<=3.2,'Criteria look-up'!$D$3,IF('Proposed Design'!Y17<4,'Criteria look-up'!$D$4,IF('Proposed Design'!Y17<4.5,'Criteria look-up'!$D$5,'Criteria look-up'!$D$6))))
C12: Turning risk - does design fulfil criteria? | D12: =IF('Proposed Design'!F19="","",'Proposed Design'!F19) | E12: =IF('Proposed Design'!G19="","",'Proposed Design'!G19) | F12: =IF('Proposed Design'!H19="","",'Proposed Design'!H19) | G12: =IF('Proposed Design'!I19="","",'Proposed Design'!I19) | H12: =IF('Proposed Design'!J19="","",'Proposed Design'!J19) | I12: =IF('Proposed Design'!K19="","",'Proposed Design'!K19) | J12: =IF('Proposed Design'!L19="","",'Proposed Design'!L19) | K12: =IF('Proposed Design'!M19="","",'Proposed Design'!M19) | ... W12: =IF('Proposed Design'!Y19="","",'Proposed Design'!Y19)
C13: Kerbside activity - does design fulfil criteria | D13: =IF(OR(D9="",D10="",D11="",'Proposed Design'!F18=""),"",IF(('Proposed Design'!F17-'Proposed Design'!F18)>=2,IF(OR('Proposed Design'!F15<25,AND('Proposed Design'!F15>=25,'Proposed Design'!F16="Yes")),"Yes","No"),IF(AND(OR('Proposed Design'!F15<25,AND('Proposed Design'!F15>=25,'Proposed Design'!F16="Yes")),'Proposed Design'!F14<200),"Yes","No"))) | E13: =IF(OR(E9="",E10="",E11="",'Proposed Design'!G18=""),"",IF(('Proposed Design'!G17-'Proposed Design'!G18)>=2,IF(OR('Proposed Design'!G15<25,AND('Proposed Design'!G15>=25,'Proposed Design'!G16="Yes")),"Yes","No"),IF(AND(OR('Proposed Design'!G15<25,AND('Proposed Design'!G15>=25,'Proposed Design'!G16="Yes")),'Proposed Design'!G14<200),"Yes","No"))) | F13: =IF(OR(F9="",F10="",F11="",'Proposed Design'!H18=""),"",IF(('Proposed Design'!H17-'Proposed Design'!H18)>=2,IF(OR('Proposed Design'!H15<25,AND('Proposed Design'!H15>=25,'Proposed Design'!H16="Yes")),"Yes","No"),IF(AND(OR('Proposed Design'!H15<25,AND('Proposed Design'!H15>=25,'Proposed Design'!H16="Yes")),'Proposed Design'!H14<200),"Yes","No"))) | G13: =IF(OR(G9="",G10="",G11="",'Proposed Design'!I18=""),"",IF(('Proposed Design'!I17-'Proposed Design'!I18)>=2,IF(OR('Proposed Design'!I15<25,AND('Proposed Design'!I15>=25,'Proposed Design'!I16="Yes")),"Yes","No"),IF(AND(OR('Proposed Design'!I15<25,AND('Proposed Design'!I15>=25,'Proposed Design'!I16="Yes")),'Proposed Design'!I14<200),"Yes","No"))) | H13: =IF(OR(H9="",H10="",H11="",'Proposed Design'!J18=""),"",IF(('Proposed Design'!J17-'Proposed Design'!J18)>=2,IF(OR('Proposed Design'!J15<25,AND('Proposed Design'!J15>=25,'Proposed Design'!J16="Yes")),"Yes","No"),IF(AND(OR('Proposed Design'!J15<25,AND('Proposed Design'!J15>=25,'Proposed Design'!J16="Yes")),'Proposed Design'!J14<200),"Yes","No"))) | I13: =IF(OR(I9="",I10="",I11="",'Proposed Design'!K18=""),"",IF(('Proposed Design'!K17-'Proposed Design'!K18)>=2,IF(OR('Proposed Design'!K15<25,AND('Proposed Design'!K15>=25,'Proposed Design'!K16="Yes")),"Yes","No"),IF(AND(OR('Proposed Design'!K15<25,AND('Proposed Design'!K15>=25,'Proposed Design'!K16="Yes")),'Proposed Design'!K14<200),"Yes","No"))) | J13: =IF(OR(J9="",J10="",J11="",'Proposed Design'!L18=""),"",IF(('Proposed Design'!L17-'Proposed Design'!L18)>=2,IF(OR('Proposed Design'!L15<25,AND('Proposed Design'!L15>=25,'Proposed Design'!L16="Yes")),"Yes","No"),IF(AND(OR('Proposed Design'!L15<25,AND('Proposed Design'!L15>=25,'Proposed Design'!L16="Yes")),'Proposed Design'!L14<200),"Yes","No"))) | K13: =IF(OR(K9="",K10="",K11="",'Proposed Design'!M18=""),"",IF(('Proposed Design'!M17-'Proposed Design'!M18)>=2,IF(OR('Proposed Design'!M15<25,AND('Proposed Design'!M15>=25,'Proposed Design'!M16="Yes")),"Yes","No"),IF(AND(OR('Proposed Design'!M15<25,AND('Proposed Design'!M15>=25,'Proposed Design'!M16="Yes")),'Proposed Design'!M14<200),"Yes","No"))) | ... W13: =IF(OR(W9="",W10="",W11="",'Proposed Design'!Y18=""),"",IF(('Proposed Design'!Y17-'Proposed Design'!Y18)>=2,IF(OR('Proposed Design'!Y15<25,AND('Proposed Design'!Y15>=25,'Proposed Design'!Y16="Yes")),"Yes","No"),IF(AND(OR('Proposed Design'!Y15<25,AND('Proposed Design'!Y15>=25,'Proposed Design'!Y16="Yes")),'Proposed Design'!Y14<200),"Yes","No")))
C14: Average % HGV volume (7am-7pm) | D14: =IF(OR('Proposed Design'!F21="",'Proposed Design'!F20=""),"",IF('Proposed Design'!F21>0.1,'Criteria look-up'!$H$3,IF('Proposed Design'!F21>=0.05,'Criteria look-up'!$H$4,IF('Proposed Design'!F21>=0.02,'Criteria look-up'!$H$5,'Criteria look-up'!$H$6)))) | E14: =IF(OR('Proposed Design'!G21="",'Proposed Design'!G20=""),"",IF('Proposed Design'!G21>0.1,'Criteria look-up'!$H$3,IF('Proposed Design'!G21>=0.05,'Criteria look-up'!$H$4,IF('Proposed Design'!G21>=0.02,'Criteria look-up'!$H$5,'Criteria look-up'!$H$6)))) | F14: =IF(OR('Proposed Design'!H21="",'Proposed Design'!H20=""),"",IF('Proposed Design'!H21>0.1,'Criteria look-up'!$H$3,IF('Proposed Design'!H21>=0.05,'Criteria look-up'!$H$4,IF('Proposed Design'!H21>=0.02,'Criteria look-up'!$H$5,'Criteria look-up'!$H$6)))) | G14: =IF(OR('Proposed Design'!I21="",'Proposed Design'!I20=""),"",IF('Proposed Design'!I21>0.1,'Criteria look-up'!$H$3,IF('Proposed Design'!I21>=0.05,'Criteria look-up'!$H$4,IF('Proposed Design'!I21>=0.02,'Criteria look-up'!$H$5,'Criteria look-up'!$H$6)))) | H14: =IF(OR('Proposed Design'!J21="",'Proposed Design'!J20=""),"",IF('Proposed Design'!J21>0.1,'Criteria look-up'!$H$3,IF('Proposed Design'!J21>=0.05,'Criteria look-up'!$H$4,IF('Proposed Design'!J21>=0.02,'Criteria look-up'!$H$5,'Criteria look-up'!$H$6)))) | I14: =IF(OR('Proposed Design'!K21="",'Proposed Design'!K20=""),"",IF('Proposed Design'!K21>0.1,'Criteria look-up'!$H$3,IF('Proposed Design'!K21>=0.05,'Criteria look-up'!$H$4,IF('Proposed Design'!K21>=0.02,'Criteria look-up'!$H$5,'Criteria look-up'!$H$6)))) | J14: =IF(OR('Proposed Design'!L21="",'Proposed Design'!L20=""),"",IF('Proposed Design'!L21>0.1,'Criteria look-up'!$H$3,IF('Proposed Design'!L21>=0.05,'Criteria look-up'!$H$4,IF('Proposed Design'!L21>=0.02,'Criteria look-up'!$H$5,'Criteria look-up'!$H$6)))) | K14: =IF(OR('Proposed Design'!M21="",'Proposed Design'!M20=""),"",IF('Proposed Design'!M21>0.1,'Criteria look-up'!$H$3,IF('Proposed Design'!M21>=0.05,'Criteria look-up'!$H$4,IF('Proposed Design'!M21>=0.02,'Criteria look-up'!$H$5,'Criteria look-up'!$H$6)))) | ... W14: =IF(OR('Proposed Design'!Y21="",'Proposed Design'!Y20=""),"",IF('Proposed Design'!Y21>0.1,'Criteria look-up'!$H$3,IF('Proposed Design'!Y21>=0.05,'Criteria look-up'!$H$4,IF('Proposed Design'!Y21>=0.02,'Criteria look-up'!$H$5,'Criteria look-up'!$H$6))))
B16: Value coding of current design information - this is calculated automatically | C16: Peak hour traffic flow | D16: =IFERROR(INDEX('Criteria look-up'!$A$3:$A$6,MATCH(D9,'Criteria look-up'!$B$3:$B$6,0),0),"") | E16: =IFERROR(INDEX('Criteria look-up'!$A$3:$A$6,MATCH(E9,'Criteria look-up'!$B$3:$B$6,0),0),"") | F16: =IFERROR(INDEX('Criteria look-up'!$A$3:$A$6,MATCH(F9,'Criteria look-up'!$B$3:$B$6,0),0),"") | G16: =IFERROR(INDEX('Criteria look-up'!$A$3:$A$6,MATCH(G9,'Criteria look-up'!$B$3:$B$6,0),0),"") | H16: =IFERROR(INDEX('Criteria look-up'!$A$3:$A$6,MATCH(H9,'Criteria look-up'!$B$3:$B$6,0),0),"") | I16: =IFERROR(INDEX('Criteria look-up'!$A$3:$A$6,MATCH(I9,'Criteria look-up'!$B$3:$B$6,0),0),"") | J16: =IFERROR(INDEX('Criteria look-up'!$A$3:$A$6,MATCH(J9,'Criteria look-up'!$B$3:$B$6,0),0),"") | K16: =IFERROR(INDEX('Criteria look-up'!$A$3:$A$6,MATCH(K9,'Criteria look-up'!$B$3:$B$6,0),0),"") | ... W16: =IFERROR(INDEX('Criteria look-up'!$A$3:$A$6,MATCH(W9,'Criteria look-up'!$B$3:$B$6,0),0),"")
C17: Average 85th %ile speed (mph) | D17: =IFERROR(INDEX('Criteria look-up'!$A$3:$A$7,MATCH(D10,'Criteria look-up'!$C$3:$C$7,0),0),"") | E17: =IFERROR(INDEX('Criteria look-up'!$A$3:$A$7,MATCH(E10,'Criteria look-up'!$C$3:$C$7,0),0),"") | F17: =IFERROR(INDEX('Criteria look-up'!$A$3:$A$7,MATCH(F10,'Criteria look-up'!$C$3:$C$7,0),0),"") | G17: =IFERROR(INDEX('Criteria look-up'!$A$3:$A$7,MATCH(G10,'Criteria look-up'!$C$3:$C$7,0),0),"") | H17: =IFERROR(INDEX('Criteria look-up'!$A$3:$A$7,MATCH(H10,'Criteria look-up'!$C$3:$C$7,0),0),"") | I17: =IFERROR(INDEX('Criteria look-up'!$A$3:$A$7,MATCH(I10,'Criteria look-up'!$C$3:$C$7,0),0),"") | J17: =IFERROR(INDEX('Criteria look-up'!$A$3:$A$7,MATCH(J10,'Criteria look-up'!$C$3:$C$7,0),0),"") | K17: =IFERROR(INDEX('Criteria look-up'!$A$3:$A$7,MATCH(K10,'Criteria look-up'!$C$3:$C$7,0),0),"") | ... W17: =IFERROR(INDEX('Criteria look-up'!$A$3:$A$7,MATCH(W10,'Criteria look-up'!$C$3:$C$7,0),0),"")
C18: Effective width (metres) | D18: =IFERROR(INDEX('Criteria look-up'!$A$3:$A$6,MATCH(D11,'Criteria look-up'!$D$3:$D$6,0),0),"") | E18: =IFERROR(INDEX('Criteria look-up'!$A$3:$A$6,MATCH(E11,'Criteria look-up'!$D$3:$D$6,0),0),"") | F18: =IFERROR(INDEX('Criteria look-up'!$A$3:$A$6,MATCH(F11,'Criteria look-up'!$D$3:$D$6,0),0),"") | G18: =IFERROR(INDEX('Criteria look-up'!$A$3:$A$6,MATCH(G11,'Criteria look-up'!$D$3:$D$6,0),0),"") | H18: =IFERROR(INDEX('Criteria look-up'!$A$3:$A$6,MATCH(H11,'Criteria look-up'!$D$3:$D$6,0),0),"") | I18: =IFERROR(INDEX('Criteria look-up'!$A$3:$A$6,MATCH(I11,'Criteria look-up'!$D$3:$D$6,0),0),"") | J18: =IFERROR(INDEX('Criteria look-up'!$A$3:$A$6,MATCH(J11,'Criteria look-up'!$D$3:$D$6,0),0),"") | K18: =IFERROR(INDEX('Criteria look-up'!$A$3:$A$6,MATCH(K11,'Criteria look-up'!$D$3:$D$6,0),0),"") | ... W18: =IFERROR(INDEX('Criteria look-up'!$A$3:$A$6,MATCH(W11,'Criteria look-up'!$D$3:$D$6,0),0),"")
C19: Turning risk - does design fulfil criteria? | D19: =IFERROR(INDEX('Criteria look-up'!$A$3:$A$6,MATCH(D12,'Criteria look-up'!$E$3:$E$6,0),0),"") | E19: =IFERROR(INDEX('Criteria look-up'!$A$3:$A$6,MATCH(E12,'Criteria look-up'!$E$3:$E$6,0),0),"") | F19: =IFERROR(INDEX('Criteria look-up'!$A$3:$A$6,MATCH(F12,'Criteria look-up'!$E$3:$E$6,0),0),"") | G19: =IFERROR(INDEX('Criteria look-up'!$A$3:$A$6,MATCH(G12,'Criteria look-up'!$E$3:$E$6,0),0),"") | H19: =IFERROR(INDEX('Criteria look-up'!$A$3:$A$6,MATCH(H12,'Criteria look-up'!$E$3:$E$6,0),0),"") | I19: =IFERROR(INDEX('Criteria look-up'!$A$3:$A$6,MATCH(I12,'Criteria look-up'!$E$3:$E$6,0),0),"") | J19: =IFERROR(INDEX('Criteria look-up'!$A$3:$A$6,MATCH(J12,'Criteria look-up'!$E$3:$E$6,0),0),"") | K19: =IFERROR(INDEX('Criteria look-up'!$A$3:$A$6,MATCH(K12,'Criteria look-up'!$E$3:$E$6,0),0),"") | ... W19: =IFERROR(INDEX('Criteria look-up'!$A$3:$A$6,MATCH(W12,'Criteria look-up'!$E$3:$E$6,0),0),"")
C20: Kerbside activity - does design fulfil criteria | D20: =IFERROR(INDEX('Criteria look-up'!$A$3:$A$6,MATCH(D13,'Criteria look-up'!$G$3:$G$6,0),0),"") | E20: =IFERROR(INDEX('Criteria look-up'!$A$3:$A$6,MATCH(E13,'Criteria look-up'!$G$3:$G$6,0),0),"") | F20: =IFERROR(INDEX('Criteria look-up'!$A$3:$A$6,MATCH(F13,'Criteria look-up'!$G$3:$G$6,0),0),"") | G20: =IFERROR(INDEX('Criteria look-up'!$A$3:$A$6,MATCH(G13,'Criteria look-up'!$G$3:$G$6,0),0),"") | H20: =IFERROR(INDEX('Criteria look-up'!$A$3:$A$6,MATCH(H13,'Criteria look-up'!$G$3:$G$6,0),0),"") | I20: =IFERROR(INDEX('Criteria look-up'!$A$3:$A$6,MATCH(I13,'Criteria look-up'!$G$3:$G$6,0),0),"") | J20: =IFERROR(INDEX('Criteria look-up'!$A$3:$A$6,MATCH(J13,'Criteria look-up'!$G$3:$G$6,0),0),"") | K20: =IFERROR(INDEX('Criteria look-up'!$A$3:$A$6,MATCH(K13,'Criteria look-up'!$G$3:$G$6,0),0),"") | ... W20: =IFERROR(INDEX('Criteria look-up'!$A$3:$A$6,MATCH(W13,'Criteria look-up'!$G$3:$G$6,0),0),"")
C21: Average % HGV volume (7am-7pm) | D21: =IFERROR(INDEX('Criteria look-up'!$A$3:$A$6,MATCH(D14,'Criteria look-up'!$H$3:$H$6,0),0),"") | E21: =IFERROR(INDEX('Criteria look-up'!$A$3:$A$6,MATCH(E14,'Criteria look-up'!$H$3:$H$6,0),0),"") | F21: =IFERROR(INDEX('Criteria look-up'!$A$3:$A$6,MATCH(F14,'Criteria look-up'!$H$3:$H$6,0),0),"") | G21: =IFERROR(INDEX('Criteria look-up'!$A$3:$A$6,MATCH(G14,'Criteria look-up'!$H$3:$H$6,0),0),"") | H21: =IFERROR(INDEX('Criteria look-up'!$A$3:$A$6,MATCH(H14,'Criteria look-up'!$H$3:$H$6,0),0),"") | I21: =IFERROR(INDEX('Criteria look-up'!$A$3:$A$6,MATCH(I14,'Criteria look-up'!$H$3:$H$6,0),0),"") | J21: =IFERROR(INDEX('Criteria look-up'!$A$3:$A$6,MATCH(J14,'Criteria look-up'!$H$3:$H$6,0),0),"") | K21: =IFERROR(INDEX('Criteria look-up'!$A$3:$A$6,MATCH(K14,'Criteria look-up'!$H$3:$H$6,0),0),"") | ... W21: =IFERROR(INDEX('Criteria look-up'!$A$3:$A$6,MATCH(W14,'Criteria look-up'!$H$3:$H$6,0),0),"")
C22: Unique ID | D22: =IFERROR(D16*100000+D17*10000+D18*1000+D19*100+D20*10+D21,"") | E22: =IFERROR(E16*100000+E17*10000+E18*1000+E19*100+E20*10+E21,"") | F22: =IFERROR(F16*100000+F17*10000+F18*1000+F19*100+F20*10+F21,"") | G22: =IFERROR(G16*100000+G17*10000+G18*1000+G19*100+G20*10+G21,"") | H22: =IFERROR(H16*100000+H17*10000+H18*1000+H19*100+H20*10+H21,"") | I22: =IFERROR(I16*100000+I17*10000+I18*1000+I19*100+I20*10+I21,"") | J22: =IFERROR(J16*100000+J17*10000+J18*1000+J19*100+J20*10+J21,"") | K22: =IFERROR(K16*100000+K17*10000+K18*1000+K19*100+K20*10+K21,"") | ... W22: =IFERROR(W16*100000+W17*10000+W18*1000+W19*100+W20*10+W21,"")
B24: Current design assessment | C24: Are existing conditions suitable for cyclists to be mixed with motor traffic? | D24: =IFERROR(IF(OR(D16=1,'Proposed Design'!F20>=50,AND(('Proposed Design'!F17-'Proposed Design'!F18)<1,('Proposed Design'!F17-'Proposed Design'!F18)>0),AND('Proposed Design'!F14>=500,'Proposed Design'!F18>0)),"No",INDEX('Combinations - Current'!$G$2:$G$3841,MATCH(D22,'Combinations - Current'!$O$2:$O$3841,0))),"") | E24: =IFERROR(IF(OR(E16=1,'Proposed Design'!G20>=50,AND(('Proposed Design'!G17-'Proposed Design'!G18)<1,('Proposed Design'!G17-'Proposed Design'!G18)>0),AND('Proposed Design'!G14>=500,'Proposed Design'!G18>0)),"No",INDEX('Combinations - Current'!$G$2:$G$3841,MATCH(E22,'Combinations - Current'!$O$2:$O$3841,0))),"") | F24: =IFERROR(IF(OR(F16=1,'Proposed Design'!H20>=50,AND(('Proposed Design'!H17-'Proposed Design'!H18)<1,('Proposed Design'!H17-'Proposed Design'!H18)>0),AND('Proposed Design'!H14>=500,'Proposed Design'!H18>0)),"No",INDEX('Combinations - Current'!$G$2:$G$3841,MATCH(F22,'Combinations - Current'!$O$2:$O$3841,0))),"") | G24: =IFERROR(IF(OR(G16=1,'Proposed Design'!I20>=50,AND(('Proposed Design'!I17-'Proposed Design'!I18)<1,('Proposed Design'!I17-'Proposed Design'!I18)>0),AND('Proposed Design'!I14>=500,'Proposed Design'!I18>0)),"No",INDEX('Combinations - Current'!$G$2:$G$3841,MATCH(G22,'Combinations - Current'!$O$2:$O$3841,0))),"") | H24: =IFERROR(IF(OR(H16=1,'Proposed Design'!J20>=50,AND(('Proposed Design'!J17-'Proposed Design'!J18)<1,('Proposed Design'!J17-'Proposed Design'!J18)>0),AND('Proposed Design'!J14>=500,'Proposed Design'!J18>0)),"No",INDEX('Combinations - Current'!$G$2:$G$3841,MATCH(H22,'Combinations - Current'!$O$2:$O$3841,0))),"") | I24: =IFERROR(IF(OR(I16=1,'Proposed Design'!K20>=50,AND(('Proposed Design'!K17-'Proposed Design'!K18)<1,('Proposed Design'!K17-'Proposed Design'!K18)>0),AND('Proposed Design'!K14>=500,'Proposed Design'!K18>0)),"No",INDEX('Combinations - Current'!$G$2:$G$3841,MATCH(I22,'Combinations - Current'!$O$2:$O$3841,0))),"") | J24: =IFERROR(IF(OR(J16=1,'Proposed Design'!L20>=50,AND(('Proposed Design'!L17-'Proposed Design'!L18)<1,('Proposed Design'!L17-'Proposed Design'!L18)>0),AND('Proposed Design'!L14>=500,'Proposed Design'!L18>0)),"No",INDEX('Combinations - Current'!$G$2:$G$3841,MATCH(J22,'Combinations - Current'!$O$2:$O$3841,0))),"") | K24: =IFERROR(IF(OR(K16=1,'Proposed Design'!M20>=50,AND(('Proposed Design'!M17-'Proposed Design'!M18)<1,('Proposed Design'!M17-'Proposed Design'!M18)>0),AND('Proposed Design'!M14>=500,'Proposed Design'!M18>0)),"No",INDEX('Combinations - Current'!$G$2:$G$3841,MATCH(K22,'Combinations - Current'!$O$2:$O$3841,0))),"") | ... W24: =IFERROR(IF(OR(W16=1,'Proposed Design'!Y20>=50,AND(('Proposed Design'!Y17-'Proposed Design'!Y18)<1,('Proposed Design'!Y17-'Proposed Design'!Y18)>0),AND('Proposed Design'!Y14>=500,'Proposed Design'!Y18>0)),"No",INDEX('Combinations - Current'!$G$2:$G$3841,MATCH(W22,'Combinations - Current'!$O$2:$O$3841,0))),"")
B26: Value coding - Phase 2 | C26: Unique ID | D26: =D24&'Proposed Design'!F25 | E26: =E24&'Proposed Design'!G25 | F26: =F24&'Proposed Design'!H25 | G26: =G24&'Proposed Design'!I25 | H26: =H24&'Proposed Design'!J25 | I26: =I24&'Proposed Design'!K25 | J26: =J24&'Proposed Design'!L25 | K26: =K24&'Proposed Design'!M25 | ... W26: =W24&'Proposed Design'!Y25
B28: Next steps for design | C28: Recommendation | D28: =IFERROR(INDEX('Combinations - Approach'!$D$2:$D$7,MATCH(D26,'Combinations - Approach'!$C$2:$C$7,0),0),"") | E28: =IFERROR(INDEX('Combinations - Approach'!$D$2:$D$7,MATCH(E26,'Combinations - Approach'!$C$2:$C$7,0),0),"") | F28: =IFERROR(INDEX('Combinations - Approach'!$D$2:$D$7,MATCH(F26,'Combinations - Approach'!$C$2:$C$7,0),0),"") | G28: =IFERROR(INDEX('Combinations - Approach'!$D$2:$D$7,MATCH(G26,'Combinations - Approach'!$C$2:$C$7,0),0),"") | H28: =IFERROR(INDEX('Combinations - Approach'!$D$2:$D$7,MATCH(H26,'Combinations - Approach'!$C$2:$C$7,0),0),"") | I28: =IFERROR(INDEX('Combinations - Approach'!$D$2:$D$7,MATCH(I26,'Combinations - Approach'!$C$2:$C$7,0),0),"") | J28: =IFERROR(INDEX('Combinations - Approach'!$D$2:$D$7,MATCH(J26,'Combinations - Approach'!$C$2:$C$7,0),0),"") | K28: =IFERROR(INDEX('Combinations - Approach'!$D$2:$D$7,MATCH(K26,'Combinations - Approach'!$C$2:$C$7,0),0),"") | ... W28: =IFERROR(INDEX('Combinations - Approach'!$D$2:$D$7,MATCH(W26,'Combinations - Approach'!$C$2:$C$7,0),0),"")
B30: Categorisation of potential design information - this is calculated automatically | C30: Type of cycle lane or track proposed | D30: =IF('Proposed Design'!F28="","",'Proposed Design'!F28) | E30: =IF('Proposed Design'!G28="","",'Proposed Design'!G28) | F30: =IF('Proposed Design'!H28="","",'Proposed Design'!H28) | G30: =IF('Proposed Design'!I28="","",'Proposed Design'!I28) | H30: =IF('Proposed Design'!J28="","",'Proposed Design'!J28) | I30: =IF('Proposed Design'!K28="","",'Proposed Design'!K28) | J30: =IF('Proposed Design'!L28="","",'Proposed Design'!L28) | K30: =IF('Proposed Design'!M28="","",'Proposed Design'!M28) | ... W30: =IF('Proposed Design'!Y28="","",'Proposed Design'!Y28)
C31: Proposed width of shared use/one-way lane or track (m) | D31: =IF('Proposed Design'!F28="","",IF('Proposed Design'!F28='Criteria look-up'!$L$3,IF('Proposed Design'!F29<1.5,'Criteria look-up'!$M$3,IF('Proposed Design'!F29<2.2,'Criteria look-up'!$M$4,'Criteria look-up'!$M$5)),IF('Proposed Design'!F28='Criteria look-up'!$L$5,IF('Proposed Design'!F29<2.2,'Criteria look-up'!$M$6,IF('Proposed Design'!F29<3,'Criteria look-up'!$M$7,'Criteria look-up'!$M$8)),'Criteria look-up'!$M$9))) | E31: =IF('Proposed Design'!G28="","",IF('Proposed Design'!G28='Criteria look-up'!$L$3,IF('Proposed Design'!G29<1.5,'Criteria look-up'!$M$3,IF('Proposed Design'!G29<2.2,'Criteria look-up'!$M$4,'Criteria look-up'!$M$5)),IF('Proposed Design'!G28='Criteria look-up'!$L$5,IF('Proposed Design'!G29<2.2,'Criteria look-up'!$M$6,IF('Proposed Design'!G29<3,'Criteria look-up'!$M$7,'Criteria look-up'!$M$8)),'Criteria look-up'!$M$9))) | F31: =IF('Proposed Design'!H28="","",IF('Proposed Design'!H28='Criteria look-up'!$L$3,IF('Proposed Design'!H29<1.5,'Criteria look-up'!$M$3,IF('Proposed Design'!H29<2.2,'Criteria look-up'!$M$4,'Criteria look-up'!$M$5)),IF('Proposed Design'!H28='Criteria look-up'!$L$5,IF('Proposed Design'!H29<2.2,'Criteria look-up'!$M$6,IF('Proposed Design'!H29<3,'Criteria look-up'!$M$7,'Criteria look-up'!$M$8)),'Criteria look-up'!$M$9))) | G31: =IF('Proposed Design'!I28="","",IF('Proposed Design'!I28='Criteria look-up'!$L$3,IF('Proposed Design'!I29<1.5,'Criteria look-up'!$M$3,IF('Proposed Design'!I29<2.2,'Criteria look-up'!$M$4,'Criteria look-up'!$M$5)),IF('Proposed Design'!I28='Criteria look-up'!$L$5,IF('Proposed Design'!I29<2.2,'Criteria look-up'!$M$6,IF('Proposed Design'!I29<3,'Criteria look-up'!$M$7,'Criteria look-up'!$M$8)),'Criteria look-up'!$M$9))) | H31: =IF('Proposed Design'!J28="","",IF('Proposed Design'!J28='Criteria look-up'!$L$3,IF('Proposed Design'!J29<1.5,'Criteria look-up'!$M$3,IF('Proposed Design'!J29<2.2,'Criteria look-up'!$M$4,'Criteria look-up'!$M$5)),IF('Proposed Design'!J28='Criteria look-up'!$L$5,IF('Proposed Design'!J29<2.2,'Criteria look-up'!$M$6,IF('Proposed Design'!J29<3,'Criteria look-up'!$M$7,'Criteria look-up'!$M$8)),'Criteria look-up'!$M$9))) | I31: =IF('Proposed Design'!K28="","",IF('Proposed Design'!K28='Criteria look-up'!$L$3,IF('Proposed Design'!K29<1.5,'Criteria look-up'!$M$3,IF('Proposed Design'!K29<2.2,'Criteria look-up'!$M$4,'Criteria look-up'!$M$5)),IF('Proposed Design'!K28='Criteria look-up'!$L$5,IF('Proposed Design'!K29<2.2,'Criteria look-up'!$M$6,IF('Proposed Design'!K29<3,'Criteria look-up'!$M$7,'Criteria look-up'!$M$8)),'Criteria look-up'!$M$9))) | J31: =IF('Proposed Design'!L28="","",IF('Proposed Design'!L28='Criteria look-up'!$L$3,IF('Proposed Design'!L29<1.5,'Criteria look-up'!$M$3,IF('Proposed Design'!L29<2.2,'Criteria look-up'!$M$4,'Criteria look-up'!$M$5)),IF('Proposed Design'!L28='Criteria look-up'!$L$5,IF('Proposed Design'!L29<2.2,'Criteria look-up'!$M$6,IF('Proposed Design'!L29<3,'Criteria look-up'!$M$7,'Criteria look-up'!$M$8)),'Criteria look-up'!$M$9))) | K31: =IF('Proposed Design'!M28="","",IF('Proposed Design'!M28='Criteria look-up'!$L$3,IF('Proposed Design'!M29<1.5,'Criteria look-up'!$M$3,IF('Proposed Design'!M29<2.2,'Criteria look-up'!$M$4,'Criteria look-up'!$M$5)),IF('Proposed Design'!M28='Criteria look-up'!$L$5,IF('Proposed Design'!M29<2.2,'Criteria look-up'!$M$6,IF('Proposed Design'!M29<3,'Criteria look-up'!$M$7,'Criteria look-up'!$M$8)),'Criteria look-up'!$M$9))) | ... W31: =IF('Proposed Design'!Y28="","",IF('Proposed Design'!Y28='Criteria look-up'!$L$3,IF('Proposed Design'!Y29<1.5,'Criteria look-up'!$M$3,IF('Proposed Design'!Y29<2.2,'Criteria look-up'!$M$4,'Criteria look-up'!$M$5)),IF('Proposed Design'!Y28='Criteria look-up'!$L$5,IF('Proposed Design'!Y29<2.2,'Criteria look-up'!$M$6,IF('Proposed Design'!Y29<3,'Criteria look-up'!$M$7,'Criteria look-up'!$M$8)),'Criteria look-up'!$M$9)))
C32: Proposed width of two-way lane or track (m) | D32: =IF('Proposed Design'!F28="","",IF('Proposed Design'!F28='Criteria look-up'!$L$4,IF('Proposed Design'!F29<2,'Criteria look-up'!$N$3,IF('Proposed Design'!F29<3,'Criteria look-up'!$N$4,'Criteria look-up'!$N$5)),'Criteria look-up'!$N$6)) | E32: =IF('Proposed Design'!G28="","",IF('Proposed Design'!G28='Criteria look-up'!$L$4,IF('Proposed Design'!G29<2,'Criteria look-up'!$N$3,IF('Proposed Design'!G29<3,'Criteria look-up'!$N$4,'Criteria look-up'!$N$5)),'Criteria look-up'!$N$6)) | F32: =IF('Proposed Design'!H28="","",IF('Proposed Design'!H28='Criteria look-up'!$L$4,IF('Proposed Design'!H29<2,'Criteria look-up'!$N$3,IF('Proposed Design'!H29<3,'Criteria look-up'!$N$4,'Criteria look-up'!$N$5)),'Criteria look-up'!$N$6)) | G32: =IF('Proposed Design'!I28="","",IF('Proposed Design'!I28='Criteria look-up'!$L$4,IF('Proposed Design'!I29<2,'Criteria look-up'!$N$3,IF('Proposed Design'!I29<3,'Criteria look-up'!$N$4,'Criteria look-up'!$N$5)),'Criteria look-up'!$N$6)) | H32: =IF('Proposed Design'!J28="","",IF('Proposed Design'!J28='Criteria look-up'!$L$4,IF('Proposed Design'!J29<2,'Criteria look-up'!$N$3,IF('Proposed Design'!J29<3,'Criteria look-up'!$N$4,'Criteria look-up'!$N$5)),'Criteria look-up'!$N$6)) | I32: =IF('Proposed Design'!K28="","",IF('Proposed Design'!K28='Criteria look-up'!$L$4,IF('Proposed Design'!K29<2,'Criteria look-up'!$N$3,IF('Proposed Design'!K29<3,'Criteria look-up'!$N$4,'Criteria look-up'!$N$5)),'Criteria look-up'!$N$6)) | J32: =IF('Proposed Design'!L28="","",IF('Proposed Design'!L28='Criteria look-up'!$L$4,IF('Proposed Design'!L29<2,'Criteria look-up'!$N$3,IF('Proposed Design'!L29<3,'Criteria look-up'!$N$4,'Criteria look-up'!$N$5)),'Criteria look-up'!$N$6)) | K32: =IF('Proposed Design'!M28="","",IF('Proposed Design'!M28='Criteria look-up'!$L$4,IF('Proposed Design'!M29<2,'Criteria look-up'!$N$3,IF('Proposed Design'!M29<3,'Criteria look-up'!$N$4,'Criteria look-up'!$N$5)),'Criteria look-up'!$N$6)) | ... W32: =IF('Proposed Design'!Y28="","",IF('Proposed Design'!Y28='Criteria look-up'!$L$4,IF('Proposed Design'!Y29<2,'Criteria look-up'!$N$3,IF('Proposed Design'!Y29<3,'Criteria look-up'!$N$4,'Criteria look-up'!$N$5)),'Criteria look-up'!$N$6))
C33: Proposed buffer zone width adjacent to kerbside activity where a cycle lane is provided (m) | D33: =IF('Proposed Design'!F30="","",IF('Proposed Design'!F28='Criteria look-up'!$L$5,'Criteria look-up'!$O$5,IF('Proposed Design'!F30<0.5,'Criteria look-up'!$O$3,'Criteria look-up'!$O$4))) | E33: =IF('Proposed Design'!G30="","",IF('Proposed Design'!G28='Criteria look-up'!$L$5,'Criteria look-up'!$O$5,IF('Proposed Design'!G30<0.5,'Criteria look-up'!$O$3,'Criteria look-up'!$O$4))) | F33: =IF('Proposed Design'!H30="","",IF('Proposed Design'!H28='Criteria look-up'!$L$5,'Criteria look-up'!$O$5,IF('Proposed Design'!H30<0.5,'Criteria look-up'!$O$3,'Criteria look-up'!$O$4))) | G33: =IF('Proposed Design'!I30="","",IF('Proposed Design'!I28='Criteria look-up'!$L$5,'Criteria look-up'!$O$5,IF('Proposed Design'!I30<0.5,'Criteria look-up'!$O$3,'Criteria look-up'!$O$4))) | H33: =IF('Proposed Design'!J30="","",IF('Proposed Design'!J28='Criteria look-up'!$L$5,'Criteria look-up'!$O$5,IF('Proposed Design'!J30<0.5,'Criteria look-up'!$O$3,'Criteria look-up'!$O$4))) | I33: =IF('Proposed Design'!K30="","",IF('Proposed Design'!K28='Criteria look-up'!$L$5,'Criteria look-up'!$O$5,IF('Proposed Design'!K30<0.5,'Criteria look-up'!$O$3,'Criteria look-up'!$O$4))) | J33: =IF('Proposed Design'!L30="","",IF('Proposed Design'!L28='Criteria look-up'!$L$5,'Criteria look-up'!$O$5,IF('Proposed Design'!L30<0.5,'Criteria look-up'!$O$3,'Criteria look-up'!$O$4))) | K33: =IF('Proposed Design'!M30="","",IF('Proposed Design'!M28='Criteria look-up'!$L$5,'Criteria look-up'!$O$5,IF('Proposed Design'!M30<0.5,'Criteria look-up'!$O$3,'Criteria look-up'!$O$4))) | ... W33: =IF('Proposed Design'!Y30="","",IF('Proposed Design'!Y28='Criteria look-up'!$L$5,'Criteria look-up'!$O$5,IF('Proposed Design'!Y30<0.5,'Criteria look-up'!$O$3,'Criteria look-up'!$O$4)))
C34: Turning risk - does the design provide a cycle early release signal at signal controlled junctions? | D34: =IF('Proposed Design'!F31="","",'Proposed Design'!F31) | E34: =IF('Proposed Design'!G31="","",'Proposed Design'!G31) | F34: =IF('Proposed Design'!H31="","",'Proposed Design'!H31) | G34: =IF('Proposed Design'!I31="","",'Proposed Design'!I31) | H34: =IF('Proposed Design'!J31="","",'Proposed Design'!J31) | I34: =IF('Proposed Design'!K31="","",'Proposed Design'!K31) | J34: =IF('Proposed Design'!L31="","",'Proposed Design'!L31) | K34: =IF('Proposed Design'!M31="","",'Proposed Design'!M31) | ... W34: =IF('Proposed Design'!Y31="","",'Proposed Design'!Y31)
C35: Turning risk - are conflicting movements between cycle traffic and motor traffic separated with dedicated signals for cycles? | D35: =IF('Proposed Design'!F32="","",'Proposed Design'!F32) | E35: =IF('Proposed Design'!G32="","",'Proposed Design'!G32) | F35: =IF('Proposed Design'!H32="","",'Proposed Design'!H32) | G35: =IF('Proposed Design'!I32="","",'Proposed Design'!I32) | H35: =IF('Proposed Design'!J32="","",'Proposed Design'!J32) | I35: =IF('Proposed Design'!K32="","",'Proposed Design'!K32) | J35: =IF('Proposed Design'!L32="","",'Proposed Design'!L32) | K35: =IF('Proposed Design'!M32="","",'Proposed Design'!M32) | ... W35: =IF('Proposed Design'!Y32="","",'Proposed Design'!Y32)
B37: Value coding of potential design information - this is calculated automatically | C37: Type of cycle lane or track proposed | D37: =IFERROR(INDEX('Criteria look-up'!$A$3:$A$6,MATCH(D30,'Criteria look-up'!$L$3:$L$6,0),0),"") | E37: =IFERROR(INDEX('Criteria look-up'!$A$3:$A$6,MATCH(E30,'Criteria look-up'!$L$3:$L$6,0),0),"") | F37: =IFERROR(INDEX('Criteria look-up'!$A$3:$A$6,MATCH(F30,'Criteria look-up'!$L$3:$L$6,0),0),"") | G37: =IFERROR(INDEX('Criteria look-up'!$A$3:$A$6,MATCH(G30,'Criteria look-up'!$L$3:$L$6,0),0),"") | H37: =IFERROR(INDEX('Criteria look-up'!$A$3:$A$6,MATCH(H30,'Criteria look-up'!$L$3:$L$6,0),0),"") | I37: =IFERROR(INDEX('Criteria look-up'!$A$3:$A$6,MATCH(I30,'Criteria look-up'!$L$3:$L$6,0),0),"") | J37: =IFERROR(INDEX('Criteria look-up'!$A$3:$A$6,MATCH(J30,'Criteria look-up'!$L$3:$L$6,0),0),"") | K37: =IFERROR(INDEX('Criteria look-up'!$A$3:$A$6,MATCH(K30,'Criteria look-up'!$L$3:$L$6,0),0),"") | ... W37: =IFERROR(INDEX('Criteria look-up'!$A$3:$A$6,MATCH(W30,'Criteria look-up'!$L$3:$L$6,0),0),"")
C38: Proposed width of shared space/one-way lane or track (m) | D38: =IFERROR(INDEX('Criteria look-up'!$A$3:$A$9,MATCH(D31,'Criteria look-up'!$M$3:$M$9,0),0),"") | E38: =IFERROR(INDEX('Criteria look-up'!$A$3:$A$9,MATCH(E31,'Criteria look-up'!$M$3:$M$9,0),0),"") | F38: =IFERROR(INDEX('Criteria look-up'!$A$3:$A$9,MATCH(F31,'Criteria look-up'!$M$3:$M$9,0),0),"") | G38: =IFERROR(INDEX('Criteria look-up'!$A$3:$A$9,MATCH(G31,'Criteria look-up'!$M$3:$M$9,0),0),"") | H38: =IFERROR(INDEX('Criteria look-up'!$A$3:$A$9,MATCH(H31,'Criteria look-up'!$M$3:$M$9,0),0),"") | I38: =IFERROR(INDEX('Criteria look-up'!$A$3:$A$9,MATCH(I31,'Criteria look-up'!$M$3:$M$9,0),0),"") | J38: =IFERROR(INDEX('Criteria look-up'!$A$3:$A$9,MATCH(J31,'Criteria look-up'!$M$3:$M$9,0),0),"") | K38: =IFERROR(INDEX('Criteria look-up'!$A$3:$A$9,MATCH(K31,'Criteria look-up'!$M$3:$M$9,0),0),"") | ... W38: =IFERROR(INDEX('Criteria look-up'!$A$3:$A$9,MATCH(W31,'Criteria look-up'!$M$3:$M$9,0),0),"")
C39: Proposed width of two-way lane or track (m) | D39: =IFERROR(INDEX('Criteria look-up'!$A$3:$A$6,MATCH(D32,'Criteria look-up'!$N$3:$N$6,0),0),"") | E39: =IFERROR(INDEX('Criteria look-up'!$A$3:$A$6,MATCH(E32,'Criteria look-up'!$N$3:$N$6,0),0),"") | F39: =IFERROR(INDEX('Criteria look-up'!$A$3:$A$6,MATCH(F32,'Criteria look-up'!$N$3:$N$6,0),0),"") | G39: =IFERROR(INDEX('Criteria look-up'!$A$3:$A$6,MATCH(G32,'Criteria look-up'!$N$3:$N$6,0),0),"") | H39: =IFERROR(INDEX('Criteria look-up'!$A$3:$A$6,MATCH(H32,'Criteria look-up'!$N$3:$N$6,0),0),"") | I39: =IFERROR(INDEX('Criteria look-up'!$A$3:$A$6,MATCH(I32,'Criteria look-up'!$N$3:$N$6,0),0),"") | J39: =IFERROR(INDEX('Criteria look-up'!$A$3:$A$6,MATCH(J32,'Criteria look-up'!$N$3:$N$6,0),0),"") | K39: =IFERROR(INDEX('Criteria look-up'!$A$3:$A$6,MATCH(K32,'Criteria look-up'!$N$3:$N$6,0),0),"") | ... W39: =IFERROR(INDEX('Criteria look-up'!$A$3:$A$6,MATCH(W32,'Criteria look-up'!$N$3:$N$6,0),0),"")
C40: Proposed buffer zone width adjacent to kerbside activity where a cycle lane is provided (m) | D40: =IFERROR(INDEX('Criteria look-up'!$A$3:$A$6,MATCH(D33,'Criteria look-up'!$O$3:$O$6,0),0),"") | E40: =IFERROR(INDEX('Criteria look-up'!$A$3:$A$6,MATCH(E33,'Criteria look-up'!$O$3:$O$6,0),0),"") | F40: =IFERROR(INDEX('Criteria look-up'!$A$3:$A$6,MATCH(F33,'Criteria look-up'!$O$3:$O$6,0),0),"") | G40: =IFERROR(INDEX('Criteria look-up'!$A$3:$A$6,MATCH(G33,'Criteria look-up'!$O$3:$O$6,0),0),"") | H40: =IFERROR(INDEX('Criteria look-up'!$A$3:$A$6,MATCH(H33,'Criteria look-up'!$O$3:$O$6,0),0),"") | I40: =IFERROR(INDEX('Criteria look-up'!$A$3:$A$6,MATCH(I33,'Criteria look-up'!$O$3:$O$6,0),0),"") | J40: =IFERROR(INDEX('Criteria look-up'!$A$3:$A$6,MATCH(J33,'Criteria look-up'!$O$3:$O$6,0),0),"") | K40: =IFERROR(INDEX('Criteria look-up'!$A$3:$A$6,MATCH(K33,'Criteria look-up'!$O$3:$O$6,0),0),"") | ... W40: =IFERROR(INDEX('Criteria look-up'!$A$3:$A$6,MATCH(W33,'Criteria look-up'!$O$3:$O$6,0),0),"")
C41: Turning risk - does the design provide a cycle early release signal at signal controlled junctions? | D41: =IFERROR(INDEX('Criteria look-up'!$A$3:$A$6,MATCH(D34,'Criteria look-up'!$P$3:$P$6,0),0),"") | E41: =IFERROR(INDEX('Criteria look-up'!$A$3:$A$6,MATCH(E34,'Criteria look-up'!$P$3:$P$6,0),0),"") | F41: =IFERROR(INDEX('Criteria look-up'!$A$3:$A$6,MATCH(F34,'Criteria look-up'!$P$3:$P$6,0),0),"") | G41: =IFERROR(INDEX('Criteria look-up'!$A$3:$A$6,MATCH(G34,'Criteria look-up'!$P$3:$P$6,0),0),"") | H41: =IFERROR(INDEX('Criteria look-up'!$A$3:$A$6,MATCH(H34,'Criteria look-up'!$P$3:$P$6,0),0),"") | I41: =IFERROR(INDEX('Criteria look-up'!$A$3:$A$6,MATCH(I34,'Criteria look-up'!$P$3:$P$6,0),0),"") | J41: =IFERROR(INDEX('Criteria look-up'!$A$3:$A$6,MATCH(J34,'Criteria look-up'!$P$3:$P$6,0),0),"") | K41: =IFERROR(INDEX('Criteria look-up'!$A$3:$A$6,MATCH(K34,'Criteria look-up'!$P$3:$P$6,0),0),"") | ... W41: =IFERROR(INDEX('Criteria look-up'!$A$3:$A$6,MATCH(W34,'Criteria look-up'!$P$3:$P$6,0),0),"")
C42: Turning risk - are conflicting movements between cycle traffic and motor traffic separated with dedicated signals for cycles? | D42: =IFERROR(INDEX('Criteria look-up'!$A$3:$A$6,MATCH(D35,'Criteria look-up'!$Q$3:$Q$6,0),0),"") | E42: =IFERROR(INDEX('Criteria look-up'!$A$3:$A$6,MATCH(E35,'Criteria look-up'!$Q$3:$Q$6,0),0),"") | F42: =IFERROR(INDEX('Criteria look-up'!$A$3:$A$6,MATCH(F35,'Criteria look-up'!$Q$3:$Q$6,0),0),"") | G42: =IFERROR(INDEX('Criteria look-up'!$A$3:$A$6,MATCH(G35,'Criteria look-up'!$Q$3:$Q$6,0),0),"") | H42: =IFERROR(INDEX('Criteria look-up'!$A$3:$A$6,MATCH(H35,'Criteria look-up'!$Q$3:$Q$6,0),0),"") | I42: =IFERROR(INDEX('Criteria look-up'!$A$3:$A$6,MATCH(I35,'Criteria look-up'!$Q$3:$Q$6,0),0),"") | J42: =IFERROR(INDEX('Criteria look-up'!$A$3:$A$6,MATCH(J35,'Criteria look-up'!$Q$3:$Q$6,0),0),"") | K42: =IFERROR(INDEX('Criteria look-up'!$A$3:$A$6,MATCH(K35,'Criteria look-up'!$Q$3:$Q$6,0),0),"") | ... W42: =IFERROR(INDEX('Criteria look-up'!$A$3:$A$6,MATCH(W35,'Criteria look-up'!$Q$3:$Q$6,0),0),"")
C43: Unique ID | D43: =IFERROR(D37*100000+D38*10000+D39*1000+D40*100+D41*10+D42,"") | E43: =IFERROR(E37*100000+E38*10000+E39*1000+E40*100+E41*10+E42,"") | F43: =IFERROR(F37*100000+F38*10000+F39*1000+F40*100+F41*10+F42,"") | G43: =IFERROR(G37*100000+G38*10000+G39*1000+G40*100+G41*10+G42,"") | H43: =IFERROR(H37*100000+H38*10000+H39*1000+H40*100+H41*10+H42,"") | I43: =IFERROR(I37*100000+I38*10000+I39*1000+I40*100+I41*10+I42,"") | J43: =IFERROR(J37*100000+J38*10000+J39*1000+J40*100+J41*10+J42,"") | K43: =IFERROR(K37*100000+K38*10000+K39*1000+K40*100+K41*10+K42,"") | ... W43: =IFERROR(W37*100000+W38*10000+W39*1000+W40*100+W41*10+W42,"")
B45: Design guidance | D45: =IFERROR(INDEX('Combinations - Potential'!$G$2:$G$1729,MATCH(D43,'Combinations - Potential'!$O$2:$O$1729,0),0),"") | E45: =IFERROR(INDEX('Combinations - Potential'!$G$2:$G$1729,MATCH(E43,'Combinations - Potential'!$O$2:$O$1729,0),0),"") | F45: =IFERROR(INDEX('Combinations - Potential'!$G$2:$G$1729,MATCH(F43,'Combinations - Potential'!$O$2:$O$1729,0),0),"") | G45: =IFERROR(INDEX('Combinations - Potential'!$G$2:$G$1729,MATCH(G43,'Combinations - Potential'!$O$2:$O$1729,0),0),"") | H45: =IFERROR(INDEX('Combinations - Potential'!$G$2:$G$1729,MATCH(H43,'Combinations - Potential'!$O$2:$O$1729,0),0),"") | I45: =IFERROR(INDEX('Combinations - Potential'!$G$2:$G$1729,MATCH(I43,'Combinations - Potential'!$O$2:$O$1729,0),0),"") | J45: =IFERROR(INDEX('Combinations - Potential'!$G$2:$G$1729,MATCH(J43,'Combinations - Potential'!$O$2:$O$1729,0),0),"") | K45: =IFERROR(INDEX('Combinations - Potential'!$G$2:$G$1729,MATCH(K43,'Combinations - Potential'!$O$2:$O$1729,0),0),"") | ... W45: =IFERROR(INDEX('Combinations - Potential'!$G$2:$G$1729,MATCH(W43,'Combinations - Potential'!$O$2:$O$1729,0),0),"")

Sheet Criteria look-up
B2: Peak hour flow (busiest hour) | C2: Average 85th %ile speed (mph) | D2: Effective width - what is the proposed width of the running lane for general traffic? | E2: Turning risk - does the design provide necessary measures to reduce the speed or volume of turning movements by motor vehicles? | F2: Proposed width of kerbside parking/loading facility | G2: Criteria 5 Kerbside activity - does the design fulfil the criteria? | H2: Average % HGV volume (7am-7pm) | I2: Expected to be suitable for cyclists to be mixed with general traffic | J2: Is a cycle lane or track proposed? | K2: Recommendation | L2: Type of cycle lane or track proposed | M2: Proposed width of shared use area/one-way lane or track (m) | N2: Proposed width of two-way lane or track (m) | O2: Proposed buffer zone width adjacent to kerbside activity where a cycle lane is provided (m) | P2: Turning risk - does the design provide a cycle early release signal at signal controlled junctions? | Q2: Turning risk - are conflicting movements between cycle traffic and motor traffic separated with dedicated signals for cycles? | R2: Quality Criteria Result
A3: 1 | B3: >1000 | C3: >30 with | D3: ≤3.2 | E3: Yes | F3: <2 | G3: Yes | H3: >10 | I3: Yes | J3: Yes | L3: One-way | M3: <1.5 | N3: <2.0 | O3: <0.5 | P3: Yes | Q3: Yes
A4: 2 | B4: 500-1000 | C4: >30 without | D4: >3.2-<4 | E4: No | F4: ≥2 | G4: No | H4: ≥5-10 | I4: No | J4: No | L4: Two-way | M4: 1.5-<2.2 | N4: 2.0-<3.0 | O4: ≥0.5 | P4: No | Q4: No
A5: 3 | B5: 200-499 | C5: 25-30 with | D5: ≥4-<4.5 | E5: N/A | H5: ≥2-5 | J5: N/A | L5: Shared use | M5: ≥2.2 | N5: ≥3.0 | O5: N/A | P5: N/A | Q5: N/A
A6: 4 | B6: <200 | C6: 25-30 without | D6: ≥4.5 | H6: <2 | L6: N/A | M6: <2.2 | N6: N/A
A7: 5 | C7: <25 | M7: 2.2-<3.0
A8: 6 | M8: ≥3.0
A9: 7 | M9: N/A

Sheet Combinations - Current
A1: Criteria 1 Peak hour flow (busiest hour) | B1: Criteria 2 Average 85th %ile speed (mph) | C1: Criteria 3 Effective width | D1: Criteria 4 Turning risk - does the design fulfil the criteria? | E1: Criteria 5 Kerbside activity - does the design fulfil the criteria? | F1: Criteria 6 Average % HGV volume (7am-7pm) | G1: Suitable for cyclists to be mixed with general traffic | H1: Design recommendations | I1: Criteria 1 | J1: Criteria 2 | K1: Criteria 3 | L1: Criteria 4 | M1: Criteria 5 | N1: Criteria 6 | O1: Unique ID
A2: 500-1000 | B2: <25 | C2: ≤3.2 | D2: Yes | E2: No | F2: >10 | G2: No | H2: =IF(G2="Yes","Expected to provide a good level of provision for people cycling to be mixed with general traffic", "") | I2: =INDEX('Criteria look-up'!$A$3:$A$6,MATCH(A2,'Criteria look-up'!B$3:B$6,0),0) -> 2 | J2: =INDEX('Criteria look-up'!$A$3:$A$7,MATCH(B2,'Criteria look-up'!C$3:C$7,0),0) -> 5 | K2: =INDEX('Criteria look-up'!$A$3:$A$6,MATCH(C2,'Criteria look-up'!D$3:D$6,0),0) -> 1 | L2: =INDEX('Criteria look-up'!$A$3:$A$6,MATCH(D2,'Criteria look-up'!E$3:E$6,0),0) -> 1 | M2: =INDEX('Criteria look-up'!$A$3:$A$6,MATCH(E2,'Criteria look-up'!G$3:G$6,0),0) -> 2 | N2: =INDEX('Criteria look-up'!$A$3:$A$6,MATCH(F2,'Criteria look-up'!H$3:H$6,0),0) -> 1 | O2: =I2*100000+J2*10000+K2*1000+L2*100+M2*10+N2 -> 251121
A3: 500-1000 | B3: <25 | C3: >3.2-<4 | D3: Yes | E3: No | F3: >10 | G3: No | H3: =IF(G3="Yes","Expected to provide a good level of provision for people cycling to be mixed with general traffic", "") | I3: =INDEX('Criteria look-up'!$A$3:$A$6,MATCH(A3,'Criteria look-up'!B$3:B$6,0),0) -> 2 | J3: =INDEX('Criteria look-up'!$A$3:$A$7,MATCH(B3,'Criteria look-up'!C$3:C$7,0),0) -> 5 | K3: =INDEX('Criteria look-up'!$A$3:$A$6,MATCH(C3,'Criteria look-up'!D$3:D$6,0),0) -> 2 | L3: =INDEX('Criteria look-up'!$A$3:$A$6,MATCH(D3,'Criteria look-up'!E$3:E$6,0),0) -> 1 | M3: =INDEX('Criteria look-up'!$A$3:$A$6,MATCH(E3,'Criteria look-up'!G$3:G$6,0),0) -> 2 | N3: =INDEX('Criteria look-up'!$A$3:$A$6,MATCH(F3,'Criteria look-up'!H$3:H$6,0),0) -> 1 | O3: =I3*100000+J3*10000+K3*1000+L3*100+M3*10+N3 -> 252121
A4: 500-1000 | B4: <25 | C4: ≥4-<4.5 | D4: Yes | E4: No | F4: >10 | G4: No | H4: =IF(G4="Yes","Expected to provide a good level of provision for people cycling to be mixed with general traffic", "") | I4: =INDEX('Criteria look-up'!$A$3:$A$6,MATCH(A4,'Criteria look-up'!B$3:B$6,0),0) -> 2 | J4: =INDEX('Criteria look-up'!$A$3:$A$7,MATCH(B4,'Criteria look-up'!C$3:C$7,0),0) -> 5 | K4: =INDEX('Criteria look-up'!$A$3:$A$6,MATCH(C4,'Criteria look-up'!D$3:D$6,0),0) -> 3 | L4: =INDEX('Criteria look-up'!$A$3:$A$6,MATCH(D4,'Criteria look-up'!E$3:E$6,0),0) -> 1 | M4: =INDEX('Criteria look-up'!$A$3:$A$6,MATCH(E4,'Criteria look-up'!G$3:G$6,0),0) -> 2 | N4: =INDEX('Criteria look-up'!$A$3:$A$6,MATCH(F4,'Criteria look-up'!H$3:H$6,0),0) -> 1 | O4: =I4*100000+J4*10000+K4*1000+L4*100+M4*10+N4 -> 253121
A5: 500-1000 | B5: <25 | C5: ≥4.5 | D5: Yes | E5: No | F5: >10 | G5: No | H5: =IF(G5="Yes","Expected to provide a good level of provision for people cycling to be mixed with general traffic", "") | I5: =INDEX('Criteria look-up'!$A$3:$A$6,MATCH(A5,'Criteria look-up'!B$3:B$6,0),0) -> 2 | J5: =INDEX('Criteria look-up'!$A$3:$A$7,MATCH(B5,'Criteria look-up'!C$3:C$7,0),0) -> 5 | K5: =INDEX('Criteria look-up'!$A$3:$A$6,MATCH(C5,'Criteria look-up'!D$3:D$6,0),0) -> 4 | L5: =INDEX('Criteria look-up'!$A$3:$A$6,MATCH(D5,'Criteria look-up'!E$3:E$6,0),0) -> 1 | M5: =INDEX('Criteria look-up'!$A$3:$A$6,MATCH(E5,'Criteria look-up'!G$3:G$6,0),0) -> 2 | N5: =INDEX('Criteria look-up'!$A$3:$A$6,MATCH(F5,'Criteria look-up'!H$3:H$6,0),0) -> 1 | O5: =I5*100000+J5*10000+K5*1000+L5*100+M5*10+N5 -> 254121
A6: 500-1000 | B6: <25 | C6: ≤3.2 | D6: No | E6: No | F6: >10 | G6: No | H6: =IF(G6="Yes","Expected to provide a good level of provision for people cycling to be mixed with general traffic", "") | I6: =INDEX('Criteria look-up'!$A$3:$A$6,MATCH(A6,'Criteria look-up'!B$3:B$6,0),0) -> 2 | J6: =INDEX('Criteria look-up'!$A$3:$A$7,MATCH(B6,'Criteria look-up'!C$3:C$7,0),0) -> 5 | K6: =INDEX('Criteria look-up'!$A$3:$A$6,MATCH(C6,'Criteria look-up'!D$3:D$6,0),0) -> 1 | L6: =INDEX('Criteria look-up'!$A$3:$A$6,MATCH(D6,'Criteria look-up'!E$3:E$6,0),0) -> 2 | M6: =INDEX('Criteria look-up'!$A$3:$A$6,MATCH(E6,'Criteria look-up'!G$3:G$6,0),0) -> 2 | N6: =INDEX('Criteria look-up'!$A$3:$A$6,MATCH(F6,'Criteria look-up'!H$3:H$6,0),0) -> 1 | O6: =I6*100000+J6*10000+K6*1000+L6*100+M6*10+N6 -> 251221
A7: 500-1000 | B7: <25 | C7: >3.2-<4 | D7: No | E7: No | F7: >10 | G7: No | H7: =IF(G7="Yes","Expected to provide a good level of provision for people cycling to be mixed with general traffic", "") | I7: =INDEX('Criteria look-up'!$A$3:$A$6,MATCH(A7,'Criteria look-up'!B$3:B$6,0),0) -> 2 | J7: =INDEX('Criteria look-up'!$A$3:$A$7,MATCH(B7,'Criteria look-up'!C$3:C$7,0),0) -> 5 | K7: =INDEX('Criteria look-up'!$A$3:$A$6,MATCH(C7,'Criteria look-up'!D$3:D$6,0),0) -> 2 | L7: =INDEX('Criteria look-up'!$A$3:$A$6,MATCH(D7,'Criteria look-up'!E$3:E$6,0),0) -> 2 | M7: =INDEX('Criteria look-up'!$A$3:$A$6,MATCH(E7,'Criteria look-up'!G$3:G$6,0),0) -> 2 | N7: =INDEX('Criteria look-up'!$A$3:$A$6,MATCH(F7,'Criteria look-up'!H$3:H$6,0),0) -> 1 | O7: =I7*100000+J7*10000+K7*1000+L7*100+M7*10+N7 -> 252221
A8: 500-1000 | B8: <25 | C8: ≥4-<4.5 | D8: No | E8: No | F8: >10 | G8: No | H8: =IF(G8="Yes","Expected to provide a good level of provision for people cycling to be mixed with general traffic", "") | I8: =INDEX('Criteria look-up'!$A$3:$A$6,MATCH(A8,'Criteria look-up'!B$3:B$6,0),0) -> 2 | J8: =INDEX('Criteria look-up'!$A$3:$A$7,MATCH(B8,'Criteria look-up'!C$3:C$7,0),0) -> 5 | K8: =INDEX('Criteria look-up'!$A$3:$A$6,MATCH(C8,'Criteria look-up'!D$3:D$6,0),0) -> 3 | L8: =INDEX('Criteria look-up'!$A$3:$A$6,MATCH(D8,'Criteria look-up'!E$3:E$6,0),0) -> 2 | M8: =INDEX('Criteria look-up'!$A$3:$A$6,MATCH(E8,'Criteria look-up'!G$3:G$6,0),0) -> 2 | N8: =INDEX('Criteria look-up'!$A$3:$A$6,MATCH(F8,'Criteria look-up'!H$3:H$6,0),0) -> 1 | O8: =I8*100000+J8*10000+K8*1000+L8*100+M8*10+N8 -> 253221
A9: 500-1000 | B9: <25 | C9: ≥4.5 | D9: No | E9: No | F9: >10 | G9: No | H9: =IF(G9="Yes","Expected to provide a good level of provision for people cycling to be mixed with general traffic", "") | I9: =INDEX('Criteria look-up'!$A$3:$A$6,MATCH(A9,'Criteria look-up'!B$3:B$6,0),0) -> 2 | J9: =INDEX('Criteria look-up'!$A$3:$A$7,MATCH(B9,'Criteria look-up'!C$3:C$7,0),0) -> 5 | K9: =INDEX('Criteria look-up'!$A$3:$A$6,MATCH(C9,'Criteria look-up'!D$3:D$6,0),0) -> 4 | L9: =INDEX('Criteria look-up'!$A$3:$A$6,MATCH(D9,'Criteria look-up'!E$3:E$6,0),0) -> 2 | M9: =INDEX('Criteria look-up'!$A$3:$A$6,MATCH(E9,'Criteria look-up'!G$3:G$6,0),0) -> 2 | N9: =INDEX('Criteria look-up'!$A$3:$A$6,MATCH(F9,'Criteria look-up'!H$3:H$6,0),0) -> 1 | O9: =I9*100000+J9*10000+K9*1000+L9*100+M9*10+N9 -> 254221
A10: 500-1000 | B10: <25 | C10: ≤3.2 | D10: N/A | E10: No | F10: >10 | G10: No | H10: =IF(G10="Yes","Expected to provide a good level of provision for people cycling to be mixed with general traffic", "") | I10: =INDEX('Criteria look-up'!$A$3:$A$6,MATCH(A10,'Criteria look-up'!B$3:B$6,0),0) -> 2 | J10: =INDEX('Criteria look-up'!$A$3:$A$7,MATCH(B10,'Criteria look-up'!C$3:C$7,0),0) -> 5 | K10: =INDEX('Criteria look-up'!$A$3:$A$6,MATCH(C10,'Criteria look-up'!D$3:D$6,0),0) -> 1 | L10: =INDEX('Criteria look-up'!$A$3:$A$6,MATCH(D10,'Criteria look-up'!E$3:E$6,0),0) -> 3 | M10: =INDEX('Criteria look-up'!$A$3:$A$6,MATCH(E10,'Criteria look-up'!G$3:G$6,0),0) -> 2 | N10: =INDEX('Criteria look-up'!$A$3:$A$6,MATCH(F10,'Criteria look-up'!H$3:H$6,0),0) -> 1 | O10: =I10*100000+J10*10000+K10*1000+L10*100+M10*10+N10 -> 251321
A11: 500-1000 | B11: <25 | C11: >3.2-<4 | D11: N/A | E11: No | F11: >10 | G11: No | H11: =IF(G11="Yes","Expected to provide a good level of provision for people cycling to be mixed with general traffic", "") | I11: =INDEX('Criteria look-up'!$A$3:$A$6,MATCH(A11,'Criteria look-up'!B$3:B$6,0),0) -> 2 | J11: =INDEX('Criteria look-up'!$A$3:$A$7,MATCH(B11,'Criteria look-up'!C$3:C$7,0),0) -> 5 | K11: =INDEX('Criteria look-up'!$A$3:$A$6,MATCH(C11,'Criteria look-up'!D$3:D$6,0),0) -> 2 | L11: =INDEX('Criteria look-up'!$A$3:$A$6,MATCH(D11,'Criteria look-up'!E$3:E$6,0),0) -> 3 | M11: =INDEX('Criteria look-up'!$A$3:$A$6,MATCH(E11,'Criteria look-up'!G$3:G$6,0),0) -> 2 | N11: =INDEX('Criteria look-up'!$A$3:$A$6,MATCH(F11,'Criteria look-up'!H$3:H$6,0),0) -> 1 | O11: =I11*100000+J11*10000+K11*1000+L11*100+M11*10+N11 -> 252321
A12: 500-1000 | B12: <25 | C12: ≥4-<4.5 | D12: N/A | E12: No | F12: >10 | G12: No | H12: =IF(G12="Yes","Expected to provide a good level of provision for people cycling to be mixed with general traffic", "") | I12: =INDEX('Criteria look-up'!$A$3:$A$6,MATCH(A12,'Criteria look-up'!B$3:B$6,0),0) -> 2 | J12: =INDEX('Criteria look-up'!$A$3:$A$7,MATCH(B12,'Criteria look-up'!C$3:C$7,0),0) -> 5 | K12: =INDEX('Criteria look-up'!$A$3:$A$6,MATCH(C12,'Criteria look-up'!D$3:D$6,0),0) -> 3 | L12: =INDEX('Criteria look-up'!$A$3:$A$6,MATCH(D12,'Criteria look-up'!E$3:E$6,0),0) -> 3 | M12: =INDEX('Criteria look-up'!$A$3:$A$6,MATCH(E12,'Criteria look-up'!G$3:G$6,0),0) -> 2 | N12: =INDEX('Criteria look-up'!$A$3:$A$6,MATCH(F12,'Criteria look-up'!H$3:H$6,0),0) -> 1 | O12: =I12*100000+J12*10000+K12*1000+L12*100+M12*10+N12 -> 253321
A13: 500-1000 | B13: <25 | C13: ≥4.5 | D13: N/A | E13: No | F13: >10 | G13: No | H13: =IF(G13="Yes","Expected to provide a good level of provision for people cycling to be mixed with general traffic", "") | I13: =INDEX('Criteria look-up'!$A$3:$A$6,MATCH(A13,'Criteria look-up'!B$3:B$6,0),0) -> 2 | J13: =INDEX('Criteria look-up'!$A$3:$A$7,MATCH(B13,'Criteria look-up'!C$3:C$7,0),0) -> 5 | K13: =INDEX('Criteria look-up'!$A$3:$A$6,MATCH(C13,'Criteria look-up'!D$3:D$6,0),0) -> 4 | L13: =INDEX('Criteria look-up'!$A$3:$A$6,MATCH(D13,'Criteria look-up'!E$3:E$6,0),0) -> 3 | M13: =INDEX('Criteria look-up'!$A$3:$A$6,MATCH(E13,'Criteria look-up'!G$3:G$6,0),0) -> 2 | N13: =INDEX('Criteria look-up'!$A$3:$A$6,MATCH(F13,'Criteria look-up'!H$3:H$6,0),0) -> 1 | O13: =I13*100000+J13*10000+K13*1000+L13*100+M13*10+N13 -> 254321
... A3841: <200 | B3841: >30 without | C3841: ≥4.5 | D3841: N/A | E3841: Yes | F3841: <2 | G3841: No | H3841: =IF(G3841="Yes","Expected to provide a good level of provision for people cycling to be mixed with general traffic", "") | I3841: =INDEX('Criteria look-up'!$A$3:$A$6,MATCH(A3841,'Criteria look-up'!B$3:B$6,0),0) -> 4 | J3841: =INDEX('Criteria look-up'!$A$3:$A$7,MATCH(B3841,'Criteria look-up'!C$3:C$7,0),0) -> 2 | K3841: =INDEX('Criteria look-up'!$A$3:$A$6,MATCH(C3841,'Criteria look-up'!D$3:D$6,0),0) -> 4 | L3841: =INDEX('Criteria look-up'!$A$3:$A$6,MATCH(D3841,'Criteria look-up'!E$3:E$6,0),0) -> 3 | M3841: =INDEX('Criteria look-up'!$A$3:$A$6,MATCH(E3841,'Criteria look-up'!G$3:G$6,0),0) -> 1 | N3841: =INDEX('Criteria look-up'!$A$3:$A$6,MATCH(F3841,'Criteria look-up'!H$3:H$6,0),0) -> 4 | O3841: =I3841*100000+J3841*10000+K3841*1000+L3841*100+M3841*10+N3841 -> 424314

Sheet Combinations - Approach
A1: Expected to be suitable for cyclists to be mixed with general traffic | B1: Is a cycle lane or track proposed? | C1: Index 1 | D1: Recommendation | E1: Recommendation
A2: Yes | B2: Yes | C2: =A2&B2 -> YesYes | D2: Complete Part 2 below | E2: Complete Part 2 below
A3: Yes | B3: No | C3: =A3&B3 -> YesNo | D3: Expected to be suitable for cyclists to be mixed with general traffic | E3: Expected to be suitable for cyclists to be mixed with general traffic
A4: Yes | B4: N/A | C4: =A4&B4 -> YesN/A | D4: Expected to be suitable for cyclists to be mixed with general traffic | E4: Expected to be suitable for cyclists to be mixed with general traffic
A5: No | B5: Yes | C5: =A5&B5 -> NoYes | D5: Complete Part 2 below | E5: Complete Part 2 below
A6: No | B6: No | C6: =A6&B6 -> NoNo | D6: Speak to Lead Sponsor | E6: Design improvements recommended
A7: No | B7: N/A | C7: =A7&B7 -> NoN/A | D7: Speak to Lead Sponsor | E7: Design improvements recommended

Sheet Combinations - Potential
A1: Type of cycle lane or track proposed | B1: Proposed width of one-way lane or track (m) | C1: Proposed width of two-way lane or track (m) | D1: Proposed buffer zone width adjacent to kerbside activity where a cycle lane is provided (m) | E1: Turning risk - does the design provide a cycle early release signal at signal controlled junctions? | F1: Turning risk - are conflicting movements between cycle traffic and motor traffic separated with dedicated signals for cycles? | G1: Additional design comments | H1: Scenario | I1: Criteria 1 | J1: Criteria 2 | K1: Criteria 3 | L1: Criteria 4 | M1: Criteria 5 | N1: Criteria 6 | O1: Unique ID
A2: One-way | B2: <1.5 | C2: <2.0 | D2: <0.5 | E2: Yes | F2: Yes | G2: Address cycle lane width issue | I2: =INDEX('Criteria look-up'!$A$3:$A$6,MATCH(A2,'Criteria look-up'!L$3:L$6,0),0) -> 1 | J2: =INDEX('Criteria look-up'!$A$3:$A$9,MATCH(B2,'Criteria look-up'!M$3:M$9,0),0) -> 1 | K2: =INDEX('Criteria look-up'!$A$3:$A$6,MATCH(C2,'Criteria look-up'!N$3:N$6,0),0) -> 1 | L2: =INDEX('Criteria look-up'!$A$3:$A$6,MATCH(D2,'Criteria look-up'!O$3:O$6,0),0) -> 1 | M2: =INDEX('Criteria look-up'!$A$3:$A$6,MATCH(E2,'Criteria look-up'!P$3:P$6,0),0) -> 1 | N2: =INDEX('Criteria look-up'!$A$3:$A$6,MATCH(F2,'Criteria look-up'!Q$3:Q$6,0),0) -> 1 | O2: =I2*100000+J2*10000+K2*1000+L2*100+M2*10+N2 -> 111111
A3: One-way | B3: <1.5 | C3: <2.0 | D3: <0.5 | E3: Yes | F3: No | G3: Address cycle lane width issue and consider signal design improvements | I3: =INDEX('Criteria look-up'!$A$3:$A$6,MATCH(A3,'Criteria look-up'!L$3:L$6,0),0) -> 1 | J3: =INDEX('Criteria look-up'!$A$3:$A$9,MATCH(B3,'Criteria look-up'!M$3:M$9,0),0) -> 1 | K3: =INDEX('Criteria look-up'!$A$3:$A$6,MATCH(C3,'Criteria look-up'!N$3:N$6,0),0) -> 1 | L3: =INDEX('Criteria look-up'!$A$3:$A$6,MATCH(D3,'Criteria look-up'!O$3:O$6,0),0) -> 1 | M3: =INDEX('Criteria look-up'!$A$3:$A$6,MATCH(E3,'Criteria look-up'!P$3:P$6,0),0) -> 1 | N3: =INDEX('Criteria look-up'!$A$3:$A$6,MATCH(F3,'Criteria look-up'!Q$3:Q$6,0),0) -> 2 | O3: =I3*100000+J3*10000+K3*1000+L3*100+M3*10+N3 -> 111112
A4: One-way | B4: <1.5 | C4: <2.0 | D4: <0.5 | E4: Yes | F4: N/A | G4: Address cycle lane width issue | I4: =INDEX('Criteria look-up'!$A$3:$A$6,MATCH(A4,'Criteria look-up'!L$3:L$6,0),0) -> 1 | J4: =INDEX('Criteria look-up'!$A$3:$A$9,MATCH(B4,'Criteria look-up'!M$3:M$9,0),0) -> 1 | K4: =INDEX('Criteria look-up'!$A$3:$A$6,MATCH(C4,'Criteria look-up'!N$3:N$6,0),0) -> 1 | L4: =INDEX('Criteria look-up'!$A$3:$A$6,MATCH(D4,'Criteria look-up'!O$3:O$6,0),0) -> 1 | M4: =INDEX('Criteria look-up'!$A$3:$A$6,MATCH(E4,'Criteria look-up'!P$3:P$6,0),0) -> 1 | N4: =INDEX('Criteria look-up'!$A$3:$A$6,MATCH(F4,'Criteria look-up'!Q$3:Q$6,0),0) -> 3 | O4: =I4*100000+J4*10000+K4*1000+L4*100+M4*10+N4 -> 111113
A5: One-way | B5: <1.5 | C5: 2.0-<3.0 | D5: <0.5 | E5: Yes | F5: Yes | G5: Address cycle lane width issue | I5: =INDEX('Criteria look-up'!$A$3:$A$6,MATCH(A5,'Criteria look-up'!L$3:L$6,0),0) -> 1 | J5: =INDEX('Criteria look-up'!$A$3:$A$9,MATCH(B5,'Criteria look-up'!M$3:M$9,0),0) -> 1 | K5: =INDEX('Criteria look-up'!$A$3:$A$6,MATCH(C5,'Criteria look-up'!N$3:N$6,0),0) -> 2 | L5: =INDEX('Criteria look-up'!$A$3:$A$6,MATCH(D5,'Criteria look-up'!O$3:O$6,0),0) -> 1 | M5: =INDEX('Criteria look-up'!$A$3:$A$6,MATCH(E5,'Criteria look-up'!P$3:P$6,0),0) -> 1 | N5: =INDEX('Criteria look-up'!$A$3:$A$6,MATCH(F5,'Criteria look-up'!Q$3:Q$6,0),0) -> 1 | O5: =I5*100000+J5*10000+K5*1000+L5*100+M5*10+N5 -> 112111
A6: One-way | B6: <1.5 | C6: 2.0-<3.0 | D6: <0.5 | E6: Yes | F6: No | G6: Address cycle lane width issue and consider signal design improvements | I6: =INDEX('Criteria look-up'!$A$3:$A$6,MATCH(A6,'Criteria look-up'!L$3:L$6,0),0) -> 1 | J6: =INDEX('Criteria look-up'!$A$3:$A$9,MATCH(B6,'Criteria look-up'!M$3:M$9,0),0) -> 1 | K6: =INDEX('Criteria look-up'!$A$3:$A$6,MATCH(C6,'Criteria look-up'!N$3:N$6,0),0) -> 2 | L6: =INDEX('Criteria look-up'!$A$3:$A$6,MATCH(D6,'Criteria look-up'!O$3:O$6,0),0) -> 1 | M6: =INDEX('Criteria look-up'!$A$3:$A$6,MATCH(E6,'Criteria look-up'!P$3:P$6,0),0) -> 1 | N6: =INDEX('Criteria look-up'!$A$3:$A$6,MATCH(F6,'Criteria look-up'!Q$3:Q$6,0),0) -> 2 | O6: =I6*100000+J6*10000+K6*1000+L6*100+M6*10+N6 -> 112112
A7: One-way | B7: <1.5 | C7: 2.0-<3.0 | D7: <0.5 | E7: Yes | F7: N/A | G7: Address cycle lane width issue | I7: =INDEX('Criteria look-up'!$A$3:$A$6,MATCH(A7,'Criteria look-up'!L$3:L$6,0),0) -> 1 | J7: =INDEX('Criteria look-up'!$A$3:$A$9,MATCH(B7,'Criteria look-up'!M$3:M$9,0),0) -> 1 | K7: =INDEX('Criteria look-up'!$A$3:$A$6,MATCH(C7,'Criteria look-up'!N$3:N$6,0),0) -> 2 | L7: =INDEX('Criteria look-up'!$A$3:$A$6,MATCH(D7,'Criteria look-up'!O$3:O$6,0),0) -> 1 | M7: =INDEX('Criteria look-up'!$A$3:$A$6,MATCH(E7,'Criteria look-up'!P$3:P$6,0),0) -> 1 | N7: =INDEX('Criteria look-up'!$A$3:$A$6,MATCH(F7,'Criteria look-up'!Q$3:Q$6,0),0) -> 3 | O7: =I7*100000+J7*10000+K7*1000+L7*100+M7*10+N7 -> 112113
A8: One-way | B8: <1.5 | C8: ≥3.0 | D8: <0.5 | E8: Yes | F8: Yes | G8: Address cycle lane width issue | I8: =INDEX('Criteria look-up'!$A$3:$A$6,MATCH(A8,'Criteria look-up'!L$3:L$6,0),0) -> 1 | J8: =INDEX('Criteria look-up'!$A$3:$A$9,MATCH(B8,'Criteria look-up'!M$3:M$9,0),0) -> 1 | K8: =INDEX('Criteria look-up'!$A$3:$A$6,MATCH(C8,'Criteria look-up'!N$3:N$6,0),0) -> 3 | L8: =INDEX('Criteria look-up'!$A$3:$A$6,MATCH(D8,'Criteria look-up'!O$3:O$6,0),0) -> 1 | M8: =INDEX('Criteria look-up'!$A$3:$A$6,MATCH(E8,'Criteria look-up'!P$3:P$6,0),0) -> 1 | N8: =INDEX('Criteria look-up'!$A$3:$A$6,MATCH(F8,'Criteria look-up'!Q$3:Q$6,0),0) -> 1 | O8: =I8*100000+J8*10000+K8*1000+L8*100+M8*10+N8 -> 113111
A9: One-way | B9: <1.5 | C9: ≥3.0 | D9: <0.5 | E9: Yes | F9: No | G9: Address cycle lane width issue and consider signal design improvements | I9: =INDEX('Criteria look-up'!$A$3:$A$6,MATCH(A9,'Criteria look-up'!L$3:L$6,0),0) -> 1 | J9: =INDEX('Criteria look-up'!$A$3:$A$9,MATCH(B9,'Criteria look-up'!M$3:M$9,0),0) -> 1 | K9: =INDEX('Criteria look-up'!$A$3:$A$6,MATCH(C9,'Criteria look-up'!N$3:N$6,0),0) -> 3 | L9: =INDEX('Criteria look-up'!$A$3:$A$6,MATCH(D9,'Criteria look-up'!O$3:O$6,0),0) -> 1 | M9: =INDEX('Criteria look-up'!$A$3:$A$6,MATCH(E9,'Criteria look-up'!P$3:P$6,0),0) -> 1 | N9: =INDEX('Criteria look-up'!$A$3:$A$6,MATCH(F9,'Criteria look-up'!Q$3:Q$6,0),0) -> 2 | O9: =I9*100000+J9*10000+K9*1000+L9*100+M9*10+N9 -> 113112
A10: One-way | B10: <1.5 | C10: ≥3.0 | D10: <0.5 | E10: Yes | F10: N/A | G10: Address cycle lane width issue | I10: =INDEX('Criteria look-up'!$A$3:$A$6,MATCH(A10,'Criteria look-up'!L$3:L$6,0),0) -> 1 | J10: =INDEX('Criteria look-up'!$A$3:$A$9,MATCH(B10,'Criteria look-up'!M$3:M$9,0),0) -> 1 | K10: =INDEX('Criteria look-up'!$A$3:$A$6,MATCH(C10,'Criteria look-up'!N$3:N$6,0),0) -> 3 | L10: =INDEX('Criteria look-up'!$A$3:$A$6,MATCH(D10,'Criteria look-up'!O$3:O$6,0),0) -> 1 | M10: =INDEX('Criteria look-up'!$A$3:$A$6,MATCH(E10,'Criteria look-up'!P$3:P$6,0),0) -> 1 | N10: =INDEX('Criteria look-up'!$A$3:$A$6,MATCH(F10,'Criteria look-up'!Q$3:Q$6,0),0) -> 3 | O10: =I10*100000+J10*10000+K10*1000+L10*100+M10*10+N10 -> 113113
A11: One-way | B11: <1.5 | C11: N/A | D11: <0.5 | E11: Yes | F11: Yes | G11: Address cycle lane width issue | I11: =INDEX('Criteria look-up'!$A$3:$A$6,MATCH(A11,'Criteria look-up'!L$3:L$6,0),0) -> 1 | J11: =INDEX('Criteria look-up'!$A$3:$A$9,MATCH(B11,'Criteria look-up'!M$3:M$9,0),0) -> 1 | K11: =INDEX('Criteria look-up'!$A$3:$A$6,MATCH(C11,'Criteria look-up'!N$3:N$6,0),0) -> 4 | L11: =INDEX('Criteria look-up'!$A$3:$A$6,MATCH(D11,'Criteria look-up'!O$3:O$6,0),0) -> 1 | M11: =INDEX('Criteria look-up'!$A$3:$A$6,MATCH(E11,'Criteria look-up'!P$3:P$6,0),0) -> 1 | N11: =INDEX('Criteria look-up'!$A$3:$A$6,MATCH(F11,'Criteria look-up'!Q$3:Q$6,0),0) -> 1 | O11: =I11*100000+J11*10000+K11*1000+L11*100+M11*10+N11 -> 114111
A12: One-way | B12: <1.5 | C12: N/A | D12: <0.5 | E12: Yes | F12: No | G12: Address cycle lane width issue and consider signal design improvements | I12: =INDEX('Criteria look-up'!$A$3:$A$6,MATCH(A12,'Criteria look-up'!L$3:L$6,0),0) -> 1 | J12: =INDEX('Criteria look-up'!$A$3:$A$9,MATCH(B12,'Criteria look-up'!M$3:M$9,0),0) -> 1 | K12: =INDEX('Criteria look-up'!$A$3:$A$6,MATCH(C12,'Criteria look-up'!N$3:N$6,0),0) -> 4 | L12: =INDEX('Criteria look-up'!$A$3:$A$6,MATCH(D12,'Criteria look-up'!O$3:O$6,0),0) -> 1 | M12: =INDEX('Criteria look-up'!$A$3:$A$6,MATCH(E12,'Criteria look-up'!P$3:P$6,0),0) -> 1 | N12: =INDEX('Criteria look-up'!$A$3:$A$6,MATCH(F12,'Criteria look-up'!Q$3:Q$6,0),0) -> 2 | O12: =I12*100000+J12*10000+K12*1000+L12*100+M12*10+N12 -> 114112
A13: One-way | B13: <1.5 | C13: N/A | D13: <0.5 | E13: Yes | F13: N/A | G13: Address cycle lane width issue | I13: =INDEX('Criteria look-up'!$A$3:$A$6,MATCH(A13,'Criteria look-up'!L$3:L$6,0),0) -> 1 | J13: =INDEX('Criteria look-up'!$A$3:$A$9,MATCH(B13,'Criteria look-up'!M$3:M$9,0),0) -> 1 | K13: =INDEX('Criteria look-up'!$A$3:$A$6,MATCH(C13,'Criteria look-up'!N$3:N$6,0),0) -> 4 | L13: =INDEX('Criteria look-up'!$A$3:$A$6,MATCH(D13,'Criteria look-up'!O$3:O$6,0),0) -> 1 | M13: =INDEX('Criteria look-up'!$A$3:$A$6,MATCH(E13,'Criteria look-up'!P$3:P$6,0),0) -> 1 | N13: =INDEX('Criteria look-up'!$A$3:$A$6,MATCH(F13,'Criteria look-up'!Q$3:Q$6,0),0) -> 3 | O13: =I13*100000+J13*10000+K13*1000+L13*100+M13*10+N13 -> 114113
... A1729: Shared use | B1729: ≥3.0 | C1729: N/A | D1729: N/A | E1729: N/A | F1729: N/A | G1729: N/A | I1729: =INDEX('Criteria look-up'!$A$3:$A$6,MATCH(A1729,'Criteria look-up'!L$3:L$6,0),0) -> 3 | J1729: =INDEX('Criteria look-up'!$A$3:$A$9,MATCH(B1729,'Criteria look-up'!M$3:M$9,0),0) -> 6 | K1729: =INDEX('Criteria look-up'!$A$3:$A$6,MATCH(C1729,'Criteria look-up'!N$3:N$6,0),0) -> 4 | L1729: =INDEX('Criteria look-up'!$A$3:$A$6,MATCH(D1729,'Criteria look-up'!O$3:O$6,0),0) -> 3 | M1729: =INDEX('Criteria look-up'!$A$3:$A$6,MATCH(E1729,'Criteria look-up'!P$3:P$6,0),0) -> 3 | N1729: =INDEX('Criteria look-up'!$A$3:$A$6,MATCH(F1729,'Criteria look-up'!Q$3:Q$6,0),0) -> 3 | O1729: =I1729*100000+J1729*10000+K1729*1000+L1729*100+M1729*10+N1729 -> 364333
